					BEGIN:VCALENDAR
VERSION:2.0
PRODID:-//Lets Drift - ECPv6.3.0//NONSGML v1.0//EN
CALSCALE:GREGORIAN
METHOD:PUBLISH
X-WR-CALNAME:Lets Drift
X-ORIGINAL-URL:https://letsdrift.co.ke
X-WR-CALDESC:Events for Lets Drift
REFRESH-INTERVAL;VALUE=DURATION:PT1H
X-Robots-Tag:noindex
X-PUBLISHED-TTL:PT1H
BEGIN:VTIMEZONE
TZID:Europe/Moscow
BEGIN:STANDARD
TZOFFSETFROM:+0300
TZOFFSETTO:+0300
TZNAME:MSK
DTSTART:20260101T000000
END:STANDARD
END:VTIMEZONE
BEGIN:VEVENT
DTSTART;TZID=Europe/Moscow:20260524T080000
DTEND;TZID=Europe/Moscow:20260524T130000
DTSTAMP:20260424T231740
CREATED:20260404T164216Z
LAST-MODIFIED:20260418T194821Z
UID:10005027-1779609600-1779627600@letsdrift.co.ke
SUMMARY:Kawamwaki
DESCRIPTION:Embark on a journey through the enchanting Kawamwaki Farm Trail\, where the breathtaking sights of tea plantations seamlessly blend with the allure of a double waterfall\, serene dam\, and a mystical forest path. Designed with beginners in mind\, this trail offers a tranquil retreat into the heart of Tigoni’s verdant beauty\, making it an ideal escape for anyone looking to soak in the peacefulness of nature. \nAfter-Hike Experience: End your adventure at COMO Restaurant \n  \n 
URL:https://letsdrift.co.ke/drift/kawamwaki-4/2026-05-24/
CATEGORIES:Beginner Friendly,Freemium
ATTACH;FMTTYPE=image/jpeg:https://letsdrift.co.ke/wp-content/uploads/2024/04/tig-jpg.webp
END:VEVENT
END:VCALENDAR