					BEGIN:VCALENDAR
VERSION:2.0
PRODID:-//Lets Drift - ECPv6.3.0//NONSGML v1.0//EN
CALSCALE:GREGORIAN
METHOD:PUBLISH
X-ORIGINAL-URL:https://letsdrift.co.ke
X-WR-CALDESC:Events for Lets Drift
REFRESH-INTERVAL;VALUE=DURATION:PT1H
X-Robots-Tag:noindex
X-PUBLISHED-TTL:PT1H
BEGIN:VTIMEZONE
TZID:Europe/Moscow
BEGIN:STANDARD
TZOFFSETFROM:+0300
TZOFFSETTO:+0300
TZNAME:MSK
DTSTART:20260101T000000
END:STANDARD
END:VTIMEZONE
BEGIN:VEVENT
DTSTART;TZID=Europe/Moscow:20260125T143000
DTEND;TZID=Europe/Moscow:20260125T173000
DTSTAMP:20260422T224224
CREATED:20260301T193749Z
LAST-MODIFIED:20260419T064939Z
UID:10004955-1769351400-1769362200@letsdrift.co.ke
SUMMARY:Tigoni PhotoWalk
DESCRIPTION:Location: Ravenswood \nThe Tigoni Photowalk is a guided creative walk through the scenic private Ravenswood Farm designed for people who love photography\, storytelling\, and slow observation. \nWe move at an unhurried pace\, stopping often to notice light\, texture\, people\, and landscapes. Along the way\, you’ll receive guidance on composition\, framing\, and seeing differently\, whether you’re shooting with a phone or a camera. \nThis isn’t about perfect shots. It’s about presence\, curiosity\, and learning to see again.
URL:https://letsdrift.co.ke/drift/tigoni-photowalk/2026-01-25/
CATEGORIES:Beginner Friendly
ATTACH;FMTTYPE=image/jpeg:https://letsdrift.co.ke/wp-content/uploads/2026/03/Tigoni-Photowalk.webp
END:VEVENT
BEGIN:VEVENT
DTSTART;TZID=Europe/Moscow:20260128T070000
DTEND;TZID=Europe/Moscow:20260128T153000
DTSTAMP:20260422T224224
CREATED:20251230T052254Z
LAST-MODIFIED:20260102T111618Z
UID:10003199-1769583600-1769614200@letsdrift.co.ke
SUMMARY:Kimakia
DESCRIPTION:Embark on a thrilling journey through the Gatanga region\, starting at an old fishing camp and leading to a giant Mugumo tree. From there\, we’ll cross the beautiful Chania River and come upon a stunning double-tier waterfall. This trail\, just like the meaning in Kikuyu\, will surely shock and awe you at every turn. The views of the surrounding landscape are breathtaking\, and the natural beauty of the area will leave you in awe. So come join us on this exciting adventure and discover the hidden wonders of the Gatanga region for yourself! \nFeature image courtesy of Cosmas Rotich
URL:https://letsdrift.co.ke/drift/kimakia-3/2026-01-28/
CATEGORIES:Beginner Friendly,Freemium
ATTACH;FMTTYPE=image/jpeg:https://letsdrift.co.ke/wp-content/uploads/2021/09/kimakia.jpg
END:VEVENT
BEGIN:VEVENT
DTSTART;TZID=Europe/Moscow:20260131T073000
DTEND;TZID=Europe/Moscow:20260131T150000
DTSTAMP:20260422T224224
CREATED:20251230T053558Z
LAST-MODIFIED:20260130T104722Z
UID:10003201-1769844600-1769871600@letsdrift.co.ke
SUMMARY:Kibathithi Waterfall
DESCRIPTION:This short and scenic trail takes you into a magical forest trail. A magnificent waterfall awaits you to cool off as the trail ends.
URL:https://letsdrift.co.ke/drift/kibathithi-waterfall-4/
CATEGORIES:Beginner Friendly,Freemium
ATTACH;FMTTYPE=image/png:https://letsdrift.co.ke/wp-content/uploads/2021/11/66.png
END:VEVENT
BEGIN:VEVENT
DTSTART;TZID=Europe/Moscow:20260201T080000
DTEND;TZID=Europe/Moscow:20260201T130000
DTSTAMP:20260422T224224
CREATED:20260129T081533Z
LAST-MODIFIED:20260131T150714Z
UID:10003204-1769932800-1769950800@letsdrift.co.ke
SUMMARY:Kawamwaki
DESCRIPTION:Embark on a journey through the enchanting Kawamwaki Farm Trail\, where the breathtaking sights of tea plantations seamlessly blend with the allure of a double waterfall\, serene dam\, and a mystical forest path. Designed with beginners in mind\, this trail offers a tranquil retreat into the heart of Tigoni’s verdant beauty\, making it an ideal escape for anyone looking to soak in the peacefulness of nature. \nAfter-Hike Experience: End your adventure at COMO Restaurant \n  \n 
URL:https://letsdrift.co.ke/drift/kawamwaki-2/
CATEGORIES:Beginner Friendly,Freemium
ATTACH;FMTTYPE=image/jpeg:https://letsdrift.co.ke/wp-content/uploads/2024/04/tig-jpg.webp
END:VEVENT
BEGIN:VEVENT
DTSTART;TZID=Europe/Moscow:20260207T073000
DTEND;TZID=Europe/Moscow:20260207T150000
DTSTAMP:20260422T224224
CREATED:20260102T132544Z
LAST-MODIFIED:20260416T192702Z
UID:10003211-1770449400-1770476400@letsdrift.co.ke
SUMMARY:Bathi Walk
DESCRIPTION:Fresh and exhilarating\, the air in these forest trails will make you feel like you’ve escaped civilization. People in search of a relaxing stroll will find bliss on this trail.
URL:https://letsdrift.co.ke/drift/bathi-walk-3/2026-02-07/
CATEGORIES:Beginner Friendly,Freemium
ATTACH;FMTTYPE=image/jpeg:https://letsdrift.co.ke/wp-content/uploads/2021/06/anne_ciku_20211129_1.jpg
END:VEVENT
BEGIN:VEVENT
DTSTART;TZID=Europe/Moscow:20260208T080000
DTEND;TZID=Europe/Moscow:20260208T130000
DTSTAMP:20260422T224224
CREATED:20260102T135557Z
LAST-MODIFIED:20260303T090610Z
UID:10003214-1770537600-1770555600@letsdrift.co.ke
SUMMARY:Kimungu kia Mbugi
DESCRIPTION:Step into history and mystery with a walk through Buxton Tunnel (Locally known as Kimungu kia Mbugi)— Kenya’s longest metre-gauge railway tunnel\, built in 1949 by Italian POWs. Nestled in Limuru’s misty hills and tea farms\, this eerie yet thrilling trail promises a mix of colonial history\, local folklore\, and unforgettable adventure.
URL:https://letsdrift.co.ke/drift/kimungu-kia-mbugi-3/
CATEGORIES:Beginner Friendly,Freemium
ATTACH;FMTTYPE=image/jpeg:https://letsdrift.co.ke/wp-content/uploads/2021/08/buxton.jpg
END:VEVENT
BEGIN:VEVENT
DTSTART;TZID=Europe/Moscow:20260218T070000
DTEND;TZID=Europe/Moscow:20260218T140000
DTSTAMP:20260422T224224
CREATED:20260102T173104Z
LAST-MODIFIED:20260413T162009Z
UID:10003225-1771398000-1771423200@letsdrift.co.ke
SUMMARY:Kiama Riverline
DESCRIPTION:Gatanga in Murang’a County is home to some of the most beautiful trails\, including the Kiama Riverline Trail. If you want to get away from the hustle and bustle of the city without having to hike too long\, this is the trail for you. Duff mpararo (river swimming) enthusiasts would adore this trail.
URL:https://letsdrift.co.ke/drift/kiama-riverline-3/2026-02-18/
CATEGORIES:Beginner Friendly,Freemium
ATTACH;FMTTYPE=image/jpeg:https://letsdrift.co.ke/wp-content/uploads/2022/08/IMG_4214.jpg
END:VEVENT
BEGIN:VEVENT
DTSTART;TZID=Europe/Moscow:20260220T073000
DTEND;TZID=Europe/Moscow:20260220T163000
DTSTAMP:20260422T224224
CREATED:20260102T180626Z
LAST-MODIFIED:20260419T064145Z
UID:10004315-1771572600-1771605000@letsdrift.co.ke
SUMMARY:Kijabe Soft
DESCRIPTION:Kijabe attracts daring hikers in search of beautiful scenery and a tranquil ambiance. But we found a hack for those who want to experience kijabe without the “hard” part: a curated trail starting in the Kinale forest off the Nairobi – Nakuru highway\, winding down the valley\, and culminating in some coffee at the gorgeous Kijabe Kahawa Coffee shop.
URL:https://letsdrift.co.ke/drift/kijabe-soft-2/2026-02-20/
CATEGORIES:Beginner Friendly,Freemium
ATTACH;FMTTYPE=image/jpeg:https://letsdrift.co.ke/wp-content/uploads/2022/05/Kijabe-hills.jpg
END:VEVENT
BEGIN:VEVENT
DTSTART;TZID=Europe/Moscow:20260301T073000
DTEND;TZID=Europe/Moscow:20260301T103000
DTSTAMP:20260422T224224
CREATED:20260203T230717Z
LAST-MODIFIED:20260413T163404Z
UID:10004319-1772350200-1772361000@letsdrift.co.ke
SUMMARY:Netwalking
DESCRIPTION:Great ideas don’t come from sitting in crowded rooms. \nThey come from moving\, breathing\, and thinking clearly. \nNetwalking is a 2-hour guided morning walk designed for founders and creatives who want to reset their minds\, strengthen their networks\, and start the day with intention. Set inside the calm grounds of Limuru Country Club\, the walk combines light movement\, guided prompts\, and open conversation.
URL:https://letsdrift.co.ke/drift/netwalking/2026-03-01/
CATEGORIES:Beginner Friendly
ATTACH;FMTTYPE=image/jpeg:https://letsdrift.co.ke/wp-content/uploads/2026/02/Netwalking.webp
END:VEVENT
BEGIN:VEVENT
DTSTART;TZID=Europe/Moscow:20260301T080000
DTEND;TZID=Europe/Moscow:20260301T143000
DTSTAMP:20260422T224224
CREATED:20260105T181607Z
LAST-MODIFIED:20260203T225406Z
UID:10004318-1772352000-1772375400@letsdrift.co.ke
SUMMARY:Brackenhurst Lap
DESCRIPTION:The Brackenhurst Hike begins at Brackenhurst Hotel\, once a colonial farmhouse. Along the trail\, you’ll discover a hidden waterfall\, learn about the history of tea farming\, and stop at the historic plaque marking Kenya’s first tea bush planted by the British. A perfect blend of history\, adventure\, and nature just outside Nairobi.
URL:https://letsdrift.co.ke/drift/brackenhurst-lap-4/2026-03-01/
CATEGORIES:Beginner Friendly,Freemium
ATTACH;FMTTYPE=image/jpeg:https://letsdrift.co.ke/wp-content/uploads/2021/06/2021-05-01-101804455-scaled.jpg
END:VEVENT
BEGIN:VEVENT
DTSTART;TZID=Europe/Moscow:20260328T073000
DTEND;TZID=Europe/Moscow:20260328T130000
DTSTAMP:20260422T224224
CREATED:20260105T182527Z
LAST-MODIFIED:20260326T131026Z
UID:10003255-1774683000-1774702800@letsdrift.co.ke
SUMMARY:Githiga Walk
DESCRIPTION:A detour off one of Kenya’s most scenic roads in Kiambu leads you to the Githiga Trail. This picturesque walk begins with a tour of a mysterious cave\, followed by three stunning waterfalls and sweeping views of rolling tea farms \n 
URL:https://letsdrift.co.ke/drift/githiga-walk/
CATEGORIES:Beginner Friendly,Freemium
ATTACH;FMTTYPE=image/jpeg:https://letsdrift.co.ke/wp-content/uploads/2021/08/githiga2.jpg
END:VEVENT
BEGIN:VEVENT
DTSTART;TZID=Europe/Moscow:20260329T073000
DTEND;TZID=Europe/Moscow:20260329T153000
DTSTAMP:20260422T224224
CREATED:20260105T183512Z
LAST-MODIFIED:20260416T193025Z
UID:10003256-1774769400-1774798200@letsdrift.co.ke
SUMMARY:Gatamaiyu Forest Walk
DESCRIPTION:Explore the source of the Athi River as you walk through fairytale forest trails \, surrounded by towering\, decades-old indigenous trees. This unique forest trail offers serene natural pools where you can pause\, catch your breath\, and fully relax in the calm of untouched nature.
URL:https://letsdrift.co.ke/drift/gatamaiyu-forest-walk/2026-03-29/
CATEGORIES:Beginner Friendly,Freemium
ATTACH;FMTTYPE=image/jpeg:https://letsdrift.co.ke/wp-content/uploads/2026/01/Gatamaiyu-Forest.webp
END:VEVENT
BEGIN:VEVENT
DTSTART;TZID=Europe/Moscow:20260417T070000
DTEND;TZID=Europe/Moscow:20260417T150000
DTSTAMP:20260422T224224
CREATED:20260325T034024Z
LAST-MODIFIED:20260413T162903Z
UID:10004968-1776409200-1776438000@letsdrift.co.ke
SUMMARY:Thiririka
DESCRIPTION:Thiririka river flows freely cascading to Tumathi waterfalls coined to mean\, too much. Dense bushes engulf the forest while stinging leaves do the pricking. Interestingly\, bamboo trees are found nestled at the center. Coffee plantations mushroom in and out of the farms. A tarmacked road connects the trails. Crossing on robust iron pipes arouses more fun. \n 
URL:https://letsdrift.co.ke/drift/thiririka-2/2026-04-17/
CATEGORIES:Beginner Friendly,Freemium
ATTACH;FMTTYPE=image/jpeg:https://letsdrift.co.ke/wp-content/uploads/2021/08/47.jpg
END:VEVENT
BEGIN:VEVENT
DTSTART;TZID=Europe/Moscow:20260424T070000
DTEND;TZID=Europe/Moscow:20260424T170000
DTSTAMP:20260422T224224
CREATED:20260326T160316Z
LAST-MODIFIED:20260418T193124Z
UID:10004969-1777014000-1777050000@letsdrift.co.ke
SUMMARY:Rails & Ribs
DESCRIPTION:From tunnels to mountain views ⛰️\, this SGR ride 🚆 from Ngong to Mai Mahiu is packed with scenery. Experience includes a hike to a local nyama choma spot 🔥🥩 before heading back for the return journey. \nNote: The event ticket does not include the train ticket. Kindly use this link to purchase your train ticket in advance. Tickets tend to sell out quickly\, so we recommend securing yours early.
URL:https://letsdrift.co.ke/drift/catch-the-train-2/2026-04-24/
CATEGORIES:Beginner Friendly,Freemium
ATTACH;FMTTYPE=image/jpeg:https://letsdrift.co.ke/wp-content/uploads/2021/08/8.jpg
END:VEVENT
BEGIN:VEVENT
DTSTART;TZID=Europe/Moscow:20260508T080000
DTEND;TZID=Europe/Moscow:20260508T130000
DTSTAMP:20260422T224224
CREATED:20260418T201542Z
LAST-MODIFIED:20260418T201542Z
UID:10005029-1778227200-1778245200@letsdrift.co.ke
SUMMARY:Riara Walk
DESCRIPTION:A fresh gem for Tigoni lovers 🌿\, this trail starts at Nazareth Hospital and winds through Riara Ridge’s tea fields. Expect a serene dam\, hidden waterfall\, and sweeping panoramic views.
URL:https://letsdrift.co.ke/drift/riara-walk/2026-05-08/
CATEGORIES:Beginner Friendly,Freemium
ATTACH;FMTTYPE=image/jpeg:https://letsdrift.co.ke/wp-content/uploads/2026/04/Riara-Walk.webp
END:VEVENT
END:VCALENDAR