					BEGIN:VCALENDAR
VERSION:2.0
PRODID:-//Lets Drift - ECPv6.3.0//NONSGML v1.0//EN
CALSCALE:GREGORIAN
METHOD:PUBLISH
X-WR-CALNAME:Lets Drift
X-ORIGINAL-URL:https://letsdrift.co.ke
X-WR-CALDESC:Events for Lets Drift
REFRESH-INTERVAL;VALUE=DURATION:PT1H
X-Robots-Tag:noindex
X-PUBLISHED-TTL:PT1H
BEGIN:VTIMEZONE
TZID:Europe/Moscow
BEGIN:STANDARD
TZOFFSETFROM:+0300
TZOFFSETTO:+0300
TZNAME:MSK
DTSTART:20230101T000000
END:STANDARD
END:VTIMEZONE
BEGIN:VEVENT
DTSTART;TZID=Europe/Moscow:20230708T073000
DTEND;TZID=Europe/Moscow:20230708T140000
DTSTAMP:20260420T023709
CREATED:20230621T102012Z
LAST-MODIFIED:20230707T130307Z
UID:10000501-1688801400-1688824800@letsdrift.co.ke
SUMMARY:Maasai Ostrich Farm-cycling
DESCRIPTION:Our next new experience will have us heading to the Maasai Ostrich Farm located in Kitengela. Our biking trails will cut through the Kitengela triangle unformal conservation area where you will get to enjoy amazing views of the savannah grassland\, the occasional gazelle and the far off hills in the distance. \nThe ride will then conclude at the Maasai Ostrich Farm resort where you can take a tour around the ostrich farm\, swim\, have refreshments and even ride an ostrich! \nHighlights \n\nGiant Mountain Bikes\nPanoramic Views of the Kitengela grassland\nOstrich Farm tour\nOstrich Ride\nOstrich meat\nProfessional guides\nAmazing photo stops\n\nItinerary \n0730h: Departure \n0830h: Briefing \n0900h: Start cycling \n1400h: Complete experience \nMeet-up Location: Outside Bata Shop\, Hilton(opposite Kencom)  \nRoute: Nrbi – Maasai Ostrich Farm Resort \nDifficulty: Beginner Friendly – Moderate \nDuration: 5 hours \nDistance: 18km \nTrailhead: Maasai Ostrich Farm Resort \nEndpoint: Maasai Ostrich Farm Resort \nWhat’s Included \n\nProfessional\, knowledgeable\, friendly guide.\nA commitment to make the tour as exciting\, challenging\, informative\, and full as you’d like\, and as is possible in a day.\nQuality bikes\nHelmet\nWater bottle with water\nTransport\n\nWhat’s Not Included \n\nMeals \nSwimming (300)\nFarm Tour (300)\nOstrich Ride (500)\n\nRide Structure \n\nBike & Safety Briefing \nBike & Helmet fitting \nSnacks and water distribution\nRider introductions\nRides will have various photo stops \nRide pace will be set by the guide\n\nWhere Do We Meet? \nFor group travel via PSV\, we will meet up Outside Bata Shop\, Hilton (opposite Kencom). The guide will be at the meet-up point. \nThis trip is Self-drive friendly and has safe parking: Maasai Ostrich Farm– Pin Location \nOur Safety Pledge \nYour safety is our top priority. Our experiences are led by professional hiking guides\, and well-known local guides who are well versed in the trails they are guiding. All our guides carry a First-aid Kit and have an emergency contact. If you have any further questions about safety\, please contact us for more information. \nKnow before you go \n\nThe guide’s contact information is available at the bottom of this page. Feel free to get in touch with any queries regarding this hike.\nKindly note that we do not do pickups along the way.\nThe trail is suitable for beginner cyclists.\nKindly observe the COVID-19 health and safety regulations.\nYou will get an email confirmation of your booking once you purchase your ticket.\n\nCancellation Policy \nHikers that wish to cancel more than 48 hours before the hike will be issued a 50% refund of the total hiking fees. Those that cancel 48 hours or less before the actual date will not be refunded. No-shows will not be refunded either. \nResources \n\nGiant Mountain Bikes\nTubike page
URL:https://letsdrift.co.ke/drift/maasai-ostrich-farm/
LOCATION:Kitengela
CATEGORIES:Beginner Friendly,Cycling,Moderate,New Trails,Premium
ATTACH;FMTTYPE=image/png:https://letsdrift.co.ke/wp-content/uploads/2023/06/Ostrich-Farm-2.png
END:VEVENT
BEGIN:VEVENT
DTSTART;TZID=Europe/Moscow:20230501T070000
DTEND;TZID=Europe/Moscow:20230501T153000
DTSTAMP:20260420T023709
CREATED:20221101T072916Z
LAST-MODIFIED:20240129T131359Z
UID:10000473-1682924400-1682955000@letsdrift.co.ke
SUMMARY:Kiama Riverline
DESCRIPTION:Gatanga in Murang’a County is home to some of the most beautiful trails\, including the Kiama Riverline Trail. If you want to get away from the hustle and bustle of the city without having to hike too long\, this is the trail for you. Duff mpararo (river swimming) enthusiasts would adore this trail. \nHighlights   \n\nForest trail\n2 Waterfalls\nKiama river\nDuff mpararo\n\nWhat’s Included \n\nProfessional\, knowledgeable\, friendly guide.\nA commitment to make the tour as exciting\, challenging\, informative\, and full as you’d like\, and as is possible in a day.\n\nWhat’s Not Included \n\nTransport (Ksh 500)\nMeals \n\nItinerary \n0700h: Departure  At the benches near Bata shop\, Hilton (opposite Kencom)  \nRoute: Nrbi – Gatanga \n0800h: Hike Briefing & Stretches \n0900h: Start the hike \n1600h: Complete hike  \nAbout this activity \nDifficulty: Beginner  \nDuration: 5hrs \nDistance: 8km \nTerrain: Steep in select areas \nTrailhead:  Kiama River hotel \nTrail Type: Point to point \n\nWhere Do We Meet? \nFor group travel via psv\, we will meet up at the benches near Bata shop Hilton (opposite Kencom). The guide will be at the meet-up point. \nThis trip is Self-drive friendly and has safe parking:Pin Location-The Kiama River Hotel \nKnow before you go \n\nThe guide’s contact is available at the bottom of this page. Feel free to get in touch with any queries regarding this hike.\nKindly note that we do not do pickups along the way.\nThe trail is suitable for kids and beginner hikers.\nKindly observe the COVID-19 health safety regulations.\nYou will get an email confirmation of your booking once you purchase your ticket. \n\nOur Safety Pledge \nYour safety is our top priority. Our experiences are led by professional hiking guides\, and well-known local guides who are well versed with the trails they are guiding. All our guides carry a First-aid Kit and have an emergency contact. If you have any further questions about safety\, please contact us for more information. \nCancellation Policy\nHikers that wish to cancel more than 48 hours before the hike will be issued a 50% refund of the total hiking fees. Those that cancel 48 hours or less to the actual date will not be refunded. No shows will not be refunded either.
URL:https://letsdrift.co.ke/drift/kiama-riverline-4/
LOCATION:Gatanga
CATEGORIES:Beginner Friendly,Freemium,Moderate
ATTACH;FMTTYPE=image/jpeg:https://letsdrift.co.ke/wp-content/uploads/2022/08/IMG_4214.jpg
END:VEVENT
BEGIN:VEVENT
DTSTART;TZID=Europe/Moscow:20230428T080000
DTEND;TZID=Europe/Moscow:20230428T143000
DTSTAMP:20260420T023709
CREATED:20230327T092232Z
LAST-MODIFIED:20230428T090226Z
UID:10000488-1682668800-1682692200@letsdrift.co.ke
SUMMARY:Friends of Creation
DESCRIPTION:Come with us as we explore the hidden gem of Tigoni. Nestled within the green tea plantations\, is a peaceful haven called Friends of Creation that focuses on recycling waste and preserving the environment. We’ll take a tour of the surrounding new trails and then relax under the shade at the picnic site\, play DIY games all while learning about the environment and enjoying the refreshing climate. \nHighlights:  \n\nFriends of creation establishment\nBeautiful relaxation area\nAmazing hosts\n\nItinerary \n0900h: Departure Time At the benches near Bata shop\, Hilton (opposite Kencom) \n0930h: Briefing & Stretches \n1000h: Start the hike \n1400h: Complete hike \n1415h: Stretches \nMeet-up Location: Outside Bata Shop\, Hilton \nRoute: Nrb- Friends of creation \nWhat’s Included \n\nProfessional\, knowledgeable\, friendly guide.\nA commitment to make the tour as exciting\, challenging\, informative\, and full as you’d like\, and as is possible in a day.\n\nWhat’s Not Included \n\nTransport (Ksh 500)\nMeals \n\nAbout this activity \nDifficulty: Beginner friendly  \nDuration: 6 hrs \nDistance: 10km \nSelf-drive friendly \nWhere Do We Meet? \nFor group travel via psv\, we will meet up at the benches near Bata shop Hilton (opposite Kencom). The guide will be at the meet-up point. \nThis trip is Self-drive friendly and has safe parking:  Pin Location \nKnow before you go \n\nThe guide’s contact is available at the bottom of this page. Feel free to get in touch with any queries regarding this hike.\nKindly note that we do not do pickups along the way.\nThe trail is suitable for beginner hikers.\nKindly observe the COVID-19 health safety regulations.\nYou will get an email confirmation of your booking once you purchase your ticket. \n\nOur Safety Pledge \nYour safety is our top priority. Our experiences are led by professional hiking guides\, and well-known local guides who are well versed with the trails they are guiding. All our guides carry a First-aid Kit and have an emergency contact. If you have any further questions about safety\, please contact us for more information. \nCancellation Policy \nHikers that wish to cancel more than 48 hours before the hike will be issued a 50% refund of the total hiking fees. Those that cancel 48 hours or less to the actual date will not be refunded. No shows will not be refunded either. \nResources \n\nHiking Gear Guide\nHiking Gear Vendors\nTrail Difficulty Guide\nTrail Gallery\nStrava Routes\nGuide Bios\nParticipation Badges\nWhatsapp Text Helpline\nDrift Shop\nBook a Private Drift\nRate Lets Drift on Google
URL:https://letsdrift.co.ke/drift/friends-of-creation-3/
LOCATION:Tigoni\, Kenya
CATEGORIES:Beginner Friendly,New Trails,Premium
ATTACH;FMTTYPE=image/jpeg:https://letsdrift.co.ke/wp-content/uploads/2021/05/Tigoni-1.jpg
END:VEVENT
BEGIN:VEVENT
DTSTART;TZID=Europe/Moscow:20230408T080000
DTEND;TZID=Europe/Moscow:20230408T143000
DTSTAMP:20260420T023709
CREATED:20230322T064419Z
LAST-MODIFIED:20230406T163423Z
UID:10000485-1680940800-1680964200@letsdrift.co.ke
SUMMARY:Friends of Creation
DESCRIPTION:Come with us as we explore the hidden gem of Tigoni. Nestled within the green tea plantations\, is a peaceful haven called Friends of Creation that focuses on recycling waste and preserving the environment. We’ll take a tour of the surrounding new trails and then relax under the shade at the picnic site\, play DIY games all while learning about the environment and enjoying the refreshing climate. \nHighlights:  \n\nFriends of creation establishment\nBeautiful relaxation area\nAmazing hosts\n\nItinerary \n0800h: Departure Time At the benches near Bata shop\, Hilton (opposite Kencom) \n0900h: Briefing & Stretches \n0930h: Start the Hike \n1400h: Complete Hike \n1415h: Stretches \nMeet-up Location: Outside Bata Shop\, Hilton \nRoute: Nrb- Friends of creation \nAbout this activity \nDifficulty: Beginner friendly  \nDuration: 6 hrs \nDistance: 8km \nSelf-drive friendly \nWhat’s Included \n\nProfessional\, knowledgeable\, friendly guide.\nA commitment to make the tour as exciting\, challenging\, informative\, and full as you’d like\, and as is possible in a day.\n\nWhat’s Not Included \n\nTransport (Ksh 500)\nMeals \n\nWhere Do We Meet? \nFor group travel via psv\, we will meet up at the benches near Bata shop Hilton (opposite Kencom). The guide will be at the meet-up point. \nThis trip is Self-drive friendly and has safe parking:  Pin Location \nKnow before you go \n\nThe guide’s contact is available at the bottom of this page. Feel free to get in touch with any queries regarding this hike.\nKindly note that we do not do pickups along the way.\nThe trail is suitable for beginners\nKindly observe the COVID-19 health safety regulations.\nYou will get an email confirmation of your booking once you purchase your ticket. \n\nOur Safety Pledge \nYour safety is our top priority. Our experiences are led by professional hiking guides\, and well-known local guides who are well versed with the trails they are guiding. All our guides carry a First-aid Kit and have an emergency contact. If you have any further questions about safety\, please contact us for more information. \nCancellation Policy \nHikers that wish to cancel more than 48 hours before the hike will be issued a 50% refund of the total hiking fees. Those that cancel 48 hours or less to the actual date will not be refunded. No shows will not be refunded either. \nResources \n\nHiking Gear Guide\nHiking Gear Vendors\nTrail Difficulty Guide\nTrail Gallery\nStrava Routes\nGuide Bios\nParticipation Badges\nWhatsapp Text Helpline\nDrift Shop\nBook a Private Drift\nRate Lets Drift on Google
URL:https://letsdrift.co.ke/drift/friends-of-creation-2/
LOCATION:Tigoni\, Kenya
CATEGORIES:Beginner Friendly,Freemium,New Trails,Premium
ATTACH;FMTTYPE=image/jpeg:https://letsdrift.co.ke/wp-content/uploads/2021/05/Tigoni-1.jpg
END:VEVENT
BEGIN:VEVENT
DTSTART;TZID=Europe/Moscow:20230408T060000
DTEND;TZID=Europe/Moscow:20230408T180000
DTSTAMP:20260420T023709
CREATED:20210901T051957Z
LAST-MODIFIED:20230404T075318Z
UID:10000279-1680933600-1680976800@letsdrift.co.ke
SUMMARY:Outdooorsman cabin X Thiba Falls
DESCRIPTION:Come along as we take a trip to Kirinyaga county’s Thiba Waterfalls and enjoy the easygoing lifestyle at the Outdoorsman’s Cabin. Situated at a waterfall\, the recreation hub has earned the nickname “Kenya’s Bali” due to the tour’s picturesque and lovely setting. \nFeature Image Courtesy of Cosmas Rotich \nHighlights \n\nThiba falls\nOutdoorsman Cabin tour\nSoft life experience\n\nItinerary \n0600h: Departure  \n0800h: Start the Walk \n1530h: Complete hike  \nMeet-up Location: Outside Bata Shop\, Hilton \nRoute: Nairobi – Kutus \nAbout this activity \nDifficulty: Beginner Friendly \nDuration: 5hrs \nDistance: Apprx 5km \nSelf-drive-friendly – Pin Location \nIncluded on Your Express Ticket \n\nTransport via private van/bus\nFriendly\, professional guide.\nA commitment to make the tour as exciting\, challenging\, informative\, and full as you’d like\, and as is possible in a day.\n\nNot Inclusive \n\nOutdoorsman Cabin Ksh 500\nSnacks/Lunch\n\nWhere Do We Meet? \nOutside Bata shop Hilton (opposite Kencom). The guide will be at the meet-up point. \nSelf-drive-friendly – Pin Location \nKnow before you go \n\nThe trail is kids friendly\nPlease follow COVID-19 safety rules.\nAfter buying a ticket\, you’ll receive an email confirmation. Message us if you don’t get one.\nThe guide’s contact info is at the bottom of this page. Contact them about the hike.\n\nOur Safety Pledge \nYour safety is our top priority. Our experiences are led by professional hiking guides\, and well-known local guides who are well versed with the trails they are guiding. All our guides carry a First-aid Kit and have an emergency contact. If you have any further questions about safety\, please contact us for more information. \nCancellation Policy \nHikers that wish to cancel more than 48 hours before the hike will be issued a 50% refund of the total hiking fees. Those that cancel 48 hours or less to the actual date will not be refunded. No shows will not be refunded either. \nResources \n\nHiking Gear Guide\nHiking Gear Vendors\nTrail Difficulty Guide\nTrail Gallery\nStrava Routes\nGuide Bios\nParticipation Badges\nWhatsapp Text Helpline\nDrift Shop\nBook a Private Drift\nRate Lets Drift on Google
URL:https://letsdrift.co.ke/drift/thiba-falls/
LOCATION:Kutus
CATEGORIES:Beginner Friendly,Moderate,New Trails
ATTACH;FMTTYPE=image/jpeg:https://letsdrift.co.ke/wp-content/uploads/2021/09/Thiba-Falls.jpg
END:VEVENT
END:VCALENDAR