					BEGIN:VCALENDAR
VERSION:2.0
PRODID:-//Lets Drift - ECPv6.3.0//NONSGML v1.0//EN
CALSCALE:GREGORIAN
METHOD:PUBLISH
X-ORIGINAL-URL:https://letsdrift.co.ke
X-WR-CALDESC:Events for Lets Drift
REFRESH-INTERVAL;VALUE=DURATION:PT1H
X-Robots-Tag:noindex
X-PUBLISHED-TTL:PT1H
BEGIN:VTIMEZONE
TZID:Europe/Moscow
BEGIN:STANDARD
TZOFFSETFROM:+0300
TZOFFSETTO:+0300
TZNAME:MSK
DTSTART:20260101T000000
END:STANDARD
END:VTIMEZONE
BEGIN:VEVENT
DTSTART;TZID=Europe/Moscow:20260321T063000
DTEND;TZID=Europe/Moscow:20260321T160000
DTSTAMP:20260421T074500
CREATED:20260316T111715Z
LAST-MODIFIED:20260316T111716Z
UID:10003244-1774074600-1774108800@letsdrift.co.ke
SUMMARY:Nyanduma
DESCRIPTION:Join us on an adventurous escapade as we trek deeper inside the Southern part of the Aberdare forest in search of a hidden waterfall with a scenic dam that supplies water to the locals along a forest trail full of ferns and moss. \nFeature Image Courtesy of Dennis Nyaga.
URL:https://letsdrift.co.ke/drift/nyanduma-3-2/
CATEGORIES:Freemium,Moderate
ATTACH;FMTTYPE=image/jpeg:https://letsdrift.co.ke/wp-content/uploads/2021/11/IMG_20211129_134458_917.jpeg
END:VEVENT
BEGIN:VEVENT
DTSTART;TZID=Europe/Moscow:20260322T060000
DTEND;TZID=Europe/Moscow:20260322T170000
DTSTAMP:20260421T074500
CREATED:20260103T111354Z
LAST-MODIFIED:20260319T223230Z
UID:10003248-1774159200-1774198800@letsdrift.co.ke
SUMMARY:Kinale Trek
DESCRIPTION:Kinale is a floral mosaic where orchids grow in plenty\, as well as bamboo stalks due to the area’s high altitude. As you walk into the forest\, the trees of Kinale tower over you. In the early morning\, the fog takes precedence over the pathways and you’d probably need a torch to find your way through this forest. Be sure to carry your camera to capture the fog that evokes ” the horror type of vibes” in the wee morning hours.
URL:https://letsdrift.co.ke/drift/kinale-trek-2/
CATEGORIES:Freemium,Moderate
ATTACH;FMTTYPE=image/jpeg:https://letsdrift.co.ke/wp-content/uploads/2021/08/17.jpg
END:VEVENT
BEGIN:VEVENT
DTSTART;TZID=Europe/Moscow:20260411T060000
DTEND;TZID=Europe/Moscow:20260411T120000
DTSTAMP:20260421T074500
CREATED:20251227T160821Z
LAST-MODIFIED:20260416T194240Z
UID:10005001-1775887200-1775908800@letsdrift.co.ke
SUMMARY:Gacibi
DESCRIPTION:Deep in the pineapple-growing highlands of Gatundu North\, this trail follows the mighty Ndarugo River upstream. The reward is a massive waterfall with a cave beneath it and an irresistible natural pool perfect for swimming. Come ready to indulge in plenty of sweet\, locally grown pineapples along the way
URL:https://letsdrift.co.ke/drift/gacibi/2026-04-11/
CATEGORIES:Freemium,Moderate
ATTACH;FMTTYPE=image/jpeg:https://letsdrift.co.ke/wp-content/uploads/2025/12/Gacibi.webp
END:VEVENT
BEGIN:VEVENT
DTSTART;TZID=Europe/Moscow:20260419T063000
DTEND;TZID=Europe/Moscow:20260419T153000
DTSTAMP:20260421T074500
CREATED:20260106T185702Z
LAST-MODIFIED:20260414T125601Z
UID:10003260-1776580200-1776612600@letsdrift.co.ke
SUMMARY:Githobokoini
DESCRIPTION:Due to its geographical positioning in the highlands near the Aberdares Mountains\, Gatundu has countless massive waterfalls. Discover giant waterfalls hidden deep in the Githobokoini area of Gatundu North. \n 
URL:https://letsdrift.co.ke/drift/githobokoini/
CATEGORIES:Freemium,Moderate
ATTACH;FMTTYPE=image/jpeg:https://letsdrift.co.ke/wp-content/uploads/2021/08/49.jpg
END:VEVENT
BEGIN:VEVENT
DTSTART;TZID=Europe/Moscow:20260503T070000
DTEND;TZID=Europe/Moscow:20260503T150000
DTSTAMP:20260421T074500
CREATED:20260418T203729Z
LAST-MODIFIED:20260418T203729Z
UID:10005031-1777791600-1777820400@letsdrift.co.ke
SUMMARY:Ngurunga cia Njangiri
DESCRIPTION:Famously known as Nachu Caves Located on Gatune Hills. The caves are rocky and slippery. Fun fact: they take the shape of the Horn of Africa. Inside these caves are remnants of ash and the names of people scribbled on them. The path to get here shifts from mud\, bush\, and shrubs to grazing fields as the Ngong hills come into clear view. This short and sweet adventure requires crawling on fours when descending with a touch of balance. Ngurunga cia Njangiri is translated from Kikuyu meaning thugs caves. \n  \n\n 
URL:https://letsdrift.co.ke/drift/ngurunga-cia-njangiri-3/
CATEGORIES:Freemium,Moderate
ATTACH;FMTTYPE=image/jpeg:https://letsdrift.co.ke/wp-content/uploads/2024/12/ngurunga-jpg.webp
END:VEVENT
BEGIN:VEVENT
DTSTART;TZID=Europe/Moscow:20260509T063000
DTEND;TZID=Europe/Moscow:20260509T153000
DTSTAMP:20260421T074500
CREATED:20260106T182846Z
LAST-MODIFIED:20260420T180548Z
UID:10003258-1778308200-1778340600@letsdrift.co.ke
SUMMARY:Kieni Falls
DESCRIPTION:Are you looking for an adrenaline pumped hiking experience away from the hustle and bustle of the city? Look no further; we have you covered. Kieni forest\, in Kiambu county is part of the greater Aberdare forest with a glimpse of the stunning views of unique scenery that Kenya has to offer. \n 
URL:https://letsdrift.co.ke/drift/kieni-falls-2/
CATEGORIES:Freemium,Moderate
ATTACH;FMTTYPE=image/jpeg:https://letsdrift.co.ke/wp-content/uploads/2022/12/kieni-jpg.webp
END:VEVENT
BEGIN:VEVENT
DTSTART;TZID=Europe/Moscow:20260527T063000
DTEND;TZID=Europe/Moscow:20260527T143000
DTSTAMP:20260421T074500
CREATED:20260420T180201Z
LAST-MODIFIED:20260420T180201Z
UID:10005039-1779863400-1779892200@letsdrift.co.ke
SUMMARY:Theta Dam Trek
DESCRIPTION:Theta Dam is in Gatundu South. It’s located inside Kinale Forest. It’s being constructed across Theta River in the Gatundu South constituency. The reservoir supplies water to the residents of the upper parts of Gatundu. Our hike starts at the sleepy town of Mundoro through the forest. This hike is a good plot if you love silent places to unwind from civilization.
URL:https://letsdrift.co.ke/drift/theta-dam-trek-2/
CATEGORIES:Freemium,Moderate
ATTACH;FMTTYPE=image/jpeg:https://letsdrift.co.ke/wp-content/uploads/2021/08/46.jpg
END:VEVENT
END:VCALENDAR