					BEGIN:VCALENDAR
VERSION:2.0
PRODID:-//Lets Drift - ECPv6.3.0//NONSGML v1.0//EN
CALSCALE:GREGORIAN
METHOD:PUBLISH
X-WR-CALNAME:Lets Drift
X-ORIGINAL-URL:https://letsdrift.co.ke
X-WR-CALDESC:Events for Lets Drift
REFRESH-INTERVAL;VALUE=DURATION:PT1H
X-Robots-Tag:noindex
X-PUBLISHED-TTL:PT1H
BEGIN:VTIMEZONE
TZID:Europe/Moscow
BEGIN:STANDARD
TZOFFSETFROM:+0300
TZOFFSETTO:+0300
TZNAME:MSK
DTSTART:20230101T000000
END:STANDARD
END:VTIMEZONE
BEGIN:VEVENT
DTSTART;TZID=Europe/Moscow:20230304T073000
DTEND;TZID=Europe/Moscow:20230305T170000
DTSTAMP:20260420T024955
CREATED:20230201T210753Z
LAST-MODIFIED:20230303T190550Z
UID:10000477-1677915000-1678035600@letsdrift.co.ke
SUMMARY:Elite Category: Kijabe Enduro 2023
DESCRIPTION:Get ready for an adrenaline-pumping adventure at the 6th edition of the Kijabe Enduro MTB race! This two-day event will take you on a thrilling journey across eight challenging stages that will test your endurance and skills as a mountain biker. \nRiders of all levels are invited to come and participate in this exciting race. Whether you’re a seasoned pro or new to the world of enduro racing\, this event is the perfect opportunity to push yourself to the limit and experience the thrill of competition. \nBut before you hit the trails\, we strongly advise you to do a recce before the race day. This will give you the chance to get familiar with the trails and ensure your safety during the event. Trust us\, you don’t want to miss out on this opportunity to ride some of the most beautiful and challenging trails in the area. \nThis is not just a race\, it’s an experience! A pre-race session will be held to go over the rules and regulations and answer any questions you may have\, so you can focus on the task at hand.  \nRiders Brief\nA pre-race meeting will be held to go over the rules and regulations\, and to answer any questions the riders may have. The event will be timed using the latest electronic timing systems\, with results being posted online immediately after the race. \nRiders should consider the following in preparation \n\nFitness: The course will include steep climbs and technical descents\, so it is important to have a good level of physical fitness. Training and conditioning prior to the race is highly recommended.\nBike maintenance: Riders should ensure that their mountain bike is in good working condition and properly maintained before the race. It is a good idea to have a professional mechanic check and service the bike before the race.\nSafety equipment: Riders must wear a helmet and gloves at all times during the race. It is also a good idea to bring other safety gear such as knee and elbow pads.\nHydration and nutrition: Riders should bring enough water and snacks to sustain them throughout the race.\nPre-race recce: If possible riders should take the time to do a recce of the course before the race\, especially if you have never raced or participated in any enduro event or riding to get familiar with the trails for safety reasons.\nBe prepared for the unexpected: Riders should be prepared for the unexpected and bring any necessary items such as a repair kit\, extra tubes\, and tools in case of mechanical issues\n\nCost Includes \n\nRace entry \nBike shuttle from stage to stage\nRider shuttle\nSnacks and water \nRace village access\n\nCost Excludes \n\nAccommodation \nTransportation to Kijabe \nFood (lunch)\n\nItinerary \nRACE VILLAGE: KIJABE KAWAHA \nDAY 1: \nMorning race brief: Kijabe Kahawa 7:45am  \n\nRide to Hit the Lights Trail: 1 Hour Provision \nStage 1: Hit the Lights \nStage 2: Flying Horse\nStage 3: Fire Brake\nStage 4: Snap!\n\nTrail Links: \nhttps://www.trailforks.com/trails/hit-the-lights/ \nhttps://www.trailforks.com/trails/flying-horse/ \nhttps://www.trailforks.com/trails/firebrake/ \nhttps://www.trailforks.com/trails/snap-573388/ \n  \nDAY 2: \nMorning race brief: Kijabe Kahawa 7:45am \n\nClimb to Under The S Trail: 1 Hour Provision\nStage 5: Under The S\nStage 6: Stumpies\nStage 7: Midnight Train\nStage 8: Rebers into Timelapse\nClimb back to Race Village \nAward Ceremony \n\nTrail Links: \nhttps://www.trailforks.com/trails/under-the–s—adamsbridge/ \nhttps://www.trailforks.com/trails/stumpies-244556/ \nhttps://www.trailforks.com/trails/midnight-train/ \nhttps://www.trailforks.com/trails/reber-s-revenge/ \nhttps://www.trailforks.com/trails/timelaps/ \n  \nWhere to Stay\nKijabe Guest House – 0717676769 \nhttps://goo.gl/maps/igy5Cho6sE4TY51F7 \n\n3x Apartment can hold 4 or 5 people @ Kshs 4000/night\nSelf contained rooms @Kshs 2000/night\nShared room (2 or 3 people) & shared bathroom @Kshs 1000/night\nSingle room & shared bathroom @Kshs 600/night\n\n  \nMoffat Guest House – 0737589113 \nhttps://goo.gl/maps/EnR89a1e3ihpRDUcA \n\nBunk beds with shared bathroom @ Kshs 600/night\n\n  \nAir BnB \n\nThere are a number of Air BnBs around the area. Please check on what is available to suit your needs\n\n  \nKindly book in advance especially for riders \n  \nBy participating I declare that I am willing to enter this event and that the information on this form is complete and correct. I understand and agree that I participate in this event entirely at my own risk\, that I must rely on my own ability in dealing with all hazards\, and that I must ride in a manner that is safe for myself and all others. I agree that no liability whatsoever shall be attached to the event organizers\, event sponsors\, or any member of the promoting club in respect of any injury\, loss\, or damage suffered by me in\, or due to\, the event\, however\, caused.
URL:https://letsdrift.co.ke/drift/elite-category-kijabe-mtb-enduro-race-2023-6th-edition/
LOCATION:Kijabe
CATEGORIES:Cycling,Premium
ATTACH;FMTTYPE=image/png:https://letsdrift.co.ke/wp-content/uploads/2023/02/Riders-Favortite-1.png
END:VEVENT
BEGIN:VEVENT
DTSTART;TZID=Europe/Moscow:20230305T060000
DTEND;TZID=Europe/Moscow:20230305T170000
DTSTAMP:20260420T024955
CREATED:20230201T213624Z
LAST-MODIFIED:20230303T003329Z
UID:10000479-1677996000-1678035600@letsdrift.co.ke
SUMMARY:Spectator: Kijabe Enduro 2023
DESCRIPTION:Are you ready for an action-packed adventure? Look no further than our upcoming mountain biking event\, the 6th edition of Kijabe Enduro. This adrenaline-pumping event will showcase the skills and endurance of some of the top mountain bikers as they fly down through challenging terrain and compete for the title of series champion and bag bragging rights as the best in the region. \nBut the excitement doesn’t stop there – as a spectator\, you’ll have front-row seats to all the action. Watch as riders tackle steep inclines and treacherous descents\, and cheer on your favourite competitors as they push themselves to the limit. \nIn between races\, take a break and enjoy the festive atmosphere of the event. Don’t forget your camera for a chance to take selfies with the riders\, fellow biking enthusiasts\, and the beauty of Kijabe and make memories that will last a lifetime. \n  \nDon’t miss out on this opportunity to witness the thrill and adrenaline of mountain biking up close. Join us for a day of non-stop action and excitement at the mountain biking enduro event! \n  \nCost Includes \n\nSpectator shuttle to view race stages\nGuide fee\nSnacks and water \nRace village access\n\nCost Excludes \n\nTransport to Kijabe \nFood (lunch)\n\nWhat to Bring \n\nRefillable water bottle \nWarm clothing (Kijabe gets cold in the morning sometimes) \nCamera to capture the action \nPacked lunch is recommended\nHiking shoes\nGood vibes
URL:https://letsdrift.co.ke/drift/spectator-kijabe-mtb-enduro-race-2023-6th-edition/
LOCATION:Kijabe
CATEGORIES:Cycling,Premium
ATTACH;FMTTYPE=image/png:https://letsdrift.co.ke/wp-content/uploads/2023/02/Riders-Favortite-3.png
END:VEVENT
BEGIN:VEVENT
DTSTART;TZID=Europe/Moscow:20230305T070000
DTEND;TZID=Europe/Moscow:20230305T170000
DTSTAMP:20260420T024955
CREATED:20230201T212832Z
LAST-MODIFIED:20230303T190534Z
UID:10000478-1677999600-1678035600@letsdrift.co.ke
SUMMARY:Intermediate & Party Lap Category: Kijabe Enduro 2023
DESCRIPTION:Get ready for an adrenaline-pumping adventure at the 6th edition of the Kijabe Enduro MTB race! This single-day event will take you on a thrilling journey across three stages that will test your endurance and skills as a mountain biker. \nEnduro racing is the ultimate combination of adventure\, thrill\, and fun on a mountain bike! If you’re an intermediate rider looking to take your biking game to the next level\, the Kijabe Enduro MTB race is the perfect opportunity to do so. \nThis is not just a race\, it’s an experience! A pre-race session will be held to go over the rules and regulations and answer any questions you may have\, so you can focus on the task at hand.  \n  \nIntermediate Race\nThe course is designed for riders who are new to the sport of enduro racing and will feature a mix of single track and fire roads\, with a focus on experience on technical riding\, endurance and a thrilling racing atmosphere. If you’re an intermediate rider looking to take your biking game to the next level\, this event is for you. \nParty Laps\nNot looking to race? Come and experience an unforgettable adventure with the beautiful scenery\, adrenaline rush\, and the sense of accomplishment of crossing the finish line. This is a fun and relaxed category for riders who are looking for a more laid-back racing experience. This category is perfect for riders who are new to enduro racing or those who want to experience the thrill of enduro racing without the pressure of competition. \n  \nRiders Brief\nA pre-race meeting will be held to go over the rules and regulations\, and to answer any questions the riders may have. The event will be timed using the latest electronic timing systems\, with results being posted online immediately after the race. \nWhen preparing for the Kijabe Enduro MTB race\, riders should consider the following: \n\nFitness: The course will include steep climbs and technical descents\, so it is important to have a good level of physical fitness. Training and conditioning prior to the race is highly recommended.\nBike maintenance: Riders should ensure that their mountain bike is in good working condition and properly maintained before the race. It is a good idea to have a professional mechanic check and service the bike before the race.\nSafety equipment: Riders must wear a helmet and gloves at all times during the race. It is also a good idea to bring other safety gear such as knee and elbow pads.\nHydration and nutrition: Riders should bring enough water and snacks to sustain them throughout the race.\nPre-race recce: If possible riders should take the time to do a recce of the course before the race\, especially if you have never raced or participated in any enduro event or riding to get familiar with the trails for safety reasons.\nBe prepared for the unexpected: Riders should be prepared for the unexpected and bring any necessary items such as a repair kit\, extra tubes\, and tools in case of mechanical issues\n\nCost Includes \n\nRace entry \nRider shuttle\nSnacks and water \nRace village access\n\nCost Excludes \n\nAccommodation \nTransportation to Kijabe \nFood (lunch)\n\nItinerary \nDAY 5TH Sunday: \n\nMorning race brief: Kijabe Guest House 7:45am\nClimb to Stumpies: 1 Hour Provision\nStage 1: Stumpies\nClimb to Stage 2: 1 Hour Provision\nStage 2: Rebers into Timelaps\nClimb back to Race Village \nAward Ceremony\n\nhttps://www.trailforks.com/trails/stumpies-244556/ \nhttps://www.trailforks.com/trails/reber-s-revenge/ \nhttps://www.trailforks.com/trails/timelaps/ \n  \nBy participating I declare that I am willing to enter this event and that the information on this form is complete and correct. I understand and agree that I participate in this event entirely at my own risk\, that I must rely on my own ability in dealing with all hazards\, and that I must ride in a manner that is safe for myself and all others. I agree that no liability whatsoever shall be attached to the event organizers\, event sponsors\, or any member of the promoting club in respect of any injury\, loss\, or damage suffered by me in\, or due to\, the event\, however\, caused.
URL:https://letsdrift.co.ke/drift/intermediate-party-lap-category-kijabe-mtb-enduro-race-2023-6th-edition/
LOCATION:Kijabe
CATEGORIES:Cycling,Premium
ATTACH;FMTTYPE=image/png:https://letsdrift.co.ke/wp-content/uploads/2023/02/Riders-Favortite-2.png
END:VEVENT
BEGIN:VEVENT
DTSTART;TZID=Europe/Moscow:20230318T043000
DTEND;TZID=Europe/Moscow:20230318T210000
DTSTAMP:20260420T024955
CREATED:20211224T182302Z
LAST-MODIFIED:20230529T154758Z
UID:10000424-1679113800-1679173200@letsdrift.co.ke
SUMMARY:Mt Kinangop + Elephant Hill
DESCRIPTION:Mt Kinangop is the 2nd highest peak in the Nyandarua Ranges and is known as the toughest hiking trail among the hiking community. On this hike\, you will experience two significant summits in one day.  With this hike’s 10+ hour length and its challenging terrain\, it’s no wonder that it’s often referred to as “the best trail in Africa.” If this sounds like an adventure you’re looking for—if it sounds like something fun and challenging—then sign up today! \nHighlights   \n\nIndigenous Forests\nMoorland\nPanoramic views\nHigh altitude experience\nBamboo forest\nElephant Hill Summit\nMt Kinangop Summit\nMutarakwa forest\n\nWhat’s Included \n\nProfessional\, knowledgeable\, friendly guide.\nA commitment to make the tour as exciting\, challenging\, informative\, and full as you’d like\, and as is possible in a day\nTransportation to the trailhead and back\nPark entry fee for citizens and residents\nAchievement badge\nLets Drift power bar\n\nWhat’s Not Included \n\nMeals\nPark entry fee for non-residents ($56)\n\nItinerary \n0430hrs: Depart Nairobi \n0730hrs: Hike brief and stretching \n1130hrs: Summit Elephant Hill \n0230hrs: Summit Kinangop \n1800hrs: Exit from Mutarakwa and depart for Nairobi \n1000hrs: Arrival at Nairobi \nAbout this activity \nDifficulty: Demanding/Challenge \nHiking Distance: 28km \nMaximum altitude: 3906m \nElevation gain: 1600m \nDuration: 10 hours \nTrail Head: Njabini Forest Gate \nTrail end: Njabini Forest Gate \nGuidelines \nMust have done at least 3 hikes in the past two months\, including 1 high altitude hike. \nWhat to bring \n\nWaterproof hiking shoes\nHiking Backpack\nLeg gaiters\nHiking pants\n3L water (bring a reusable water bottle or a hydration pack)\nT-shirt (long sleeve polyester or/and thermal T-shirt)\nFleece Jacket and a shell jacket (or a poncho for the Shell)\nGloves (warm and waterproof)\nHiking buff or scarf\nSunglasses\, sunscreen\, sun protection\nHat; Marvin\, fleece hat\, a wide-brimmed hat\, etc\nPolyester socks (+ an extra pair or two in your backpack)\nTrekking pole\nSnacks (sandwich\, trail mix (nuts)\, fruit salad\, energy drink\, warm beverage\, biscuits\, etc.)\nPersonal items (ID\, pocket money\, hand sanitizer\, facemask\, phone\, camera\, Lighter\, Pocket Knife\, First aid Kit)\nHeadlamp\nChange of clothes and shoes in case you get wet or muddy.\n\nWhere Do We Meet? \nFor group travel\, we will meet up at Bata shop Hilton (opposite Kencom). The guide will be at the meet-up point. \nThis trip is NOT self-drive-friendly. \nOur Safety Pledge \nYour safety is our top priority. Our experiences are led by professional hiking guides\, and well-known local guides who are well versed with the trails they are guiding. All our guides carry a First-aid Kit and have an emergency contact. If you have any further questions about safety\, please contact us for more information. \nKnow before you go \n\nThe guide’s contact is available at the bottom of this page. Feel free to get in touch with any queries regarding this hike.\nKindly note that we do not do pickups along the way.\nThe trail is NOT suitable for kids and beginner hikers.\nKindly observe the COVID-19 health safety regulations.\nYou will get an email confirmation of your booking once you purchase your ticket. \n\nCancellation Policy \nHikers that wish to cancel more than 48 hours before the hike will be issued a 50% refund of the total hiking fees. Those that cancel 48 hours or less to the actual date will not be refunded. No shows will not be refunded either. \nResources \n\nHiking Gear Guide\nHiking Gear Vendors\nTrail Difficulty Guide\nTrail Gallery\nStrava Routes\nGuide Bios\nParticipation Badges\nWhatsapp Text Helpline\nDrift Shop\nBook a Private Drift\nRate Lets Drift on Google\n\nWhat Drifters say about this trail \n\nInstagram – Kinetic Kinoti
URL:https://letsdrift.co.ke/drift/mt-kinangop-2/
LOCATION:Aberdares\, Nyandarua
CATEGORIES:Challenging,Premium
ATTACH;FMTTYPE=image/jpeg:https://letsdrift.co.ke/wp-content/uploads/2021/08/IMG_4430.jpg
END:VEVENT
END:VCALENDAR