					BEGIN:VCALENDAR
VERSION:2.0
PRODID:-//Lets Drift - ECPv6.3.0//NONSGML v1.0//EN
CALSCALE:GREGORIAN
METHOD:PUBLISH
X-ORIGINAL-URL:https://letsdrift.co.ke
X-WR-CALDESC:Events for Lets Drift
REFRESH-INTERVAL;VALUE=DURATION:PT1H
X-Robots-Tag:noindex
X-PUBLISHED-TTL:PT1H
BEGIN:VTIMEZONE
TZID:Europe/Moscow
BEGIN:STANDARD
TZOFFSETFROM:+0300
TZOFFSETTO:+0300
TZNAME:MSK
DTSTART:20230101T000000
END:STANDARD
END:VTIMEZONE
BEGIN:VEVENT
DTSTART;TZID=Europe/Moscow:20231014T070000
DTEND;TZID=Europe/Moscow:20231014T140000
DTSTAMP:20260420T013105
CREATED:20230621T122354Z
LAST-MODIFIED:20230928T100154Z
UID:10000386-1697266800-1697292000@letsdrift.co.ke
SUMMARY:Source of river Mbagathi- cycling
DESCRIPTION:Join us as we head to the source of River Mbagathi. Kibiku Forest is an exquisite destination for cycling enthusiasts\, offering a breathtaking natural setting and diverse terrain that makes it perfect for both leisurely rides and thrilling adventures. Located in a serene and picturesque region\, Kibiku Forest is characterized by its lush greenery\, towering trees\, and tranquil atmosphere\, creating a truly immersive cycling experience. \nHighlights \n\nLush Scenery\nGiant Mountain Bikes\n Beginner-friendly\n Professional Mountain Bike Guides\n\nItinerary \n0700h: Departure  \n0745h: Briefing & Stretches \n0800h: Start the Ride \n1200h: Complete ride \n1215h: Stretches \nMeet-up Location: Outside Bata Shop\, Hilton(opposite Kencom) \nRoute: Nrbi –FCC Farmers Centre \nWhat’s Included \n\nBike\nHelmet\nWater\nInstructor/guide fee \n\nWhat’s Not Included \n\nTransport (Ksh 500)\nEntry fee kes 100\nSnacks\n\nAbout this activity \nDifficulty: Moderate \nDuration: 5 hours \nDistance: 15km \nTrailhead: FCC Farmers Centre \nTrail type: Loop \nRide Structure \n\nPre-ride routine\nIntros and Stretches  \nBike & Safety Briefing \nBike & Helmet fitting \nWater distribution\nRides will have various photo stops\nRide pace will be set by the guide. No one will be left behind.\n\nWhat to bring \n\nSmall backpack (double strapped bag) \nWater bottle (300ml – 500ml) \nA jacket (can get cold in the afternoon/evening)\nSnacks\n\nWhere Do We Meet?  \nFor group travel via PSV\, our starting point is the benches near Bata shop Hilton (Opposite Kencom). Look out for our guide – they’re as excited as you are! \n️ Parking ️ \nThis adventure is self-drive friendly\, and we’ve got secure parking available at FCC Farmers Centre \nSafety is Our Priority  \nYour safety is paramount to us! Our seasoned Biking guides and local experts are well-prepared for any situation. First-aid Kits and an emergency plan are always on hand. We’ve got you covered! \nConfirmation & Cancellation  \nYou will receive an email confirmation of your booking upon purchase. Hikers canceling more than 48 hours before the ride will receive a 50% refund of the total fees. Cancellations within 48 hours or no-shows will not be refunded. \n Got Questions? Reach Out!  \nNeed more info? Contact our guide\, whose details are at the bottom
URL:https://letsdrift.co.ke/drift/kibiku-forest-trails-ride/
LOCATION:kibiku
CATEGORIES:Cycling,Moderate,Premium
ATTACH;FMTTYPE=image/png:https://letsdrift.co.ke/wp-content/uploads/2023/06/Source-of-R.Mbagathi-1.png
END:VEVENT
BEGIN:VEVENT
DTSTART;TZID=Europe/Moscow:20231020T070000
DTEND;TZID=Europe/Moscow:20231020T140000
DTSTAMP:20260420T013105
CREATED:20230403T083422Z
LAST-MODIFIED:20231002T142704Z
UID:10000491-1697785200-1697810400@letsdrift.co.ke
SUMMARY:MASHUJAA DAY RIDE
DESCRIPTION:As we reach the conclusion of another remarkable month\, let’s commemorate it by enjoying an enjoyable excursion through Muguga Forest in Kikuyu and continuing the festivities at the 254 Brewery\, where we can indulge in great beverages and delightful company. Here’s to acknowledging the month that has passed and remember to get home sober. \nHighlights \n\nMuguga Forest \n254 Brewery\nSerene biking trails \n\nItinerary \n0700h: Departure  \n0745h: Briefing & Stretches \n0800h: Start the Ride \n1200h: Complete ride \n1215h: Stretches \nMeet-up Location: Outside Bata Shop\, Hilton(opposite Kencom) \nRoute: Nrbi – 254 Brewery\,  Kikuyu  \nAbout this activity \nDifficulty: Beginner & Intermediate friendly  \nDuration: 4 hrs \nDistance: 15km \nSelf-drive friendly \nWhat’s Includes  \n\nBike\nHelmet\nWater\nInstructor/guide fee \n\nCharges Excludes   · \n\nTransport (Ksh 500)\nSnacks\n\nRide Structure \n\nPre-ride routine\nIntros and Stretches  \nBike & Safety Briefing \nBike & Helmet fitting \nWater distribution\nRides will have various photo stops\nRide pace will be set by the guide. No one will be left behind.\n\nWhat to bring \n\nSmall backpack (double strapped bag) \nWater bottle (300ml – 500ml) \nA jacket (can get cold in the afternoon/evening)\nSnacks\n\nWhere Do We Meet?  \nFor group travel via PSV\, our starting point is the benches near Bata shop Hilton (Opposite Kencom). Look out for our guide – they’re as excited as you are! \n️ Parking ️ \nThis adventure is self-drive friendly\, and we’ve got secure parking available at Levila Gardens  \nSafety is Our Priority  \nYour safety is paramount to us! Our seasoned Biking guides and local experts are well-prepared for any situation. First-aid Kits and an emergency plan are always on hand. We’ve got you covered! \nConfirmation & Cancellation  \nYou will receive an email confirmation of your booking upon purchase. Hikers canceling more than 48 hours before the ride will receive a 50% refund of the total fees. Cancellations within 48 hours or no-shows will not be refunded. \n Got Questions? Reach Out!  \nNeed more info? Contact our guide\, whose details are at the bottom
URL:https://letsdrift.co.ke/drift/shujaa-ride/
LOCATION:Wattle House Kikuyu
CATEGORIES:Beginner Friendly,Cycling,Premium
ATTACH;FMTTYPE=image/jpeg:https://letsdrift.co.ke/wp-content/uploads/2022/11/1.jpg
END:VEVENT
BEGIN:VEVENT
DTSTART;TZID=Europe/Moscow:20231027T100000
DTEND;TZID=Europe/Moscow:20231028T200000
DTSTAMP:20260420T013105
CREATED:20231003T063636Z
LAST-MODIFIED:20231020T062650Z
UID:10000520-1698400800-1698523200@letsdrift.co.ke
SUMMARY:Alex Kamau Photography Exhibition
DESCRIPTION:Join us for an enchanting visual journey through the lens of acclaimed photographer\, Alex Kamau\, as he presents a captivating photography exhibition that blends his best-selling prints with a collection of never-before-seen masterpieces. \nDate: 27th – 28th October 2023 \nLocation: Shifteye Studio Gallery – Hurlingam \nView/Download Full itinerary \nAbout Alex Kamau: \nAlex Kamau is an acclaimed Photographer\, Adventurer\, and Designer known for founding Lets Drift – The biggest adventure community in Kenya. With a passion for storytelling through images\, Kamau’s work has graced galleries\, Social Media\, and publications countrywide. His unique perspective and dedication to his craft continue to inspire and captivate audiences. \nJoin us and immerse yourself in the world of Alex Kamau’s photography. Whether you’re a photography enthusiast or appreciate the art of visual storytelling\, this exhibition promises to leave a lasting impression. \nNote: Please check our website for updates and ticket availability. We look forward to welcoming you to this extraordinary photography exhibition and workshop by Alex Kamau.
URL:https://letsdrift.co.ke/drift/alex-kamau/
CATEGORIES:Premium
ATTACH;FMTTYPE=image/jpeg:https://letsdrift.co.ke/wp-content/uploads/2023/10/Alex-Kamau-Photography.jpg
END:VEVENT
END:VCALENDAR