					BEGIN:VCALENDAR
VERSION:2.0
PRODID:-//Lets Drift - ECPv6.3.0//NONSGML v1.0//EN
CALSCALE:GREGORIAN
METHOD:PUBLISH
X-WR-CALNAME:Lets Drift
X-ORIGINAL-URL:https://letsdrift.co.ke
X-WR-CALDESC:Events for Lets Drift
REFRESH-INTERVAL;VALUE=DURATION:PT1H
X-Robots-Tag:noindex
X-PUBLISHED-TTL:PT1H
BEGIN:VTIMEZONE
TZID:Europe/Moscow
BEGIN:STANDARD
TZOFFSETFROM:+0300
TZOFFSETTO:+0300
TZNAME:MSK
DTSTART:20260101T000000
END:STANDARD
END:VTIMEZONE
BEGIN:VEVENT
DTSTART;TZID=Europe/Moscow:20261128T050000
DTEND;TZID=Europe/Moscow:20261128T183000
DTSTAMP:20260420T094531
CREATED:20251227T161522Z
LAST-MODIFIED:20260103T081150Z
UID:10003236-1795842000-1795890600@letsdrift.co.ke
SUMMARY:Elephant Hill
DESCRIPTION:Elephant Hill may make or break a hiker\, a great test for novice and experienced hikers alike. Located at an elevation of 3\,658 meters above sea level\, the trail begins at the Njabini Forest Station gate and travels to the peak and back for 18 kilometers. It takes about 7-8 hours to make the round trip\, assuming a reasonable pace.
URL:https://letsdrift.co.ke/drift/elephant-hill-2/2026-11-28/
CATEGORIES:Challenging,Premium
ATTACH;FMTTYPE=image/png:https://letsdrift.co.ke/wp-content/uploads/2021/10/Website-updated-images-2.png
END:VEVENT
BEGIN:VEVENT
DTSTART;TZID=Europe/Moscow:20261205T043000
DTEND;TZID=Europe/Moscow:20261205T200000
DTSTAMP:20260420T094531
CREATED:20260111T085726Z
LAST-MODIFIED:20260419T065920Z
UID:10003266-1796445000-1796500800@letsdrift.co.ke
SUMMARY:Table Mountain + 7 Ponds
DESCRIPTION:At 3831m asl\, Table mountain + Seven ponds trail gives you the whole package of a breathtaking summit\, a terrain to challenge and push your endurance\, and high altitude conditioning. The trail is a little steep at the start but gets gentle as you hike up and even more easy since the summit is flat. Truly a worthwhile experience \nFeature image courtesy of Verialet
URL:https://letsdrift.co.ke/drift/table-mountain-7-ponds-2/2026-12-05/
CATEGORIES:Challenging,Premium
ATTACH;FMTTYPE=image/jpeg:https://letsdrift.co.ke/wp-content/uploads/2022/05/PHOTO-2022-05-08-21-51-46.jpg
END:VEVENT
END:VCALENDAR