					BEGIN:VCALENDAR
VERSION:2.0
PRODID:-//Lets Drift - ECPv6.3.0//NONSGML v1.0//EN
CALSCALE:GREGORIAN
METHOD:PUBLISH
X-ORIGINAL-URL:https://letsdrift.co.ke
X-WR-CALDESC:Events for Lets Drift
REFRESH-INTERVAL;VALUE=DURATION:PT1H
X-Robots-Tag:noindex
X-PUBLISHED-TTL:PT1H
BEGIN:VTIMEZONE
TZID:Europe/Moscow
BEGIN:STANDARD
TZOFFSETFROM:+0300
TZOFFSETTO:+0300
TZNAME:MSK
DTSTART:20260101T000000
END:STANDARD
END:VTIMEZONE
BEGIN:VEVENT
DTSTART;TZID=Europe/Moscow:20260207T043000
DTEND;TZID=Europe/Moscow:20260207T210000
DTSTAMP:20260420T082013
CREATED:20260102T145934Z
LAST-MODIFIED:20260205T103958Z
UID:10003218-1770438600-1770498000@letsdrift.co.ke
SUMMARY:Mackinders-Teleki valley
DESCRIPTION:Mackinder’s  is a bucket list adventure that every thrill-seeking hiker dreams of tackling. Nestled in the rugged terrain of the Naro Moru route\, this challenging trail will push your limits and test your endurance. The starting point at the Met station\, perched at a dizzying 3048 meters above sea level\, is just the beginning of your journey. As you make your way up the mountain\, you’ll be treated to a stunning array of flora\, from dense bamboo forests to windswept moorland\, and you may even catch a glimpse of the giant lobelia plants that tower above the landscape. But the real reward comes when you reach the summit\, where you’ll be rewarded with breathtaking views and the sense of accomplishment that comes with conquering one of the most epic trails in the world.
URL:https://letsdrift.co.ke/drift/mackinders-teleki-valley/2026-02-07/
CATEGORIES:Challenging,Premium
ATTACH;FMTTYPE=image/jpeg:https://letsdrift.co.ke/wp-content/uploads/2022/12/Mckinders.jpg
END:VEVENT
BEGIN:VEVENT
DTSTART;TZID=Europe/Moscow:20260207T073000
DTEND;TZID=Europe/Moscow:20260207T150000
DTSTAMP:20260420T082013
CREATED:20260102T132544Z
LAST-MODIFIED:20260416T192702Z
UID:10003211-1770449400-1770476400@letsdrift.co.ke
SUMMARY:Bathi Walk
DESCRIPTION:Fresh and exhilarating\, the air in these forest trails will make you feel like you’ve escaped civilization. People in search of a relaxing stroll will find bliss on this trail.
URL:https://letsdrift.co.ke/drift/bathi-walk-3/2026-02-07/
CATEGORIES:Beginner Friendly,Freemium
ATTACH;FMTTYPE=image/jpeg:https://letsdrift.co.ke/wp-content/uploads/2021/06/anne_ciku_20211129_1.jpg
END:VEVENT
BEGIN:VEVENT
DTSTART;TZID=Europe/Moscow:20260208T070000
DTEND;TZID=Europe/Moscow:20260208T150000
DTSTAMP:20260420T082013
CREATED:20260102T141639Z
LAST-MODIFIED:20260205T111438Z
UID:10003216-1770534000-1770562800@letsdrift.co.ke
SUMMARY:Ngong Hills
DESCRIPTION:Hike and glance at the far-reaching views over the Rift Valley\, Nairobi National Park\, Mount Suswa volcano\, the Nairobi skyline\, and the Maasai land that reaches down to Lake Magadi. On a clear day\, you can see both Mount Kilimanjaro and Mount Kenya from the hills. \n*This Challenge includes a free achievement badge.
URL:https://letsdrift.co.ke/drift/ngong-hills-2/2026-02-08/
CATEGORIES:Challenging,Freemium
ATTACH;FMTTYPE=image/jpeg:https://letsdrift.co.ke/wp-content/uploads/2021/08/27.jpg
END:VEVENT
BEGIN:VEVENT
DTSTART;TZID=Europe/Moscow:20260208T073000
DTEND;TZID=Europe/Moscow:20260208T153000
DTSTAMP:20260420T082013
CREATED:20251227T205754Z
LAST-MODIFIED:20260325T025209Z
UID:10003198-1770535800-1770564600@letsdrift.co.ke
SUMMARY:Mitundu
DESCRIPTION:A true waterfall chaser’s gem\, this new trail is packed with adventure—featuring endless natural pools perfect for diving and plunging. The experience is so thrilling\, you’ll barely notice when you reach the end of the trail.
URL:https://letsdrift.co.ke/drift/mitundu/2026-02-08/
CATEGORIES:Freemium,Moderate
ATTACH;FMTTYPE=image/jpeg:https://letsdrift.co.ke/wp-content/uploads/2025/12/Mitundu.webp
END:VEVENT
BEGIN:VEVENT
DTSTART;TZID=Europe/Moscow:20260208T080000
DTEND;TZID=Europe/Moscow:20260208T130000
DTSTAMP:20260420T082013
CREATED:20260102T135557Z
LAST-MODIFIED:20260303T090610Z
UID:10003214-1770537600-1770555600@letsdrift.co.ke
SUMMARY:Kimungu kia Mbugi
DESCRIPTION:Step into history and mystery with a walk through Buxton Tunnel (Locally known as Kimungu kia Mbugi)— Kenya’s longest metre-gauge railway tunnel\, built in 1949 by Italian POWs. Nestled in Limuru’s misty hills and tea farms\, this eerie yet thrilling trail promises a mix of colonial history\, local folklore\, and unforgettable adventure.
URL:https://letsdrift.co.ke/drift/kimungu-kia-mbugi-3/
CATEGORIES:Beginner Friendly,Freemium
ATTACH;FMTTYPE=image/jpeg:https://letsdrift.co.ke/wp-content/uploads/2021/08/buxton.jpg
END:VEVENT
BEGIN:VEVENT
DTSTART;TZID=Europe/Moscow:20260211T070000
DTEND;TZID=Europe/Moscow:20260211T143000
DTSTAMP:20260420T082013
CREATED:20260102T170928Z
LAST-MODIFIED:20260207T095905Z
UID:10003221-1770793200-1770820200@letsdrift.co.ke
SUMMARY:Gatamaiyu 3
DESCRIPTION:Be prepared to slip and fall several times! The sliding is all worth it- your reward is 3 breathtaking waterfalls\, including one that falls inside a cave. Prickly plants are also part of the experience. \n\n 
URL:https://letsdrift.co.ke/drift/gatamaiyu-3-2/2026-02-11/
CATEGORIES:Freemium,Moderate
ATTACH;FMTTYPE=image/jpeg:https://letsdrift.co.ke/wp-content/uploads/2021/08/9.jpg
END:VEVENT
BEGIN:VEVENT
DTSTART;TZID=Europe/Moscow:20260213T133000
DTEND;TZID=Europe/Moscow:20260213T180000
DTSTAMP:20260420T082013
CREATED:20260203T222051Z
LAST-MODIFIED:20260419T063848Z
UID:10004314-1770989400-1771005600@letsdrift.co.ke
SUMMARY:KeFRI + Ngamba Butchery
DESCRIPTION:Join us for a truly local experience that begins with a peaceful walk through the charming Kefri forest and wraps up at the TikTok-famous butchery in Ngamba Village for a mouthwatering nyama choma feast
URL:https://letsdrift.co.ke/drift/kefri-ngamba-butchery/2026-02-13/
CATEGORIES:Beginner Friendly,Freemium
ATTACH;FMTTYPE=image/jpeg:https://letsdrift.co.ke/wp-content/uploads/2026/02/KeFRI-Ngamba-.webp
END:VEVENT
BEGIN:VEVENT
DTSTART;TZID=Europe/Moscow:20260214T063000
DTEND;TZID=Europe/Moscow:20260214T163000
DTSTAMP:20260420T082013
CREATED:20251227T163019Z
LAST-MODIFIED:20260416T193944Z
UID:10003127-1771050600-1771086600@letsdrift.co.ke
SUMMARY:Mt Kilimambogo
DESCRIPTION:The buffalo mountain is a fair\, friendly terrain for anyone wanting to kick off their mountaineering journey. Views en route encompass MacMillan’s gravesite. The Delmonte plantation beautifies the horizons as the communication boosters at the summit wow a curious hiker. Monkeys might be the only visible wildlife while the century-old trees give Alice in Wonderland an aura thanks to their hanging moss. \nCover image courtesy of Cosmas Rotich
URL:https://letsdrift.co.ke/drift/mt-kilimambogo-3/2026-02-14/
CATEGORIES:Challenging,Freemium
ATTACH;FMTTYPE=image/jpeg:https://letsdrift.co.ke/wp-content/uploads/2021/06/2020-09-17-083804942-01-scaled-e1625346368437.jpeg
END:VEVENT
BEGIN:VEVENT
DTSTART;TZID=Europe/Moscow:20260214T080000
DTEND;TZID=Europe/Moscow:20260214T143000
DTSTAMP:20260420T082013
CREATED:20251226T195304Z
LAST-MODIFIED:20260413T160959Z
UID:10003105-1771056000-1771079400@letsdrift.co.ke
SUMMARY:Cianda Walk
DESCRIPTION:The revamped Cianda Trail starts at the scenic Fig & Olive Restaurant\, winding through farms with stops at a serene dam and concluding at the stunning Cianda Caves and Waterfalls. \nAfter-Hike Experience:\nEnd your adventure at Fig & Olive Restaurant. Reservations are required for weekend dining\, but their deli offers delicious takeaway options before or after your hike—no reservation needed\,
URL:https://letsdrift.co.ke/drift/cianda-walk-4/2026-02-14/
CATEGORIES:Beginner Friendly,Freemium
ATTACH;FMTTYPE=image/jpeg:https://letsdrift.co.ke/wp-content/uploads/2021/06/2020-07-29-10.37.35-12-scaled.jpg
END:VEVENT
BEGIN:VEVENT
DTSTART;TZID=Europe/Moscow:20260215T070000
DTEND;TZID=Europe/Moscow:20260215T143000
DTSTAMP:20260420T082013
CREATED:20260214T134235Z
LAST-MODIFIED:20260413T163856Z
UID:10003190-1771138800-1771165800@letsdrift.co.ke
SUMMARY:Kirenga Falls
DESCRIPTION:Begin your adventure at the iconic Great Rift Valley viewpoint\, trekking through country roads into Kirenga Village\, rich with history from the Mau Mau uprising and the Lari Massacre. The trail ends with a breathtaking waterfall and a charming cave.
URL:https://letsdrift.co.ke/drift/kirenga-falls-4-2/2026-02-15/
CATEGORIES:Beginner Friendly,Freemium
ATTACH;FMTTYPE=image/jpeg:https://letsdrift.co.ke/wp-content/uploads/2024/12/4.jpg
END:VEVENT
BEGIN:VEVENT
DTSTART;TZID=Europe/Moscow:20260215T070000
DTEND;TZID=Europe/Moscow:20260215T160000
DTSTAMP:20260420T082013
CREATED:20260102T172019Z
LAST-MODIFIED:20260419T064440Z
UID:10003223-1771138800-1771171200@letsdrift.co.ke
SUMMARY:Ihiga Ria Guoya
DESCRIPTION:Ihiga Ria Guoya translated The Stone of Fear is a rock that reclines in Ndeiya\, Limuru. Due to the fragility with which the majestic rock reclines while being supported by a small rock\, it was given this name. According to legend\, boys were required to scale the rock prior to becoming men. Ihiga ria nyondo\, often known as ‘Boobs rock’ due to its resemblance to a woman’s breast\, is a magnificent rock located just a few meters away from the main attraction. \n 
URL:https://letsdrift.co.ke/drift/ihiga-ria-guoya/2026-02-15/
CATEGORIES:Freemium,Moderate
ATTACH;FMTTYPE=image/jpeg:https://letsdrift.co.ke/wp-content/uploads/2021/09/IHIGA.jpg
END:VEVENT
BEGIN:VEVENT
DTSTART;TZID=Europe/Moscow:20260218T070000
DTEND;TZID=Europe/Moscow:20260218T140000
DTSTAMP:20260420T082013
CREATED:20260102T173104Z
LAST-MODIFIED:20260413T162009Z
UID:10003225-1771398000-1771423200@letsdrift.co.ke
SUMMARY:Kiama Riverline
DESCRIPTION:Gatanga in Murang’a County is home to some of the most beautiful trails\, including the Kiama Riverline Trail. If you want to get away from the hustle and bustle of the city without having to hike too long\, this is the trail for you. Duff mpararo (river swimming) enthusiasts would adore this trail.
URL:https://letsdrift.co.ke/drift/kiama-riverline-3/2026-02-18/
CATEGORIES:Beginner Friendly,Freemium
ATTACH;FMTTYPE=image/jpeg:https://letsdrift.co.ke/wp-content/uploads/2022/08/IMG_4214.jpg
END:VEVENT
BEGIN:VEVENT
DTSTART;TZID=Europe/Moscow:20260220T073000
DTEND;TZID=Europe/Moscow:20260220T163000
DTSTAMP:20260420T082013
CREATED:20260102T180626Z
LAST-MODIFIED:20260419T064145Z
UID:10004315-1771572600-1771605000@letsdrift.co.ke
SUMMARY:Kijabe Soft
DESCRIPTION:Kijabe attracts daring hikers in search of beautiful scenery and a tranquil ambiance. But we found a hack for those who want to experience kijabe without the “hard” part: a curated trail starting in the Kinale forest off the Nairobi – Nakuru highway\, winding down the valley\, and culminating in some coffee at the gorgeous Kijabe Kahawa Coffee shop.
URL:https://letsdrift.co.ke/drift/kijabe-soft-2/2026-02-20/
CATEGORIES:Beginner Friendly,Freemium
ATTACH;FMTTYPE=image/jpeg:https://letsdrift.co.ke/wp-content/uploads/2022/05/Kijabe-hills.jpg
END:VEVENT
BEGIN:VEVENT
DTSTART;TZID=Europe/Moscow:20260221T060000
DTEND;TZID=Europe/Moscow:20260221T170000
DTSTAMP:20260420T082013
CREATED:20260219T213056Z
LAST-MODIFIED:20260418T195416Z
UID:10003114-1771653600-1771693200@letsdrift.co.ke
SUMMARY:William Hill
DESCRIPTION:Standing at approx. 2300m ASL William hill summit offers a good vantage point for a breathtaking panoramic view of the Great Rift Valley. The hill is part of the greater Kikuyu escarpment. From the floor of the rift valley for about 10km to the hike\, you get to see Osotua camp and Namcha ranch. As you ascend the hill\, you get to learn the history of the area where over 100 people were killed in what is known as Kedong massacre. You will also see the Olonana boundary among other features.
URL:https://letsdrift.co.ke/drift/william-hill-2-2/2026-02-21/
CATEGORIES:Challenging,Freemium
ATTACH;FMTTYPE=image/jpeg:https://letsdrift.co.ke/wp-content/uploads/2021/08/william-hill.jpg
END:VEVENT
BEGIN:VEVENT
DTSTART;TZID=Europe/Moscow:20260221T113000
DTEND;TZID=Europe/Moscow:20260221T143000
DTSTAMP:20260420T082013
CREATED:20260203T224745Z
LAST-MODIFIED:20260325T031201Z
UID:10004316-1771673400-1771684200@letsdrift.co.ke
SUMMARY:The Taste of Tigoni
DESCRIPTION:The Browns Cheese Farm Experience is a fully hosted countryside day designed for people who want more than a typical outing. We’ve partnered directly with Browns to create a behind-the-scenes journey into their gardens\, dairy\, and production spaces—followed by a guided cheese tasting and a slow farm-to-table lunch. Every element is carefully curated to feel intentional\, unhurried\, and personal.\nFrom small group sizes and expert hosting to thoughtful pacing and quality ingredients\, this experience is built around depth rather than speed.\nYou’ll leave with new knowledge\, fresh perspective\, and a deeper appreciation for where food comes from. This is slow tourism\, done properly — curated by Lets Drift and hosted with Browns Cheese Farm.
URL:https://letsdrift.co.ke/drift/the-taste-of-tigoni/2026-02-21/
ATTACH;FMTTYPE=image/jpeg:https://letsdrift.co.ke/wp-content/uploads/2026/02/A-Taste-of-Tigoni.webp
END:VEVENT
BEGIN:VEVENT
DTSTART;TZID=Europe/Moscow:20260222T063000
DTEND;TZID=Europe/Moscow:20260222T153000
DTSTAMP:20260420T082013
CREATED:20260102T175251Z
LAST-MODIFIED:20260207T095655Z
UID:10003227-1771741800-1771774200@letsdrift.co.ke
SUMMARY:Mau Mau Caves
DESCRIPTION:Step back in time to the colonial era and uncover the history of the Mau Mau caves hidden within the misty Kereita Forest. Used by Kikuyu warriors as a hideout from the colonial army\, the forest’s name\, “Kereita\,” translates to “warriors’ place.” Join us to explore the rich history and mysteries of these legendary caves.
URL:https://letsdrift.co.ke/drift/mau-mau-caves/2026-02-22/
CATEGORIES:Freemium,Moderate
ATTACH;FMTTYPE=image/jpeg:https://letsdrift.co.ke/wp-content/uploads/2021/09/maumau-caves.jpg
END:VEVENT
BEGIN:VEVENT
DTSTART;TZID=Europe/Moscow:20260222T073000
DTEND;TZID=Europe/Moscow:20260222T150000
DTSTAMP:20260420T082013
CREATED:20260219T213421Z
LAST-MODIFIED:20260416T192234Z
UID:10003192-1771745400-1771772400@letsdrift.co.ke
SUMMARY:KeFRI Walk
DESCRIPTION:If you’re a forest lover\, you can’t afford to miss out on the Kefri trails. You get to enjoy walking through both natural and planted forests as the crisp air fills your lungs and birds sing in the trees.
URL:https://letsdrift.co.ke/drift/kefri-walk-3-2/2026-02-22/
CATEGORIES:Beginner Friendly,Freemium
ATTACH;FMTTYPE=image/jpeg:https://letsdrift.co.ke/wp-content/uploads/2021/06/2020-10-21-095118581-scaled-e1625433019517.jpg
END:VEVENT
BEGIN:VEVENT
DTSTART;TZID=Europe/Moscow:20260225T070000
DTEND;TZID=Europe/Moscow:20260225T143000
DTSTAMP:20260420T082013
CREATED:20251226T193430Z
LAST-MODIFIED:20260203T225030Z
UID:10004317-1772002800-1772029800@letsdrift.co.ke
SUMMARY:Majiri
DESCRIPTION:This trail begins at Kamwangi Town in Gatundu and takes you to two stunning waterfalls. The first features water pipes crossing a scenic valley\, and the second\, larger waterfall lies further along the river\, accessible by a steep descent and has a perfect for spot for swimmers.
URL:https://letsdrift.co.ke/drift/majiri-5/2026-02-25/
CATEGORIES:Freemium,Moderate
ATTACH;FMTTYPE=image/jpeg:https://letsdrift.co.ke/wp-content/uploads/2024/12/7-jpg.webp
END:VEVENT
BEGIN:VEVENT
DTSTART;TZID=Europe/Moscow:20260225T080000
DTEND;TZID=Europe/Moscow:20260225T133000
DTSTAMP:20260420T082013
CREATED:20260223T134047Z
LAST-MODIFIED:20260223T134048Z
UID:10003120-1772006400-1772026200@letsdrift.co.ke
SUMMARY:Nifty's Escape
DESCRIPTION:Nifty Escape offers a leisurely\, beginner-friendly loop trail that begins and ends at the picturesque Nifty Cafe in Tigoni. Winding through lush tea farms and tranquil forest trails\, this relaxing hike is the perfect way to enjoy nature’s beauty. The adventure wraps up with a delightful meal hangout at Nifty\, making it an ideal outing for both nature lovers and food enthusiasts.
URL:https://letsdrift.co.ke/drift/niftys-escape-3-3/
CATEGORIES:Beginner Friendly,Freemium
ATTACH;FMTTYPE=image/jpeg:https://letsdrift.co.ke/wp-content/uploads/2024/12/Website-Banner-Images-1.webp
END:VEVENT
BEGIN:VEVENT
DTSTART;TZID=Europe/Moscow:20260228T043000
DTEND;TZID=Europe/Moscow:20260228T210000
DTSTAMP:20260420T082013
CREATED:20260225T213935Z
LAST-MODIFIED:20260225T213936Z
UID:10003233-1772253000-1772312400@letsdrift.co.ke
SUMMARY:Rurimeria
DESCRIPTION:The Rurimeria trail has a series of four ridges\, the first being the steepest and the hardest as you gain altitude. Rurimeria Hill is 3\,860 m (12\,670 ft) above sea level. It’s the third-highest hill of the Aberdares and considered among the toughest. The beautiful trail has lots of colorful mountainous vegetation and gorgeous landscape views to soak in with every step!
URL:https://letsdrift.co.ke/drift/rurimeria-2-2/
CATEGORIES:Challenging,Premium
ATTACH;FMTTYPE=image/jpeg:https://letsdrift.co.ke/wp-content/uploads/2021/09/RURIMERIA.jpg
END:VEVENT
BEGIN:VEVENT
DTSTART;TZID=Europe/Moscow:20260228T073000
DTEND;TZID=Europe/Moscow:20260228T153000
DTSTAMP:20260420T082013
CREATED:20260102T181512Z
LAST-MODIFIED:20260210T161403Z
UID:10003232-1772263800-1772292600@letsdrift.co.ke
SUMMARY:Gatamaiyu 1
DESCRIPTION:The first of the scenic 5 series of Gatamaiyu waterfalls\, Gatamaiyu 1 is one of our earliest discoveries and remains king for its series of attractions. Recommended for beginners\, Intermediate hikers\, or anyone who loves ‘duff mpararo’ \n✌️PS: This trail ends with lunch at Drifter’s most favorite nyama choma joint – 680 butchery at Githunguri town \n 
URL:https://letsdrift.co.ke/drift/gatamaiyu-1-3/
CATEGORIES:Freemium,Moderate
ATTACH;FMTTYPE=image/jpeg:https://letsdrift.co.ke/wp-content/uploads/2021/08/12-1.jpg
END:VEVENT
BEGIN:VEVENT
DTSTART;TZID=Europe/Moscow:20260301T073000
DTEND;TZID=Europe/Moscow:20260301T103000
DTSTAMP:20260420T082013
CREATED:20260203T230717Z
LAST-MODIFIED:20260413T163404Z
UID:10004319-1772350200-1772361000@letsdrift.co.ke
SUMMARY:Netwalking
DESCRIPTION:Great ideas don’t come from sitting in crowded rooms. \nThey come from moving\, breathing\, and thinking clearly. \nNetwalking is a 2-hour guided morning walk designed for founders and creatives who want to reset their minds\, strengthen their networks\, and start the day with intention. Set inside the calm grounds of Limuru Country Club\, the walk combines light movement\, guided prompts\, and open conversation.
URL:https://letsdrift.co.ke/drift/netwalking/2026-03-01/
CATEGORIES:Beginner Friendly
ATTACH;FMTTYPE=image/jpeg:https://letsdrift.co.ke/wp-content/uploads/2026/02/Netwalking.webp
END:VEVENT
BEGIN:VEVENT
DTSTART;TZID=Europe/Moscow:20260301T080000
DTEND;TZID=Europe/Moscow:20260301T143000
DTSTAMP:20260420T082013
CREATED:20260105T181607Z
LAST-MODIFIED:20260203T225406Z
UID:10004318-1772352000-1772375400@letsdrift.co.ke
SUMMARY:Brackenhurst Lap
DESCRIPTION:The Brackenhurst Hike begins at Brackenhurst Hotel\, once a colonial farmhouse. Along the trail\, you’ll discover a hidden waterfall\, learn about the history of tea farming\, and stop at the historic plaque marking Kenya’s first tea bush planted by the British. A perfect blend of history\, adventure\, and nature just outside Nairobi.
URL:https://letsdrift.co.ke/drift/brackenhurst-lap-4/2026-03-01/
CATEGORIES:Beginner Friendly,Freemium
ATTACH;FMTTYPE=image/jpeg:https://letsdrift.co.ke/wp-content/uploads/2021/06/2021-05-01-101804455-scaled.jpg
END:VEVENT
BEGIN:VEVENT
DTSTART;TZID=Europe/Moscow:20260306T073000
DTEND;TZID=Europe/Moscow:20260306T140000
DTSTAMP:20260420T082013
CREATED:20251226T191036Z
LAST-MODIFIED:20260325T030653Z
UID:10004950-1772782200-1772805600@letsdrift.co.ke
SUMMARY:Ngubi
DESCRIPTION:If you’re craving a true forest escape\, Ngubi is our newest hidden gem. Tucked just off the busy Mai Mahiu highway\, this little-known trail plunges you into an incredibly dense forest—so wild and untouched we almost lost our bearings while scouting it.
URL:https://letsdrift.co.ke/drift/ngubi/2026-03-06/
ATTACH;FMTTYPE=image/jpeg:https://letsdrift.co.ke/wp-content/uploads/2025/12/Ngubi.webp
END:VEVENT
BEGIN:VEVENT
DTSTART;TZID=Europe/Moscow:20260307T063000
DTEND;TZID=Europe/Moscow:20260307T170000
DTSTAMP:20260420T082013
CREATED:20251226T205114Z
LAST-MODIFIED:20260413T170103Z
UID:10003117-1772865000-1772902800@letsdrift.co.ke
SUMMARY:Gicheru Mines
DESCRIPTION:Known as the Character developing trail amongst Drifters\, Gicheru mines should be worth your attempt. Located in the Kikuyu escarpment this trail difficulty is dependent on your ability to handle the heat. The journey starts on a hill descending down through thick grass and shrubs. If you love herbs there’s sage in hundreds and they smell amazing. \nOnce you get to the gorge and into the caves you get to appreciate the beautiful diatomite mines\, and cool caves and watch beautiful birds sing and fly across. It’s hot so quick-dry clothes are the best. Remember to carry enough water (3L Min) and snacks to keep your energy high throughout.
URL:https://letsdrift.co.ke/drift/gicheru-mines/2026-03-07/
CATEGORIES:Challenging,Premium
ATTACH;FMTTYPE=image/jpeg:https://letsdrift.co.ke/wp-content/uploads/2021/06/DSC_1089-01-scaled.jpeg
END:VEVENT
BEGIN:VEVENT
DTSTART;TZID=Europe/Moscow:20260307T073000
DTEND;TZID=Europe/Moscow:20260307T130000
DTSTAMP:20260420T082013
CREATED:20251226T200500Z
LAST-MODIFIED:20260303T090301Z
UID:10003109-1772868600-1772888400@letsdrift.co.ke
SUMMARY:Uplands Unplug
DESCRIPTION:Uplands Unplug is a chance to get away from technology and reconnect with what really matters: yourself\, other people\, and nature. This mindful walk encourages hikers to put away their devices and enjoy the simple\, real-world connections they make along the way.
URL:https://letsdrift.co.ke/drift/uplands-unplug-2/2026-03-07/
CATEGORIES:Beginner Friendly,Freemium
ATTACH;FMTTYPE=image/jpeg:https://letsdrift.co.ke/wp-content/uploads/2023/11/12-jpg.webp
END:VEVENT
BEGIN:VEVENT
DTSTART;TZID=Europe/Moscow:20260308T063000
DTEND;TZID=Europe/Moscow:20260308T163000
DTSTAMP:20260420T082013
CREATED:20260103T085553Z
LAST-MODIFIED:20260418T194434Z
UID:10003242-1772951400-1772987400@letsdrift.co.ke
SUMMARY:Kedong Trek
DESCRIPTION:Starting at the historic Mai Mahiu Traveller’s Church\, the smallest of its kind built by Italian prisoners of war in 1942\, this trail takes you through the scenic Kedong Valley\, crosses Mt. Margaret\, and concludes at Mai Mahiu Town.
URL:https://letsdrift.co.ke/drift/kedong-trek-2/2026-03-08/
CATEGORIES:Freemium,Moderate
ATTACH;FMTTYPE=image/jpeg:https://letsdrift.co.ke/wp-content/uploads/2021/09/Kedong.jpg
END:VEVENT
BEGIN:VEVENT
DTSTART;TZID=Europe/Moscow:20260308T070000
DTEND;TZID=Europe/Moscow:20260308T153000
DTSTAMP:20260420T082013
CREATED:20260301T194838Z
LAST-MODIFIED:20260305T085805Z
UID:10004956-1772953200-1772983800@letsdrift.co.ke
SUMMARY:She Wild
DESCRIPTION:She Wild is a safe space for outdoor-loving women. Organized for and guided by women\, it’s about coming into a community of like-minded souls with vulnerability and openness. A place for you to enjoy your femininity and just be. \nLocation – Gatamaiyu 2
URL:https://letsdrift.co.ke/drift/she-wild-2/
CATEGORIES:Freemium,Moderate
ATTACH;FMTTYPE=image/jpeg:https://letsdrift.co.ke/wp-content/uploads/2021/06/1623881716523-01-1-scaled.jpeg
END:VEVENT
BEGIN:VEVENT
DTSTART;TZID=Europe/Moscow:20260313T063000
DTEND;TZID=Europe/Moscow:20260313T153000
DTSTAMP:20260420T082013
CREATED:20260301T200924Z
LAST-MODIFIED:20260325T030236Z
UID:10004957-1773383400-1773415800@letsdrift.co.ke
SUMMARY:Kanunga + Twin Falls
DESCRIPTION:Experience Drifter’s favorite duff mpararo (River swimming) trail with Ngare Ndare vibes of blue crispy waters flowing from Ndakaini dam \n✌️PS: This trail includes a section of walking on tarmac
URL:https://letsdrift.co.ke/drift/kanunga-twin-falls/
CATEGORIES:Freemium,Moderate
ATTACH;FMTTYPE=image/jpeg:https://letsdrift.co.ke/wp-content/uploads/2021/08/KNGA.jpg
END:VEVENT
BEGIN:VEVENT
DTSTART;TZID=Europe/Moscow:20260314T043000
DTEND;TZID=Europe/Moscow:20260314T160000
DTSTAMP:20260420T082013
CREATED:20260103T082525Z
LAST-MODIFIED:20260313T090018Z
UID:10003237-1773462600-1773504000@letsdrift.co.ke
SUMMARY:Mt Satima
DESCRIPTION:Mt. Satima\, also called Oldoinyo Lesatima\, is the highest peak in the Aberdares and the third highest in Kenya. On the northern side of the Aberdare Range\, the trail leads through bogs and moorlands to a rock formation called “Dragon’s Teeth” that is out of this world. and finally to the top of Mt. Satima. \nFeature Image courtesy of Donald Mwangi
URL:https://letsdrift.co.ke/drift/mt-satima/2026-03-14/
CATEGORIES:Challenging,Premium
ATTACH;FMTTYPE=image/jpeg:https://letsdrift.co.ke/wp-content/uploads/2021/09/Dragons.jpg
END:VEVENT
END:VCALENDAR