					BEGIN:VCALENDAR
VERSION:2.0
PRODID:-//Lets Drift - ECPv6.3.0//NONSGML v1.0//EN
CALSCALE:GREGORIAN
METHOD:PUBLISH
X-ORIGINAL-URL:https://letsdrift.co.ke
X-WR-CALDESC:Events for Lets Drift
REFRESH-INTERVAL;VALUE=DURATION:PT1H
X-Robots-Tag:noindex
X-PUBLISHED-TTL:PT1H
BEGIN:VTIMEZONE
TZID:Europe/Moscow
BEGIN:STANDARD
TZOFFSETFROM:+0300
TZOFFSETTO:+0300
TZNAME:MSK
DTSTART:20260101T000000
END:STANDARD
END:VTIMEZONE
BEGIN:VEVENT
DTSTART;TZID=Europe/Moscow:20260513T073000
DTEND;TZID=Europe/Moscow:20260513T150000
DTSTAMP:20260420T033342
CREATED:20260219T213421Z
LAST-MODIFIED:20260416T192234Z
UID:10005016-1778657400-1778684400@letsdrift.co.ke
SUMMARY:KeFRI Walk
DESCRIPTION:If you’re a forest lover\, you can’t afford to miss out on the Kefri trails. You get to enjoy walking through both natural and planted forests as the crisp air fills your lungs and birds sing in the trees.
URL:https://letsdrift.co.ke/drift/kefri-walk-3-2/2026-05-13/
CATEGORIES:Beginner Friendly,Freemium
ATTACH;FMTTYPE=image/jpeg:https://letsdrift.co.ke/wp-content/uploads/2021/06/2020-10-21-095118581-scaled-e1625433019517.jpg
END:VEVENT
BEGIN:VEVENT
DTSTART;TZID=Europe/Moscow:20260515T073000
DTEND;TZID=Europe/Moscow:20260515T150000
DTSTAMP:20260420T033342
CREATED:20260102T132544Z
LAST-MODIFIED:20260416T192702Z
UID:10005017-1778830200-1778857200@letsdrift.co.ke
SUMMARY:Bathi Walk
DESCRIPTION:Fresh and exhilarating\, the air in these forest trails will make you feel like you’ve escaped civilization. People in search of a relaxing stroll will find bliss on this trail.
URL:https://letsdrift.co.ke/drift/bathi-walk-3/2026-05-15/
CATEGORIES:Beginner Friendly,Freemium
ATTACH;FMTTYPE=image/jpeg:https://letsdrift.co.ke/wp-content/uploads/2021/06/anne_ciku_20211129_1.jpg
END:VEVENT
BEGIN:VEVENT
DTSTART;TZID=Europe/Moscow:20260516T063000
DTEND;TZID=Europe/Moscow:20260516T163000
DTSTAMP:20260420T033342
CREATED:20251227T163019Z
LAST-MODIFIED:20260416T193944Z
UID:10005020-1778913000-1778949000@letsdrift.co.ke
SUMMARY:Mt Kilimambogo
DESCRIPTION:The buffalo mountain is a fair\, friendly terrain for anyone wanting to kick off their mountaineering journey. Views en route encompass MacMillan’s gravesite. The Delmonte plantation beautifies the horizons as the communication boosters at the summit wow a curious hiker. Monkeys might be the only visible wildlife while the century-old trees give Alice in Wonderland an aura thanks to their hanging moss. \nCover image courtesy of Cosmas Rotich
URL:https://letsdrift.co.ke/drift/mt-kilimambogo-3/2026-05-16/
CATEGORIES:Challenging,Freemium
ATTACH;FMTTYPE=image/jpeg:https://letsdrift.co.ke/wp-content/uploads/2021/06/2020-09-17-083804942-01-scaled-e1625346368437.jpeg
END:VEVENT
BEGIN:VEVENT
DTSTART;TZID=Europe/Moscow:20260523T053000
DTEND;TZID=Europe/Moscow:20260523T190000
DTSTAMP:20260420T033342
CREATED:20260102T174118Z
LAST-MODIFIED:20260418T193940Z
UID:10005025-1779514200-1779562800@letsdrift.co.ke
SUMMARY:Kiima Kimwe
DESCRIPTION:This trail is perfect for anyone who loves epic views. It’s a beautiful\, adventurous route that blends scenic hill climbs with the striking landscapes of Machakos County\, featuring a unique 1 km walk through the dramatic Mwania River gorges for a truly memorable hiking experience.
URL:https://letsdrift.co.ke/drift/kiima-kimwe/2026-05-23/
CATEGORIES:Moderate,Premium
ATTACH;FMTTYPE=image/jpeg:https://letsdrift.co.ke/wp-content/uploads/2026/01/Kiima-Kimwe.webp
END:VEVENT
BEGIN:VEVENT
DTSTART;TZID=Europe/Moscow:20260523T063000
DTEND;TZID=Europe/Moscow:20260523T163000
DTSTAMP:20260420T033342
CREATED:20260103T085553Z
LAST-MODIFIED:20260418T194434Z
UID:10005026-1779517800-1779553800@letsdrift.co.ke
SUMMARY:Kedong Trek
DESCRIPTION:Starting at the historic Mai Mahiu Traveller’s Church\, the smallest of its kind built by Italian prisoners of war in 1942\, this trail takes you through the scenic Kedong Valley\, crosses Mt. Margaret\, and concludes at Mai Mahiu Town.
URL:https://letsdrift.co.ke/drift/kedong-trek-2/2026-05-23/
CATEGORIES:Freemium,Moderate
ATTACH;FMTTYPE=image/jpeg:https://letsdrift.co.ke/wp-content/uploads/2021/09/Kedong.jpg
END:VEVENT
BEGIN:VEVENT
DTSTART;TZID=Europe/Moscow:20260524T060000
DTEND;TZID=Europe/Moscow:20260524T170000
DTSTAMP:20260420T033342
CREATED:20260219T213056Z
LAST-MODIFIED:20260418T195416Z
UID:10005028-1779602400-1779642000@letsdrift.co.ke
SUMMARY:William Hill
DESCRIPTION:Standing at approx. 2300m ASL William hill summit offers a good vantage point for a breathtaking panoramic view of the Great Rift Valley. The hill is part of the greater Kikuyu escarpment. From the floor of the rift valley for about 10km to the hike\, you get to see Osotua camp and Namcha ranch. As you ascend the hill\, you get to learn the history of the area where over 100 people were killed in what is known as Kedong massacre. You will also see the Olonana boundary among other features.
URL:https://letsdrift.co.ke/drift/william-hill-2-2/2026-05-24/
CATEGORIES:Challenging,Freemium
ATTACH;FMTTYPE=image/jpeg:https://letsdrift.co.ke/wp-content/uploads/2021/08/william-hill.jpg
END:VEVENT
BEGIN:VEVENT
DTSTART;TZID=Europe/Moscow:20260530T043000
DTEND;TZID=Europe/Moscow:20260530T200000
DTSTAMP:20260420T033342
CREATED:20260111T085726Z
LAST-MODIFIED:20260419T065920Z
UID:10005038-1780115400-1780171200@letsdrift.co.ke
SUMMARY:Table Mountain + 7 Ponds
DESCRIPTION:At 3831m asl\, Table mountain + Seven ponds trail gives you the whole package of a breathtaking summit\, a terrain to challenge and push your endurance\, and high altitude conditioning. The trail is a little steep at the start but gets gentle as you hike up and even more easy since the summit is flat. Truly a worthwhile experience \nFeature image courtesy of Verialet
URL:https://letsdrift.co.ke/drift/table-mountain-7-ponds-2/2026-05-30/
CATEGORIES:Challenging,Premium
ATTACH;FMTTYPE=image/jpeg:https://letsdrift.co.ke/wp-content/uploads/2022/05/PHOTO-2022-05-08-21-51-46.jpg
END:VEVENT
BEGIN:VEVENT
DTSTART;TZID=Europe/Moscow:20260530T070000
DTEND;TZID=Europe/Moscow:20260530T160000
DTSTAMP:20260420T033342
CREATED:20260102T172019Z
LAST-MODIFIED:20260419T064440Z
UID:10005035-1780124400-1780156800@letsdrift.co.ke
SUMMARY:Ihiga Ria Guoya
DESCRIPTION:Ihiga Ria Guoya translated The Stone of Fear is a rock that reclines in Ndeiya\, Limuru. Due to the fragility with which the majestic rock reclines while being supported by a small rock\, it was given this name. According to legend\, boys were required to scale the rock prior to becoming men. Ihiga ria nyondo\, often known as ‘Boobs rock’ due to its resemblance to a woman’s breast\, is a magnificent rock located just a few meters away from the main attraction. \n 
URL:https://letsdrift.co.ke/drift/ihiga-ria-guoya/2026-05-30/
CATEGORIES:Freemium,Moderate
ATTACH;FMTTYPE=image/jpeg:https://letsdrift.co.ke/wp-content/uploads/2021/09/IHIGA.jpg
END:VEVENT
BEGIN:VEVENT
DTSTART;TZID=Europe/Moscow:20260531T143000
DTEND;TZID=Europe/Moscow:20260531T173000
DTSTAMP:20260420T033342
CREATED:20260301T193749Z
LAST-MODIFIED:20260419T064939Z
UID:10005036-1780237800-1780248600@letsdrift.co.ke
SUMMARY:Tigoni PhotoWalk
DESCRIPTION:Location: Ravenswood \nThe Tigoni Photowalk is a guided creative walk through the scenic private Ravenswood Farm designed for people who love photography\, storytelling\, and slow observation. \nWe move at an unhurried pace\, stopping often to notice light\, texture\, people\, and landscapes. Along the way\, you’ll receive guidance on composition\, framing\, and seeing differently\, whether you’re shooting with a phone or a camera. \nThis isn’t about perfect shots. It’s about presence\, curiosity\, and learning to see again.
URL:https://letsdrift.co.ke/drift/tigoni-photowalk/2026-05-31/
CATEGORIES:Beginner Friendly
ATTACH;FMTTYPE=image/jpeg:https://letsdrift.co.ke/wp-content/uploads/2026/03/Tigoni-Photowalk.webp
END:VEVENT
BEGIN:VEVENT
DTSTART;TZID=Europe/Moscow:20260711T043000
DTEND;TZID=Europe/Moscow:20260711T210000
DTSTAMP:20260420T033342
CREATED:20260102T145934Z
LAST-MODIFIED:20260205T103958Z
UID:10003219-1783744200-1783803600@letsdrift.co.ke
SUMMARY:Mackinders-Teleki valley
DESCRIPTION:Mackinder’s  is a bucket list adventure that every thrill-seeking hiker dreams of tackling. Nestled in the rugged terrain of the Naro Moru route\, this challenging trail will push your limits and test your endurance. The starting point at the Met station\, perched at a dizzying 3048 meters above sea level\, is just the beginning of your journey. As you make your way up the mountain\, you’ll be treated to a stunning array of flora\, from dense bamboo forests to windswept moorland\, and you may even catch a glimpse of the giant lobelia plants that tower above the landscape. But the real reward comes when you reach the summit\, where you’ll be rewarded with breathtaking views and the sense of accomplishment that comes with conquering one of the most epic trails in the world.
URL:https://letsdrift.co.ke/drift/mackinders-teleki-valley/2026-07-11/
CATEGORIES:Challenging,Premium
ATTACH;FMTTYPE=image/jpeg:https://letsdrift.co.ke/wp-content/uploads/2022/12/Mckinders.jpg
END:VEVENT
BEGIN:VEVENT
DTSTART;TZID=Europe/Moscow:20260808T043000
DTEND;TZID=Europe/Moscow:20260808T160000
DTSTAMP:20260420T033342
CREATED:20260103T082525Z
LAST-MODIFIED:20260313T090018Z
UID:10003238-1786163400-1786204800@letsdrift.co.ke
SUMMARY:Mt Satima
DESCRIPTION:Mt. Satima\, also called Oldoinyo Lesatima\, is the highest peak in the Aberdares and the third highest in Kenya. On the northern side of the Aberdare Range\, the trail leads through bogs and moorlands to a rock formation called “Dragon’s Teeth” that is out of this world. and finally to the top of Mt. Satima. \nFeature Image courtesy of Donald Mwangi
URL:https://letsdrift.co.ke/drift/mt-satima/2026-08-08/
CATEGORIES:Challenging,Premium
ATTACH;FMTTYPE=image/jpeg:https://letsdrift.co.ke/wp-content/uploads/2021/09/Dragons.jpg
END:VEVENT
BEGIN:VEVENT
DTSTART;TZID=Europe/Moscow:20260813T060000
DTEND;TZID=Europe/Moscow:20260816T170000
DTSTAMP:20260420T033342
CREATED:20260104T194438Z
LAST-MODIFIED:20260104T194438Z
UID:10003250-1786600800-1786899600@letsdrift.co.ke
SUMMARY:Mt Kenya
DESCRIPTION:We invite you to join us on a trip of a lifetime to Point Lenana\, Africa’s second-highest mountain at an altitude of 4\,985 meters. Ascending this peak through the Chogoria trail has become the most magnificent way to do it. Spend a night by the refreshing waters of Lake Ellis\, Halls Tarn\, or Lake Michaelson. Experience perfect stargazing and breathtaking sunrises.
URL:https://letsdrift.co.ke/drift/mt-kenya-2/2026-08-13/
CATEGORIES:Challenging,Premium
ATTACH;FMTTYPE=image/jpeg:https://letsdrift.co.ke/wp-content/uploads/2021/09/Mt-kenya.jpg
END:VEVENT
BEGIN:VEVENT
DTSTART;TZID=Europe/Moscow:20260905T050000
DTEND;TZID=Europe/Moscow:20260905T183000
DTSTAMP:20260420T033342
CREATED:20251227T161522Z
LAST-MODIFIED:20260103T081150Z
UID:10003235-1788584400-1788633000@letsdrift.co.ke
SUMMARY:Elephant Hill
DESCRIPTION:Elephant Hill may make or break a hiker\, a great test for novice and experienced hikers alike. Located at an elevation of 3\,658 meters above sea level\, the trail begins at the Njabini Forest Station gate and travels to the peak and back for 18 kilometers. It takes about 7-8 hours to make the round trip\, assuming a reasonable pace.
URL:https://letsdrift.co.ke/drift/elephant-hill-2/2026-09-05/
CATEGORIES:Challenging,Premium
ATTACH;FMTTYPE=image/png:https://letsdrift.co.ke/wp-content/uploads/2021/10/Website-updated-images-2.png
END:VEVENT
BEGIN:VEVENT
DTSTART;TZID=Europe/Moscow:20260926T043000
DTEND;TZID=Europe/Moscow:20260926T210000
DTSTAMP:20260420T033342
CREATED:20260102T183241Z
LAST-MODIFIED:20260207T113451Z
UID:10003234-1790397000-1790456400@letsdrift.co.ke
SUMMARY:Rurimeria
DESCRIPTION:The Rurimeria trail has a series of four ridges\, the first being the steepest and the hardest as you gain altitude. Rurimeria Hill is 3\,860 m (12\,670 ft) above sea level. It’s the third-highest hill of the Aberdares and considered among the toughest. The beautiful trail has lots of colorful mountainous vegetation and gorgeous landscape views to soak in with every step!
URL:https://letsdrift.co.ke/drift/rurimeria-2/2026-09-26/
CATEGORIES:Challenging,Premium
ATTACH;FMTTYPE=image/jpeg:https://letsdrift.co.ke/wp-content/uploads/2021/09/RURIMERIA.jpg
END:VEVENT
END:VCALENDAR