					BEGIN:VCALENDAR
VERSION:2.0
PRODID:-//Lets Drift - ECPv6.3.0//NONSGML v1.0//EN
CALSCALE:GREGORIAN
METHOD:PUBLISH
X-WR-CALNAME:Lets Drift
X-ORIGINAL-URL:https://letsdrift.co.ke
X-WR-CALDESC:Events for Lets Drift
REFRESH-INTERVAL;VALUE=DURATION:PT1H
X-Robots-Tag:noindex
X-PUBLISHED-TTL:PT1H
BEGIN:VTIMEZONE
TZID:Europe/Moscow
BEGIN:STANDARD
TZOFFSETFROM:+0300
TZOFFSETTO:+0300
TZNAME:MSK
DTSTART:20250101T000000
END:STANDARD
END:VTIMEZONE
BEGIN:VEVENT
DTSTART;TZID=Europe/Moscow:20250903T090000
DTEND;TZID=Europe/Moscow:20250903T180000
DTSTAMP:20260419T205236
CREATED:20240319T110210Z
LAST-MODIFIED:20260330T094040Z
UID:10004369-1756890000-1756922400@letsdrift.co.ke
SUMMARY:Tigoni E-bike Tours
DESCRIPTION:Discover the stunning beauty of Tigoni with our exhilarating e-bike tours. Effortlessly navigate through lush\, green terrains and immerse yourself in the natural splendor that surrounds you. Experience the thrill of cycling in Tigoni\, where every turn unveils a new adventure..
URL:https://letsdrift.co.ke/drift/e-bike-tours-tigoni/2025-09-03/
LOCATION:Ravenswood Escape
CATEGORIES:Cycling,Ebike tours,Premium,Tigoni Life
ATTACH;FMTTYPE=image/jpeg:https://letsdrift.co.ke/wp-content/uploads/2024/03/2.jpg
END:VEVENT
BEGIN:VEVENT
DTSTART;TZID=Europe/Moscow:20250905T090000
DTEND;TZID=Europe/Moscow:20250905T180000
DTSTAMP:20260419T205236
CREATED:20240319T110210Z
LAST-MODIFIED:20260330T094040Z
UID:10004370-1757062800-1757095200@letsdrift.co.ke
SUMMARY:Tigoni E-bike Tours
DESCRIPTION:Discover the stunning beauty of Tigoni with our exhilarating e-bike tours. Effortlessly navigate through lush\, green terrains and immerse yourself in the natural splendor that surrounds you. Experience the thrill of cycling in Tigoni\, where every turn unveils a new adventure..
URL:https://letsdrift.co.ke/drift/e-bike-tours-tigoni/2025-09-05/
LOCATION:Ravenswood Escape
CATEGORIES:Cycling,Ebike tours,Premium,Tigoni Life
ATTACH;FMTTYPE=image/jpeg:https://letsdrift.co.ke/wp-content/uploads/2024/03/2.jpg
END:VEVENT
BEGIN:VEVENT
DTSTART;TZID=Europe/Moscow:20250906T063000
DTEND;TZID=Europe/Moscow:20250906T163000
DTSTAMP:20260419T205236
CREATED:20241212T130812Z
LAST-MODIFIED:20250903T085218Z
UID:10001386-1757140200-1757176200@letsdrift.co.ke
SUMMARY:Mt Kilimambogo
DESCRIPTION:The buffalo mountain is a fair\, friendly terrain for anyone wanting to kick off their mountaineering journey. Views en route encompass MacMillan’s gravesite. The Delmonte plantation beautifies the horizons as the communication boosters at the summit wow a curious hiker. Monkeys might be the only visible wildlife while the century-old trees give Alice in Wonderland an aura thanks to their hanging moss.
URL:https://letsdrift.co.ke/drift/mt-kilimambogo-2/
LOCATION:Kilimambogo
CATEGORIES:Freemium
ATTACH;FMTTYPE=image/jpeg:https://letsdrift.co.ke/wp-content/uploads/2021/06/2020-09-17-083804942-01-scaled-e1625346368437.jpeg
END:VEVENT
BEGIN:VEVENT
DTSTART;TZID=Europe/Moscow:20250906T090000
DTEND;TZID=Europe/Moscow:20250906T180000
DTSTAMP:20260419T205236
CREATED:20240319T110210Z
LAST-MODIFIED:20260330T094040Z
UID:10002495-1757149200-1757181600@letsdrift.co.ke
SUMMARY:Tigoni E-bike Tours
DESCRIPTION:Discover the stunning beauty of Tigoni with our exhilarating e-bike tours. Effortlessly navigate through lush\, green terrains and immerse yourself in the natural splendor that surrounds you. Experience the thrill of cycling in Tigoni\, where every turn unveils a new adventure..
URL:https://letsdrift.co.ke/drift/e-bike-tours-tigoni/2025-09-06/
LOCATION:Ravenswood Escape
CATEGORIES:Cycling,Ebike tours,Premium,Tigoni Life
ATTACH;FMTTYPE=image/jpeg:https://letsdrift.co.ke/wp-content/uploads/2024/03/2.jpg
END:VEVENT
BEGIN:VEVENT
DTSTART;TZID=Europe/Moscow:20250907T090000
DTEND;TZID=Europe/Moscow:20250907T180000
DTSTAMP:20260419T205236
CREATED:20240319T110210Z
LAST-MODIFIED:20260330T094040Z
UID:10002496-1757235600-1757268000@letsdrift.co.ke
SUMMARY:Tigoni E-bike Tours
DESCRIPTION:Discover the stunning beauty of Tigoni with our exhilarating e-bike tours. Effortlessly navigate through lush\, green terrains and immerse yourself in the natural splendor that surrounds you. Experience the thrill of cycling in Tigoni\, where every turn unveils a new adventure..
URL:https://letsdrift.co.ke/drift/e-bike-tours-tigoni/2025-09-07/
LOCATION:Ravenswood Escape
CATEGORIES:Cycling,Ebike tours,Premium,Tigoni Life
ATTACH;FMTTYPE=image/jpeg:https://letsdrift.co.ke/wp-content/uploads/2024/03/2.jpg
END:VEVENT
BEGIN:VEVENT
DTSTART;TZID=Europe/Moscow:20250910T090000
DTEND;TZID=Europe/Moscow:20250910T180000
DTSTAMP:20260419T205236
CREATED:20240319T110210Z
LAST-MODIFIED:20260330T094040Z
UID:10004371-1757494800-1757527200@letsdrift.co.ke
SUMMARY:Tigoni E-bike Tours
DESCRIPTION:Discover the stunning beauty of Tigoni with our exhilarating e-bike tours. Effortlessly navigate through lush\, green terrains and immerse yourself in the natural splendor that surrounds you. Experience the thrill of cycling in Tigoni\, where every turn unveils a new adventure..
URL:https://letsdrift.co.ke/drift/e-bike-tours-tigoni/2025-09-10/
LOCATION:Ravenswood Escape
CATEGORIES:Cycling,Ebike tours,Premium,Tigoni Life
ATTACH;FMTTYPE=image/jpeg:https://letsdrift.co.ke/wp-content/uploads/2024/03/2.jpg
END:VEVENT
BEGIN:VEVENT
DTSTART;TZID=Europe/Moscow:20250912T090000
DTEND;TZID=Europe/Moscow:20250912T180000
DTSTAMP:20260419T205236
CREATED:20240319T110210Z
LAST-MODIFIED:20260330T094040Z
UID:10004372-1757667600-1757700000@letsdrift.co.ke
SUMMARY:Tigoni E-bike Tours
DESCRIPTION:Discover the stunning beauty of Tigoni with our exhilarating e-bike tours. Effortlessly navigate through lush\, green terrains and immerse yourself in the natural splendor that surrounds you. Experience the thrill of cycling in Tigoni\, where every turn unveils a new adventure..
URL:https://letsdrift.co.ke/drift/e-bike-tours-tigoni/2025-09-12/
LOCATION:Ravenswood Escape
CATEGORIES:Cycling,Ebike tours,Premium,Tigoni Life
ATTACH;FMTTYPE=image/jpeg:https://letsdrift.co.ke/wp-content/uploads/2024/03/2.jpg
END:VEVENT
BEGIN:VEVENT
DTSTART;TZID=Europe/Moscow:20250913T060000
DTEND;TZID=Europe/Moscow:20250913T170000
DTSTAMP:20260419T205236
CREATED:20220223T095004Z
LAST-MODIFIED:20250903T085747Z
UID:10000336-1757743200-1757782800@letsdrift.co.ke
SUMMARY:Kinale Trek
DESCRIPTION:Kinale is a floral mosaic where orchids grow in plenty\, as well as bamboo stalks due to the area’s high altitude. As you walk into the forest\, the trees of Kinale tower over you. In the early morning\, the fog takes precedence over the pathways and you’d probably need a torch to find your way through this forest. Be sure to carry your camera to capture the fog that evokes ” the horror type of vibes” in the wee morning hours. \n 
URL:https://letsdrift.co.ke/drift/kinale-trek/
LOCATION:Kinale Forest\, kiambu\, gatundu\, Kenya
CATEGORIES:Freemium,Moderate
ATTACH;FMTTYPE=image/jpeg:https://letsdrift.co.ke/wp-content/uploads/2021/08/17.jpg
END:VEVENT
BEGIN:VEVENT
DTSTART;TZID=Europe/Moscow:20250913T090000
DTEND;TZID=Europe/Moscow:20250913T180000
DTSTAMP:20260419T205236
CREATED:20240319T110210Z
LAST-MODIFIED:20260330T094040Z
UID:10002497-1757754000-1757786400@letsdrift.co.ke
SUMMARY:Tigoni E-bike Tours
DESCRIPTION:Discover the stunning beauty of Tigoni with our exhilarating e-bike tours. Effortlessly navigate through lush\, green terrains and immerse yourself in the natural splendor that surrounds you. Experience the thrill of cycling in Tigoni\, where every turn unveils a new adventure..
URL:https://letsdrift.co.ke/drift/e-bike-tours-tigoni/2025-09-13/
LOCATION:Ravenswood Escape
CATEGORIES:Cycling,Ebike tours,Premium,Tigoni Life
ATTACH;FMTTYPE=image/jpeg:https://letsdrift.co.ke/wp-content/uploads/2024/03/2.jpg
END:VEVENT
BEGIN:VEVENT
DTSTART;TZID=Europe/Moscow:20250914T090000
DTEND;TZID=Europe/Moscow:20250914T180000
DTSTAMP:20260419T205236
CREATED:20240319T110210Z
LAST-MODIFIED:20260330T094040Z
UID:10002498-1757840400-1757872800@letsdrift.co.ke
SUMMARY:Tigoni E-bike Tours
DESCRIPTION:Discover the stunning beauty of Tigoni with our exhilarating e-bike tours. Effortlessly navigate through lush\, green terrains and immerse yourself in the natural splendor that surrounds you. Experience the thrill of cycling in Tigoni\, where every turn unveils a new adventure..
URL:https://letsdrift.co.ke/drift/e-bike-tours-tigoni/2025-09-14/
LOCATION:Ravenswood Escape
CATEGORIES:Cycling,Ebike tours,Premium,Tigoni Life
ATTACH;FMTTYPE=image/jpeg:https://letsdrift.co.ke/wp-content/uploads/2024/03/2.jpg
END:VEVENT
BEGIN:VEVENT
DTSTART;TZID=Europe/Moscow:20250917T090000
DTEND;TZID=Europe/Moscow:20250917T180000
DTSTAMP:20260419T205236
CREATED:20240319T110210Z
LAST-MODIFIED:20260330T094040Z
UID:10004373-1758099600-1758132000@letsdrift.co.ke
SUMMARY:Tigoni E-bike Tours
DESCRIPTION:Discover the stunning beauty of Tigoni with our exhilarating e-bike tours. Effortlessly navigate through lush\, green terrains and immerse yourself in the natural splendor that surrounds you. Experience the thrill of cycling in Tigoni\, where every turn unveils a new adventure..
URL:https://letsdrift.co.ke/drift/e-bike-tours-tigoni/2025-09-17/
LOCATION:Ravenswood Escape
CATEGORIES:Cycling,Ebike tours,Premium,Tigoni Life
ATTACH;FMTTYPE=image/jpeg:https://letsdrift.co.ke/wp-content/uploads/2024/03/2.jpg
END:VEVENT
BEGIN:VEVENT
DTSTART;TZID=Europe/Moscow:20250919T090000
DTEND;TZID=Europe/Moscow:20250919T180000
DTSTAMP:20260419T205236
CREATED:20240319T110210Z
LAST-MODIFIED:20260330T094040Z
UID:10004374-1758272400-1758304800@letsdrift.co.ke
SUMMARY:Tigoni E-bike Tours
DESCRIPTION:Discover the stunning beauty of Tigoni with our exhilarating e-bike tours. Effortlessly navigate through lush\, green terrains and immerse yourself in the natural splendor that surrounds you. Experience the thrill of cycling in Tigoni\, where every turn unveils a new adventure..
URL:https://letsdrift.co.ke/drift/e-bike-tours-tigoni/2025-09-19/
LOCATION:Ravenswood Escape
CATEGORIES:Cycling,Ebike tours,Premium,Tigoni Life
ATTACH;FMTTYPE=image/jpeg:https://letsdrift.co.ke/wp-content/uploads/2024/03/2.jpg
END:VEVENT
BEGIN:VEVENT
DTSTART;TZID=Europe/Moscow:20250920T060000
DTEND;TZID=Europe/Moscow:20250920T160000
DTSTAMP:20260419T205236
CREATED:20210820T004026Z
LAST-MODIFIED:20250903T090308Z
UID:10000276-1758348000-1758384000@letsdrift.co.ke
SUMMARY:William Hill
DESCRIPTION:Standing at approx. 2300m ASL William hill summit offers a good vantage point for a breathtaking panoramic view of the Great Rift Valley. The hill is part of the greater Kikuyu escarpment. From the floor of the rift valley for about 10km to the hike\, you get to see Osotua camp and Namcha ranch. As you ascend the hill\, you get to learn the history of the area where over 100 people were killed in what is known as Kedong massacre. You will also see the Olonana boundary among other features.
URL:https://letsdrift.co.ke/drift/william-hill/
LOCATION:Maimahiu\, Kenya
CATEGORIES:Challenging,Freemium
ATTACH;FMTTYPE=image/jpeg:https://letsdrift.co.ke/wp-content/uploads/2021/08/william-hill.jpg
END:VEVENT
BEGIN:VEVENT
DTSTART;TZID=Europe/Moscow:20250920T090000
DTEND;TZID=Europe/Moscow:20250920T180000
DTSTAMP:20260419T205236
CREATED:20240319T110210Z
LAST-MODIFIED:20260330T094040Z
UID:10002499-1758358800-1758391200@letsdrift.co.ke
SUMMARY:Tigoni E-bike Tours
DESCRIPTION:Discover the stunning beauty of Tigoni with our exhilarating e-bike tours. Effortlessly navigate through lush\, green terrains and immerse yourself in the natural splendor that surrounds you. Experience the thrill of cycling in Tigoni\, where every turn unveils a new adventure..
URL:https://letsdrift.co.ke/drift/e-bike-tours-tigoni/2025-09-20/
LOCATION:Ravenswood Escape
CATEGORIES:Cycling,Ebike tours,Premium,Tigoni Life
ATTACH;FMTTYPE=image/jpeg:https://letsdrift.co.ke/wp-content/uploads/2024/03/2.jpg
END:VEVENT
BEGIN:VEVENT
DTSTART;TZID=Europe/Moscow:20250921T090000
DTEND;TZID=Europe/Moscow:20250921T180000
DTSTAMP:20260419T205236
CREATED:20240319T110210Z
LAST-MODIFIED:20260330T094040Z
UID:10002500-1758445200-1758477600@letsdrift.co.ke
SUMMARY:Tigoni E-bike Tours
DESCRIPTION:Discover the stunning beauty of Tigoni with our exhilarating e-bike tours. Effortlessly navigate through lush\, green terrains and immerse yourself in the natural splendor that surrounds you. Experience the thrill of cycling in Tigoni\, where every turn unveils a new adventure..
URL:https://letsdrift.co.ke/drift/e-bike-tours-tigoni/2025-09-21/
LOCATION:Ravenswood Escape
CATEGORIES:Cycling,Ebike tours,Premium,Tigoni Life
ATTACH;FMTTYPE=image/jpeg:https://letsdrift.co.ke/wp-content/uploads/2024/03/2.jpg
END:VEVENT
BEGIN:VEVENT
DTSTART;TZID=Europe/Moscow:20250924T090000
DTEND;TZID=Europe/Moscow:20250924T180000
DTSTAMP:20260419T205236
CREATED:20240319T110210Z
LAST-MODIFIED:20260330T094040Z
UID:10004375-1758704400-1758736800@letsdrift.co.ke
SUMMARY:Tigoni E-bike Tours
DESCRIPTION:Discover the stunning beauty of Tigoni with our exhilarating e-bike tours. Effortlessly navigate through lush\, green terrains and immerse yourself in the natural splendor that surrounds you. Experience the thrill of cycling in Tigoni\, where every turn unveils a new adventure..
URL:https://letsdrift.co.ke/drift/e-bike-tours-tigoni/2025-09-24/
LOCATION:Ravenswood Escape
CATEGORIES:Cycling,Ebike tours,Premium,Tigoni Life
ATTACH;FMTTYPE=image/jpeg:https://letsdrift.co.ke/wp-content/uploads/2024/03/2.jpg
END:VEVENT
BEGIN:VEVENT
DTSTART;TZID=Europe/Moscow:20250926T090000
DTEND;TZID=Europe/Moscow:20250926T180000
DTSTAMP:20260419T205236
CREATED:20240319T110210Z
LAST-MODIFIED:20260330T094040Z
UID:10004376-1758877200-1758909600@letsdrift.co.ke
SUMMARY:Tigoni E-bike Tours
DESCRIPTION:Discover the stunning beauty of Tigoni with our exhilarating e-bike tours. Effortlessly navigate through lush\, green terrains and immerse yourself in the natural splendor that surrounds you. Experience the thrill of cycling in Tigoni\, where every turn unveils a new adventure..
URL:https://letsdrift.co.ke/drift/e-bike-tours-tigoni/2025-09-26/
LOCATION:Ravenswood Escape
CATEGORIES:Cycling,Ebike tours,Premium,Tigoni Life
ATTACH;FMTTYPE=image/jpeg:https://letsdrift.co.ke/wp-content/uploads/2024/03/2.jpg
END:VEVENT
BEGIN:VEVENT
DTSTART;TZID=Europe/Moscow:20250927T073000
DTEND;TZID=Europe/Moscow:20250927T150000
DTSTAMP:20260419T205236
CREATED:20250324T090009Z
LAST-MODIFIED:20250903T090756Z
UID:10002979-1758958200-1758985200@letsdrift.co.ke
SUMMARY:Kibathithi Waterfall
DESCRIPTION:This short and scenic trail takes you into a magical forest trail. A magnificent waterfall awaits you to cool off as the trail ends. \n 
URL:https://letsdrift.co.ke/drift/kibathithi-waterfall-3/
LOCATION:Githunguri\, Kiambu
CATEGORIES:Beginner Friendly,Freemium
ATTACH;FMTTYPE=image/png:https://letsdrift.co.ke/wp-content/uploads/2021/11/66.png
END:VEVENT
BEGIN:VEVENT
DTSTART;TZID=Europe/Moscow:20250927T090000
DTEND;TZID=Europe/Moscow:20250927T180000
DTSTAMP:20260419T205236
CREATED:20240319T110210Z
LAST-MODIFIED:20260330T094040Z
UID:10002501-1758963600-1758996000@letsdrift.co.ke
SUMMARY:Tigoni E-bike Tours
DESCRIPTION:Discover the stunning beauty of Tigoni with our exhilarating e-bike tours. Effortlessly navigate through lush\, green terrains and immerse yourself in the natural splendor that surrounds you. Experience the thrill of cycling in Tigoni\, where every turn unveils a new adventure..
URL:https://letsdrift.co.ke/drift/e-bike-tours-tigoni/2025-09-27/
LOCATION:Ravenswood Escape
CATEGORIES:Cycling,Ebike tours,Premium,Tigoni Life
ATTACH;FMTTYPE=image/jpeg:https://letsdrift.co.ke/wp-content/uploads/2024/03/2.jpg
END:VEVENT
BEGIN:VEVENT
DTSTART;TZID=Europe/Moscow:20250928T090000
DTEND;TZID=Europe/Moscow:20250928T180000
DTSTAMP:20260419T205236
CREATED:20240319T110210Z
LAST-MODIFIED:20260330T094040Z
UID:10002502-1759050000-1759082400@letsdrift.co.ke
SUMMARY:Tigoni E-bike Tours
DESCRIPTION:Discover the stunning beauty of Tigoni with our exhilarating e-bike tours. Effortlessly navigate through lush\, green terrains and immerse yourself in the natural splendor that surrounds you. Experience the thrill of cycling in Tigoni\, where every turn unveils a new adventure..
URL:https://letsdrift.co.ke/drift/e-bike-tours-tigoni/2025-09-28/
LOCATION:Ravenswood Escape
CATEGORIES:Cycling,Ebike tours,Premium,Tigoni Life
ATTACH;FMTTYPE=image/jpeg:https://letsdrift.co.ke/wp-content/uploads/2024/03/2.jpg
END:VEVENT
END:VCALENDAR