					BEGIN:VCALENDAR
VERSION:2.0
PRODID:-//Lets Drift - ECPv6.3.0//NONSGML v1.0//EN
CALSCALE:GREGORIAN
METHOD:PUBLISH
X-WR-CALNAME:Lets Drift
X-ORIGINAL-URL:https://letsdrift.co.ke
X-WR-CALDESC:Events for Lets Drift
REFRESH-INTERVAL;VALUE=DURATION:PT1H
X-Robots-Tag:noindex
X-PUBLISHED-TTL:PT1H
BEGIN:VTIMEZONE
TZID:Europe/Moscow
BEGIN:STANDARD
TZOFFSETFROM:+0300
TZOFFSETTO:+0300
TZNAME:MSK
DTSTART:20250101T000000
END:STANDARD
END:VTIMEZONE
BEGIN:VEVENT
DTSTART;TZID=Europe/Moscow:20251001T090000
DTEND;TZID=Europe/Moscow:20251001T180000
DTSTAMP:20260419T191734
CREATED:20240319T110210Z
LAST-MODIFIED:20260330T094040Z
UID:10004377-1759309200-1759341600@letsdrift.co.ke
SUMMARY:Tigoni E-bike Tours
DESCRIPTION:Discover the stunning beauty of Tigoni with our exhilarating e-bike tours. Effortlessly navigate through lush\, green terrains and immerse yourself in the natural splendor that surrounds you. Experience the thrill of cycling in Tigoni\, where every turn unveils a new adventure..
URL:https://letsdrift.co.ke/drift/e-bike-tours-tigoni/2025-10-01/
LOCATION:Ravenswood Escape
CATEGORIES:Cycling,Ebike tours,Premium,Tigoni Life
ATTACH;FMTTYPE=image/jpeg:https://letsdrift.co.ke/wp-content/uploads/2024/03/2.jpg
END:VEVENT
BEGIN:VEVENT
DTSTART;TZID=Europe/Moscow:20251003T090000
DTEND;TZID=Europe/Moscow:20251003T180000
DTSTAMP:20260419T191734
CREATED:20240319T110210Z
LAST-MODIFIED:20260330T094040Z
UID:10004378-1759482000-1759514400@letsdrift.co.ke
SUMMARY:Tigoni E-bike Tours
DESCRIPTION:Discover the stunning beauty of Tigoni with our exhilarating e-bike tours. Effortlessly navigate through lush\, green terrains and immerse yourself in the natural splendor that surrounds you. Experience the thrill of cycling in Tigoni\, where every turn unveils a new adventure..
URL:https://letsdrift.co.ke/drift/e-bike-tours-tigoni/2025-10-03/
LOCATION:Ravenswood Escape
CATEGORIES:Cycling,Ebike tours,Premium,Tigoni Life
ATTACH;FMTTYPE=image/jpeg:https://letsdrift.co.ke/wp-content/uploads/2024/03/2.jpg
END:VEVENT
BEGIN:VEVENT
DTSTART;TZID=Europe/Moscow:20251004T070000
DTEND;TZID=Europe/Moscow:20251004T153000
DTSTAMP:20260419T191734
CREATED:20250318T105052Z
LAST-MODIFIED:20251002T190400Z
UID:10002967-1759561200-1759591800@letsdrift.co.ke
SUMMARY:Kimakia
DESCRIPTION:Embark on a thrilling journey through the Gatanga region\, starting at an old fishing camp and leading to a giant Mugumo tree. From there\, we’ll cross the beautiful Chania River and come upon a stunning double-tier waterfall. This trail\, just like the meaning in Kikuyu\, will surely shock and awe you at every turn. The views of the surrounding landscape are breathtaking\, and the natural beauty of the area will leave you in awe. So come join us on this exciting adventure and discover the hidden wonders of the Gatanga region for yourself! \nFeature image courtesy of Cosmas Rotich
URL:https://letsdrift.co.ke/drift/kimakia-2/
LOCATION:Aberdares\, Nyandarua
CATEGORIES:Beginner Friendly,Freemium,Moderate,Tigoni Life
ATTACH;FMTTYPE=image/jpeg:https://letsdrift.co.ke/wp-content/uploads/2021/09/kimakia.jpg
END:VEVENT
BEGIN:VEVENT
DTSTART;TZID=Europe/Moscow:20251004T073000
DTEND;TZID=Europe/Moscow:20251004T130000
DTSTAMP:20260419T191734
CREATED:20210804T230306Z
LAST-MODIFIED:20251002T190711Z
UID:10000372-1759563000-1759582800@letsdrift.co.ke
SUMMARY:Githiga walk
DESCRIPTION:  \n 
URL:https://letsdrift.co.ke/drift/githiga/
LOCATION:Kiambu
CATEGORIES:Beginner Friendly,Freemium
ATTACH;FMTTYPE=image/jpeg:https://letsdrift.co.ke/wp-content/uploads/2021/08/githiga2.jpg
END:VEVENT
BEGIN:VEVENT
DTSTART;TZID=Europe/Moscow:20251004T090000
DTEND;TZID=Europe/Moscow:20251004T180000
DTSTAMP:20260419T191734
CREATED:20240319T110210Z
LAST-MODIFIED:20260330T094040Z
UID:10002503-1759568400-1759600800@letsdrift.co.ke
SUMMARY:Tigoni E-bike Tours
DESCRIPTION:Discover the stunning beauty of Tigoni with our exhilarating e-bike tours. Effortlessly navigate through lush\, green terrains and immerse yourself in the natural splendor that surrounds you. Experience the thrill of cycling in Tigoni\, where every turn unveils a new adventure..
URL:https://letsdrift.co.ke/drift/e-bike-tours-tigoni/2025-10-04/
LOCATION:Ravenswood Escape
CATEGORIES:Cycling,Ebike tours,Premium,Tigoni Life
ATTACH;FMTTYPE=image/jpeg:https://letsdrift.co.ke/wp-content/uploads/2024/03/2.jpg
END:VEVENT
BEGIN:VEVENT
DTSTART;TZID=Europe/Moscow:20251005T070000
DTEND;TZID=Europe/Moscow:20251005T150000
DTSTAMP:20260419T191734
CREATED:20210804T002124Z
LAST-MODIFIED:20251002T163637Z
UID:10000360-1759647600-1759676400@letsdrift.co.ke
SUMMARY:Ngong Hills
DESCRIPTION:Hike and glance at the far-reaching views over the Rift Valley\, Nairobi National Park\, Mount Suswa volcano\, the Nairobi skyline\, and the Maasai land that reaches down to Lake Magadi. On a clear day\, you can see both Mount Kilimanjaro and Mount Kenya from the hills. \n 
URL:https://letsdrift.co.ke/drift/ngong-hills/
LOCATION:Ngong
CATEGORIES:Challenging,Freemium
ATTACH;FMTTYPE=image/jpeg:https://letsdrift.co.ke/wp-content/uploads/2021/08/27.jpg
END:VEVENT
BEGIN:VEVENT
DTSTART;TZID=Europe/Moscow:20251005T090000
DTEND;TZID=Europe/Moscow:20251005T180000
DTSTAMP:20260419T191734
CREATED:20240319T110210Z
LAST-MODIFIED:20260330T094040Z
UID:10002504-1759654800-1759687200@letsdrift.co.ke
SUMMARY:Tigoni E-bike Tours
DESCRIPTION:Discover the stunning beauty of Tigoni with our exhilarating e-bike tours. Effortlessly navigate through lush\, green terrains and immerse yourself in the natural splendor that surrounds you. Experience the thrill of cycling in Tigoni\, where every turn unveils a new adventure..
URL:https://letsdrift.co.ke/drift/e-bike-tours-tigoni/2025-10-05/
LOCATION:Ravenswood Escape
CATEGORIES:Cycling,Ebike tours,Premium,Tigoni Life
ATTACH;FMTTYPE=image/jpeg:https://letsdrift.co.ke/wp-content/uploads/2024/03/2.jpg
END:VEVENT
BEGIN:VEVENT
DTSTART;TZID=Europe/Moscow:20251008T090000
DTEND;TZID=Europe/Moscow:20251008T180000
DTSTAMP:20260419T191734
CREATED:20240319T110210Z
LAST-MODIFIED:20260330T094040Z
UID:10004379-1759914000-1759946400@letsdrift.co.ke
SUMMARY:Tigoni E-bike Tours
DESCRIPTION:Discover the stunning beauty of Tigoni with our exhilarating e-bike tours. Effortlessly navigate through lush\, green terrains and immerse yourself in the natural splendor that surrounds you. Experience the thrill of cycling in Tigoni\, where every turn unveils a new adventure..
URL:https://letsdrift.co.ke/drift/e-bike-tours-tigoni/2025-10-08/
LOCATION:Ravenswood Escape
CATEGORIES:Cycling,Ebike tours,Premium,Tigoni Life
ATTACH;FMTTYPE=image/jpeg:https://letsdrift.co.ke/wp-content/uploads/2024/03/2.jpg
END:VEVENT
BEGIN:VEVENT
DTSTART;TZID=Europe/Moscow:20251010T090000
DTEND;TZID=Europe/Moscow:20251010T180000
DTSTAMP:20260419T191734
CREATED:20240319T110210Z
LAST-MODIFIED:20260330T094040Z
UID:10004380-1760086800-1760119200@letsdrift.co.ke
SUMMARY:Tigoni E-bike Tours
DESCRIPTION:Discover the stunning beauty of Tigoni with our exhilarating e-bike tours. Effortlessly navigate through lush\, green terrains and immerse yourself in the natural splendor that surrounds you. Experience the thrill of cycling in Tigoni\, where every turn unveils a new adventure..
URL:https://letsdrift.co.ke/drift/e-bike-tours-tigoni/2025-10-10/
LOCATION:Ravenswood Escape
CATEGORIES:Cycling,Ebike tours,Premium,Tigoni Life
ATTACH;FMTTYPE=image/jpeg:https://letsdrift.co.ke/wp-content/uploads/2024/03/2.jpg
END:VEVENT
BEGIN:VEVENT
DTSTART;TZID=Europe/Moscow:20251011T070000
DTEND;TZID=Europe/Moscow:20251011T140000
DTSTAMP:20260419T191734
CREATED:20220829T191543Z
LAST-MODIFIED:20250923T101840Z
UID:10000458-1760166000-1760191200@letsdrift.co.ke
SUMMARY:Kiama Riverline
DESCRIPTION:Gatanga in Murang’a County is home to some of the most beautiful trails\, including the Kiama Riverline Trail. If you want to get away from the hustle and bustle of the city without having to hike too long\, this is the trail for you. Duff mpararo (river swimming) enthusiasts would adore this trail. \n 
URL:https://letsdrift.co.ke/drift/kiama-riverline/
LOCATION:Gatanga
CATEGORIES:Beginner Friendly,Freemium,Moderate
ATTACH;FMTTYPE=image/jpeg:https://letsdrift.co.ke/wp-content/uploads/2022/08/IMG_4214.jpg
END:VEVENT
BEGIN:VEVENT
DTSTART;TZID=Europe/Moscow:20251011T090000
DTEND;TZID=Europe/Moscow:20251011T180000
DTSTAMP:20260419T191734
CREATED:20240319T110210Z
LAST-MODIFIED:20260330T094040Z
UID:10002505-1760173200-1760205600@letsdrift.co.ke
SUMMARY:Tigoni E-bike Tours
DESCRIPTION:Discover the stunning beauty of Tigoni with our exhilarating e-bike tours. Effortlessly navigate through lush\, green terrains and immerse yourself in the natural splendor that surrounds you. Experience the thrill of cycling in Tigoni\, where every turn unveils a new adventure..
URL:https://letsdrift.co.ke/drift/e-bike-tours-tigoni/2025-10-11/
LOCATION:Ravenswood Escape
CATEGORIES:Cycling,Ebike tours,Premium,Tigoni Life
ATTACH;FMTTYPE=image/jpeg:https://letsdrift.co.ke/wp-content/uploads/2024/03/2.jpg
END:VEVENT
BEGIN:VEVENT
DTSTART;TZID=Europe/Moscow:20251012T090000
DTEND;TZID=Europe/Moscow:20251012T180000
DTSTAMP:20260419T191734
CREATED:20240319T110210Z
LAST-MODIFIED:20260330T094040Z
UID:10002506-1760259600-1760292000@letsdrift.co.ke
SUMMARY:Tigoni E-bike Tours
DESCRIPTION:Discover the stunning beauty of Tigoni with our exhilarating e-bike tours. Effortlessly navigate through lush\, green terrains and immerse yourself in the natural splendor that surrounds you. Experience the thrill of cycling in Tigoni\, where every turn unveils a new adventure..
URL:https://letsdrift.co.ke/drift/e-bike-tours-tigoni/2025-10-12/
LOCATION:Ravenswood Escape
CATEGORIES:Cycling,Ebike tours,Premium,Tigoni Life
ATTACH;FMTTYPE=image/jpeg:https://letsdrift.co.ke/wp-content/uploads/2024/03/2.jpg
END:VEVENT
BEGIN:VEVENT
DTSTART;TZID=Europe/Moscow:20251015T090000
DTEND;TZID=Europe/Moscow:20251015T180000
DTSTAMP:20260419T191734
CREATED:20240319T110210Z
LAST-MODIFIED:20260330T094040Z
UID:10004381-1760518800-1760551200@letsdrift.co.ke
SUMMARY:Tigoni E-bike Tours
DESCRIPTION:Discover the stunning beauty of Tigoni with our exhilarating e-bike tours. Effortlessly navigate through lush\, green terrains and immerse yourself in the natural splendor that surrounds you. Experience the thrill of cycling in Tigoni\, where every turn unveils a new adventure..
URL:https://letsdrift.co.ke/drift/e-bike-tours-tigoni/2025-10-15/
LOCATION:Ravenswood Escape
CATEGORIES:Cycling,Ebike tours,Premium,Tigoni Life
ATTACH;FMTTYPE=image/jpeg:https://letsdrift.co.ke/wp-content/uploads/2024/03/2.jpg
END:VEVENT
BEGIN:VEVENT
DTSTART;TZID=Europe/Moscow:20251017T090000
DTEND;TZID=Europe/Moscow:20251017T180000
DTSTAMP:20260419T191734
CREATED:20240319T110210Z
LAST-MODIFIED:20260330T094040Z
UID:10004382-1760691600-1760724000@letsdrift.co.ke
SUMMARY:Tigoni E-bike Tours
DESCRIPTION:Discover the stunning beauty of Tigoni with our exhilarating e-bike tours. Effortlessly navigate through lush\, green terrains and immerse yourself in the natural splendor that surrounds you. Experience the thrill of cycling in Tigoni\, where every turn unveils a new adventure..
URL:https://letsdrift.co.ke/drift/e-bike-tours-tigoni/2025-10-17/
LOCATION:Ravenswood Escape
CATEGORIES:Cycling,Ebike tours,Premium,Tigoni Life
ATTACH;FMTTYPE=image/jpeg:https://letsdrift.co.ke/wp-content/uploads/2024/03/2.jpg
END:VEVENT
BEGIN:VEVENT
DTSTART;TZID=Europe/Moscow:20251018T063000
DTEND;TZID=Europe/Moscow:20251018T160000
DTSTAMP:20260419T191734
CREATED:20220223T090019Z
LAST-MODIFIED:20251017T160947Z
UID:10000332-1760769000-1760803200@letsdrift.co.ke
SUMMARY:Ol Oroka Ranges
DESCRIPTION:The Ol Oroka massif\, a stunning mountain standing at 2048 meters above sea level at its highest point. Located on the floor of the Great Rift Valleyand is a popular spot for Maasai herders to graze their cattle during the dry season.\nAs you make your way up the slopes of Ol Oroka\, you’ll be treated to breathtaking views of the surrounding landscape\, with the little town of Oltepesi (also known as Tinga) nestled in the valley below. It’s an adventure you won’t soon forget! \n 
URL:https://letsdrift.co.ke/drift/ol-oroka-ranges/
LOCATION:Kajiado
CATEGORIES:Freemium,Moderate
ATTACH;FMTTYPE=image/jpeg:https://letsdrift.co.ke/wp-content/uploads/2022/01/Oloroka-1.jpg
END:VEVENT
BEGIN:VEVENT
DTSTART;TZID=Europe/Moscow:20251018T090000
DTEND;TZID=Europe/Moscow:20251018T180000
DTSTAMP:20260419T191734
CREATED:20240319T110210Z
LAST-MODIFIED:20260330T094040Z
UID:10002507-1760778000-1760810400@letsdrift.co.ke
SUMMARY:Tigoni E-bike Tours
DESCRIPTION:Discover the stunning beauty of Tigoni with our exhilarating e-bike tours. Effortlessly navigate through lush\, green terrains and immerse yourself in the natural splendor that surrounds you. Experience the thrill of cycling in Tigoni\, where every turn unveils a new adventure..
URL:https://letsdrift.co.ke/drift/e-bike-tours-tigoni/2025-10-18/
LOCATION:Ravenswood Escape
CATEGORIES:Cycling,Ebike tours,Premium,Tigoni Life
ATTACH;FMTTYPE=image/jpeg:https://letsdrift.co.ke/wp-content/uploads/2024/03/2.jpg
END:VEVENT
BEGIN:VEVENT
DTSTART;TZID=Europe/Moscow:20251019T080000
DTEND;TZID=Europe/Moscow:20251019T133000
DTSTAMP:20260419T191734
CREATED:20241212T132619Z
LAST-MODIFIED:20251017T073055Z
UID:10001387-1760860800-1760880600@letsdrift.co.ke
SUMMARY:Nifty’s Escape
DESCRIPTION:Nifty Escape offers a leisurely\, beginner-friendly loop trail that begins and ends at the picturesque Nifty Cafe in Tigoni. Winding through lush tea farms and tranquil forest trails\, this relaxing hike is the perfect way to enjoy nature’s beauty. The adventure wraps up with a delightful meal hangout at Nifty\, making it an ideal outing for both nature lovers and food enthusiasts.
URL:https://letsdrift.co.ke/drift/niftys-escape-2/
LOCATION:Tigoni\, Kenya
CATEGORIES:Beginner Friendly,Freemium,New Trails
ATTACH;FMTTYPE=image/jpeg:https://letsdrift.co.ke/wp-content/uploads/2024/12/Website-Banner-Images-1.webp
END:VEVENT
BEGIN:VEVENT
DTSTART;TZID=Europe/Moscow:20251019T090000
DTEND;TZID=Europe/Moscow:20251019T180000
DTSTAMP:20260419T191734
CREATED:20240319T110210Z
LAST-MODIFIED:20260330T094040Z
UID:10002508-1760864400-1760896800@letsdrift.co.ke
SUMMARY:Tigoni E-bike Tours
DESCRIPTION:Discover the stunning beauty of Tigoni with our exhilarating e-bike tours. Effortlessly navigate through lush\, green terrains and immerse yourself in the natural splendor that surrounds you. Experience the thrill of cycling in Tigoni\, where every turn unveils a new adventure..
URL:https://letsdrift.co.ke/drift/e-bike-tours-tigoni/2025-10-19/
LOCATION:Ravenswood Escape
CATEGORIES:Cycling,Ebike tours,Premium,Tigoni Life
ATTACH;FMTTYPE=image/jpeg:https://letsdrift.co.ke/wp-content/uploads/2024/03/2.jpg
END:VEVENT
BEGIN:VEVENT
DTSTART;TZID=Europe/Moscow:20251020T070000
DTEND;TZID=Europe/Moscow:20251020T143000
DTSTAMP:20260419T191734
CREATED:20250318T111101Z
LAST-MODIFIED:20250923T114637Z
UID:10002971-1760943600-1760970600@letsdrift.co.ke
SUMMARY:Majiri
DESCRIPTION:This trail begins at Kamwangi Town in Gatundu and takes you to two stunning waterfalls. The first features water pipes crossing a scenic valley\, and the second\, larger waterfall lies further along the river\, accessible by a steep descent and has a perfect for spot for swimmers.
URL:https://letsdrift.co.ke/drift/majiri-4/
LOCATION:Gatundu
CATEGORIES:Freemium,Moderate
ATTACH;FMTTYPE=image/jpeg:https://letsdrift.co.ke/wp-content/uploads/2024/12/7-jpg.webp
END:VEVENT
BEGIN:VEVENT
DTSTART;TZID=Europe/Moscow:20251022T090000
DTEND;TZID=Europe/Moscow:20251022T180000
DTSTAMP:20260419T191734
CREATED:20240319T110210Z
LAST-MODIFIED:20260330T094040Z
UID:10004383-1761123600-1761156000@letsdrift.co.ke
SUMMARY:Tigoni E-bike Tours
DESCRIPTION:Discover the stunning beauty of Tigoni with our exhilarating e-bike tours. Effortlessly navigate through lush\, green terrains and immerse yourself in the natural splendor that surrounds you. Experience the thrill of cycling in Tigoni\, where every turn unveils a new adventure..
URL:https://letsdrift.co.ke/drift/e-bike-tours-tigoni/2025-10-22/
LOCATION:Ravenswood Escape
CATEGORIES:Cycling,Ebike tours,Premium,Tigoni Life
ATTACH;FMTTYPE=image/jpeg:https://letsdrift.co.ke/wp-content/uploads/2024/03/2.jpg
END:VEVENT
BEGIN:VEVENT
DTSTART;TZID=Europe/Moscow:20251024T090000
DTEND;TZID=Europe/Moscow:20251024T180000
DTSTAMP:20260419T191734
CREATED:20240319T110210Z
LAST-MODIFIED:20260330T094040Z
UID:10004384-1761296400-1761328800@letsdrift.co.ke
SUMMARY:Tigoni E-bike Tours
DESCRIPTION:Discover the stunning beauty of Tigoni with our exhilarating e-bike tours. Effortlessly navigate through lush\, green terrains and immerse yourself in the natural splendor that surrounds you. Experience the thrill of cycling in Tigoni\, where every turn unveils a new adventure..
URL:https://letsdrift.co.ke/drift/e-bike-tours-tigoni/2025-10-24/
LOCATION:Ravenswood Escape
CATEGORIES:Cycling,Ebike tours,Premium,Tigoni Life
ATTACH;FMTTYPE=image/jpeg:https://letsdrift.co.ke/wp-content/uploads/2024/03/2.jpg
END:VEVENT
BEGIN:VEVENT
DTSTART;TZID=Europe/Moscow:20251025T070000
DTEND;TZID=Europe/Moscow:20251025T150000
DTSTAMP:20260419T191734
CREATED:20210819T232222Z
LAST-MODIFIED:20251017T075951Z
UID:10000273-1761375600-1761404400@letsdrift.co.ke
SUMMARY:Njabini Walk
DESCRIPTION:Njabini is truly a paradise for hikers\, with its stunning views of the Aberdare hills and the lush woodlands around Sasumua dam. Whether you’re an experienced hiker or a novice\, this trail has something for everyone. On a sunny day\, the bright blue sky and the golden sunshine make for a perfect backdrop to your hike. As you make your way along the trail\, you’ll be able to take in the sights and sounds of nature all around you.No matter what you see\, you’ll be sure to leave Njabini feeling refreshed and rejuvenated. So pack your hiking boots and a camera\, and hit the trails!
URL:https://letsdrift.co.ke/drift/njabini/
LOCATION:Njabini
CATEGORIES:Beginner Friendly,Freemium
ATTACH;FMTTYPE=image/jpeg:https://letsdrift.co.ke/wp-content/uploads/2021/08/Njabini-hiking-trail.jpg
END:VEVENT
BEGIN:VEVENT
DTSTART;TZID=Europe/Moscow:20251025T070000
DTEND;TZID=Europe/Moscow:20251025T153000
DTSTAMP:20260419T191734
CREATED:20250321T103508Z
LAST-MODIFIED:20250923T121119Z
UID:10002976-1761375600-1761406200@letsdrift.co.ke
SUMMARY:Kariminu Falls & Dam
DESCRIPTION:Are you a fan of waterfalls? Then you’ll love the Kariminu trail. Accessing them involves going down fairly steep slopes\, so make sure you have sturdy hiking boots. Swimming enthusiasts\, you don’t want to forget your swimwear. \n 
URL:https://letsdrift.co.ke/drift/kariminu-waterfall-and-dam/
LOCATION:Gatundu
CATEGORIES:Freemium,Moderate
ATTACH;FMTTYPE=image/jpeg:https://letsdrift.co.ke/wp-content/uploads/2021/09/kariminu.jpg
END:VEVENT
BEGIN:VEVENT
DTSTART;TZID=Europe/Moscow:20251025T090000
DTEND;TZID=Europe/Moscow:20251025T180000
DTSTAMP:20260419T191734
CREATED:20240319T110210Z
LAST-MODIFIED:20260330T094040Z
UID:10002509-1761382800-1761415200@letsdrift.co.ke
SUMMARY:Tigoni E-bike Tours
DESCRIPTION:Discover the stunning beauty of Tigoni with our exhilarating e-bike tours. Effortlessly navigate through lush\, green terrains and immerse yourself in the natural splendor that surrounds you. Experience the thrill of cycling in Tigoni\, where every turn unveils a new adventure..
URL:https://letsdrift.co.ke/drift/e-bike-tours-tigoni/2025-10-25/
LOCATION:Ravenswood Escape
CATEGORIES:Cycling,Ebike tours,Premium,Tigoni Life
ATTACH;FMTTYPE=image/jpeg:https://letsdrift.co.ke/wp-content/uploads/2024/03/2.jpg
END:VEVENT
BEGIN:VEVENT
DTSTART;TZID=Europe/Moscow:20251026T080000
DTEND;TZID=Europe/Moscow:20251026T140000
DTSTAMP:20260419T191734
CREATED:20240430T092110Z
LAST-MODIFIED:20250923T121802Z
UID:10000563-1761465600-1761487200@letsdrift.co.ke
SUMMARY:Kawamwaki
DESCRIPTION:Embark on a journey through the enchanting Kawamwaki Farm Trail\, where the breathtaking sights of tea plantations seamlessly blend with the allure of a double waterfall\, serene dam\, and a mystical forest path. Designed with beginners in mind\, this trail offers a tranquil retreat into the heart of Tigoni’s verdant beauty\, making it an ideal escape for anyone looking to soak in the peacefulness of nature. \n 
URL:https://letsdrift.co.ke/drift/kawamwaki-marvel/
LOCATION:Tigoni\, Kenya
CATEGORIES:Beginner Friendly,Freemium,New Trails
ATTACH;FMTTYPE=image/jpeg:https://letsdrift.co.ke/wp-content/uploads/2024/04/tig-jpg.webp
END:VEVENT
BEGIN:VEVENT
DTSTART;TZID=Europe/Moscow:20251026T090000
DTEND;TZID=Europe/Moscow:20251026T180000
DTSTAMP:20260419T191734
CREATED:20240319T110210Z
LAST-MODIFIED:20260330T094040Z
UID:10002510-1761469200-1761501600@letsdrift.co.ke
SUMMARY:Tigoni E-bike Tours
DESCRIPTION:Discover the stunning beauty of Tigoni with our exhilarating e-bike tours. Effortlessly navigate through lush\, green terrains and immerse yourself in the natural splendor that surrounds you. Experience the thrill of cycling in Tigoni\, where every turn unveils a new adventure..
URL:https://letsdrift.co.ke/drift/e-bike-tours-tigoni/2025-10-26/
LOCATION:Ravenswood Escape
CATEGORIES:Cycling,Ebike tours,Premium,Tigoni Life
ATTACH;FMTTYPE=image/jpeg:https://letsdrift.co.ke/wp-content/uploads/2024/03/2.jpg
END:VEVENT
BEGIN:VEVENT
DTSTART;TZID=Europe/Moscow:20251029T090000
DTEND;TZID=Europe/Moscow:20251029T180000
DTSTAMP:20260419T191734
CREATED:20240319T110210Z
LAST-MODIFIED:20260330T094040Z
UID:10004385-1761728400-1761760800@letsdrift.co.ke
SUMMARY:Tigoni E-bike Tours
DESCRIPTION:Discover the stunning beauty of Tigoni with our exhilarating e-bike tours. Effortlessly navigate through lush\, green terrains and immerse yourself in the natural splendor that surrounds you. Experience the thrill of cycling in Tigoni\, where every turn unveils a new adventure..
URL:https://letsdrift.co.ke/drift/e-bike-tours-tigoni/2025-10-29/
LOCATION:Ravenswood Escape
CATEGORIES:Cycling,Ebike tours,Premium,Tigoni Life
ATTACH;FMTTYPE=image/jpeg:https://letsdrift.co.ke/wp-content/uploads/2024/03/2.jpg
END:VEVENT
BEGIN:VEVENT
DTSTART;TZID=Europe/Moscow:20251031T090000
DTEND;TZID=Europe/Moscow:20251031T180000
DTSTAMP:20260419T191734
CREATED:20240319T110210Z
LAST-MODIFIED:20260330T094040Z
UID:10004386-1761901200-1761933600@letsdrift.co.ke
SUMMARY:Tigoni E-bike Tours
DESCRIPTION:Discover the stunning beauty of Tigoni with our exhilarating e-bike tours. Effortlessly navigate through lush\, green terrains and immerse yourself in the natural splendor that surrounds you. Experience the thrill of cycling in Tigoni\, where every turn unveils a new adventure..
URL:https://letsdrift.co.ke/drift/e-bike-tours-tigoni/2025-10-31/
LOCATION:Ravenswood Escape
CATEGORIES:Cycling,Ebike tours,Premium,Tigoni Life
ATTACH;FMTTYPE=image/jpeg:https://letsdrift.co.ke/wp-content/uploads/2024/03/2.jpg
END:VEVENT
END:VCALENDAR