					BEGIN:VCALENDAR
VERSION:2.0
PRODID:-//Lets Drift - ECPv6.3.0//NONSGML v1.0//EN
CALSCALE:GREGORIAN
METHOD:PUBLISH
X-ORIGINAL-URL:https://letsdrift.co.ke
X-WR-CALDESC:Events for Lets Drift
REFRESH-INTERVAL;VALUE=DURATION:PT1H
X-Robots-Tag:noindex
X-PUBLISHED-TTL:PT1H
BEGIN:VTIMEZONE
TZID:Europe/Moscow
BEGIN:STANDARD
TZOFFSETFROM:+0300
TZOFFSETTO:+0300
TZNAME:MSK
DTSTART:20250101T000000
END:STANDARD
END:VTIMEZONE
BEGIN:VEVENT
DTSTART;TZID=Europe/Moscow:20251101T060000
DTEND;TZID=Europe/Moscow:20251101T170000
DTSTAMP:20260419T180323
CREATED:20210809T195154Z
LAST-MODIFIED:20251027T043924Z
UID:10000376-1761976800-1762016400@letsdrift.co.ke
SUMMARY:HikeAthon
DESCRIPTION:Ready to push yourself to the limits and test your physical and mental endurance? Join us on a long trek through some of the most beautiful and challenging landscapes around. Whether you’re an experienced hiker looking to train for your next big adventure or a beginner looking to test your limits\, this hike is for you. When you reach the finish line\, you’ll be rewarded with a free badge to show off your achievement to the world.
URL:https://letsdrift.co.ke/drift/hikeathon/
LOCATION:Ngong
CATEGORIES:Challenging,Freemium
ATTACH;FMTTYPE=image/jpeg:https://letsdrift.co.ke/wp-content/uploads/2021/08/Hikathon-Lets-Drift.jpg
END:VEVENT
BEGIN:VEVENT
DTSTART;TZID=Europe/Moscow:20251101T063000
DTEND;TZID=Europe/Moscow:20251101T173000
DTSTAMP:20260419T180323
CREATED:20231018T100714Z
LAST-MODIFIED:20251031T172116Z
UID:10000521-1761978600-1762018200@letsdrift.co.ke
SUMMARY:Ragia Falls
DESCRIPTION:Stare at the breathtaking Ragia waterfalls surrounded by tall trees. Starting at Sasumua Dam through Chinas camp gate the trail proceeds into thick bamboo and follows elephant trails down the valley to a sudden steep drop to Sasumua River which leads to the magnificent waterfalls.
URL:https://letsdrift.co.ke/drift/ragia-falls/
LOCATION:Ragia Forest\, Aberdares
CATEGORIES:Freemium,Moderate
ATTACH;FMTTYPE=image/jpeg:https://letsdrift.co.ke/wp-content/uploads/2021/06/DJI_0254-scaled.jpg
END:VEVENT
BEGIN:VEVENT
DTSTART;TZID=Europe/Moscow:20251101T090000
DTEND;TZID=Europe/Moscow:20251101T180000
DTSTAMP:20260419T180323
CREATED:20240319T110210Z
LAST-MODIFIED:20260330T094040Z
UID:10002511-1761987600-1762020000@letsdrift.co.ke
SUMMARY:Tigoni E-bike Tours
DESCRIPTION:Discover the stunning beauty of Tigoni with our exhilarating e-bike tours. Effortlessly navigate through lush\, green terrains and immerse yourself in the natural splendor that surrounds you. Experience the thrill of cycling in Tigoni\, where every turn unveils a new adventure..
URL:https://letsdrift.co.ke/drift/e-bike-tours-tigoni/2025-11-01/
LOCATION:Ravenswood Escape
CATEGORIES:Cycling,Ebike tours,Premium,Tigoni Life
ATTACH;FMTTYPE=image/jpeg:https://letsdrift.co.ke/wp-content/uploads/2024/03/2.jpg
END:VEVENT
BEGIN:VEVENT
DTSTART;TZID=Europe/Moscow:20251102T090000
DTEND;TZID=Europe/Moscow:20251102T180000
DTSTAMP:20260419T180323
CREATED:20240319T110210Z
LAST-MODIFIED:20260330T094040Z
UID:10002512-1762074000-1762106400@letsdrift.co.ke
SUMMARY:Tigoni E-bike Tours
DESCRIPTION:Discover the stunning beauty of Tigoni with our exhilarating e-bike tours. Effortlessly navigate through lush\, green terrains and immerse yourself in the natural splendor that surrounds you. Experience the thrill of cycling in Tigoni\, where every turn unveils a new adventure..
URL:https://letsdrift.co.ke/drift/e-bike-tours-tigoni/2025-11-02/
LOCATION:Ravenswood Escape
CATEGORIES:Cycling,Ebike tours,Premium,Tigoni Life
ATTACH;FMTTYPE=image/jpeg:https://letsdrift.co.ke/wp-content/uploads/2024/03/2.jpg
END:VEVENT
BEGIN:VEVENT
DTSTART;TZID=Europe/Moscow:20251105T090000
DTEND;TZID=Europe/Moscow:20251105T180000
DTSTAMP:20260419T180323
CREATED:20240319T110210Z
LAST-MODIFIED:20260330T094040Z
UID:10004387-1762333200-1762365600@letsdrift.co.ke
SUMMARY:Tigoni E-bike Tours
DESCRIPTION:Discover the stunning beauty of Tigoni with our exhilarating e-bike tours. Effortlessly navigate through lush\, green terrains and immerse yourself in the natural splendor that surrounds you. Experience the thrill of cycling in Tigoni\, where every turn unveils a new adventure..
URL:https://letsdrift.co.ke/drift/e-bike-tours-tigoni/2025-11-05/
LOCATION:Ravenswood Escape
CATEGORIES:Cycling,Ebike tours,Premium,Tigoni Life
ATTACH;FMTTYPE=image/jpeg:https://letsdrift.co.ke/wp-content/uploads/2024/03/2.jpg
END:VEVENT
BEGIN:VEVENT
DTSTART;TZID=Europe/Moscow:20251107T090000
DTEND;TZID=Europe/Moscow:20251107T180000
DTSTAMP:20260419T180323
CREATED:20240319T110210Z
LAST-MODIFIED:20260330T094040Z
UID:10004388-1762506000-1762538400@letsdrift.co.ke
SUMMARY:Tigoni E-bike Tours
DESCRIPTION:Discover the stunning beauty of Tigoni with our exhilarating e-bike tours. Effortlessly navigate through lush\, green terrains and immerse yourself in the natural splendor that surrounds you. Experience the thrill of cycling in Tigoni\, where every turn unveils a new adventure..
URL:https://letsdrift.co.ke/drift/e-bike-tours-tigoni/2025-11-07/
LOCATION:Ravenswood Escape
CATEGORIES:Cycling,Ebike tours,Premium,Tigoni Life
ATTACH;FMTTYPE=image/jpeg:https://letsdrift.co.ke/wp-content/uploads/2024/03/2.jpg
END:VEVENT
BEGIN:VEVENT
DTSTART;TZID=Europe/Moscow:20251108T063000
DTEND;TZID=Europe/Moscow:20251108T153000
DTSTAMP:20260419T180323
CREATED:20210804T011703Z
LAST-MODIFIED:20251107T084841Z
UID:10000364-1762583400-1762615800@letsdrift.co.ke
SUMMARY:Kipeto
DESCRIPTION:If rocks and amazing views excite you\, Kipeto is the place to drift. You get to challenge and climb these beautiful rocks inside the forest with the chirping of the birds around you. Panoramic views of Shompole\, Lake Magadi\, and the gorgeous Oloroka ranges can be seen faintly from afar. \n 
URL:https://letsdrift.co.ke/drift/kipeto/
LOCATION:Kajiado
CATEGORIES:Freemium,Moderate
ATTACH;FMTTYPE=image/jpeg:https://letsdrift.co.ke/wp-content/uploads/2021/08/52.jpg
END:VEVENT
BEGIN:VEVENT
DTSTART;TZID=Europe/Moscow:20251108T080000
DTEND;TZID=Europe/Moscow:20251108T143000
DTSTAMP:20260419T180323
CREATED:20240430T075603Z
LAST-MODIFIED:20251107T092508Z
UID:10000560-1762588800-1762612200@letsdrift.co.ke
SUMMARY:Cianda Walk
DESCRIPTION:Located in Kiambu County\, near Banana\, this is an easy and quick hike that starts at Raini along Limuru Road and ends at the same point. The hike (more like a walk) is along tarmacked roads\, followed by dirt roads and tea farms\, and finally a quick 1-minute descent to a large waterfall with caves. The hike is easy and is an excellent starting point for anyone who has never hiked or walked long distances before. \n\n 
URL:https://letsdrift.co.ke/drift/cianda-walk-2/
LOCATION:Tigoni\, Kenya
CATEGORIES:Beginner Friendly,Freemium
ATTACH;FMTTYPE=image/jpeg:https://letsdrift.co.ke/wp-content/uploads/2021/06/2020-07-29-10.37.35-12-scaled.jpg
END:VEVENT
BEGIN:VEVENT
DTSTART;TZID=Europe/Moscow:20251108T090000
DTEND;TZID=Europe/Moscow:20251108T180000
DTSTAMP:20260419T180323
CREATED:20240319T110210Z
LAST-MODIFIED:20260330T094040Z
UID:10002513-1762592400-1762624800@letsdrift.co.ke
SUMMARY:Tigoni E-bike Tours
DESCRIPTION:Discover the stunning beauty of Tigoni with our exhilarating e-bike tours. Effortlessly navigate through lush\, green terrains and immerse yourself in the natural splendor that surrounds you. Experience the thrill of cycling in Tigoni\, where every turn unveils a new adventure..
URL:https://letsdrift.co.ke/drift/e-bike-tours-tigoni/2025-11-08/
LOCATION:Ravenswood Escape
CATEGORIES:Cycling,Ebike tours,Premium,Tigoni Life
ATTACH;FMTTYPE=image/jpeg:https://letsdrift.co.ke/wp-content/uploads/2024/03/2.jpg
END:VEVENT
BEGIN:VEVENT
DTSTART;TZID=Europe/Moscow:20251109T070000
DTEND;TZID=Europe/Moscow:20251109T153000
DTSTAMP:20260419T180323
CREATED:20210628T074618Z
LAST-MODIFIED:20251104T205152Z
UID:10000256-1762671600-1762702200@letsdrift.co.ke
SUMMARY:Kahunira
DESCRIPTION:Unarguably Drifter’s favorite trail\, tucked in Githunguri\, Kahunira is everything beautiful. From the scenery\, jumping into pools\, and the relaxing sensation of just sitting and letting the water massage you. This trail ends with a height fear test of walking on pipes 100m above the ground.
URL:https://letsdrift.co.ke/drift/kahunira/
LOCATION:Githunguri\, Kiambu
CATEGORIES:Freemium,Moderate
ATTACH;FMTTYPE=image/jpeg:https://letsdrift.co.ke/wp-content/uploads/2021/06/2021-03-01-084702484-1-e1625346038267.jpg
END:VEVENT
BEGIN:VEVENT
DTSTART;TZID=Europe/Moscow:20251109T090000
DTEND;TZID=Europe/Moscow:20251109T180000
DTSTAMP:20260419T180323
CREATED:20240319T110210Z
LAST-MODIFIED:20260330T094040Z
UID:10002514-1762678800-1762711200@letsdrift.co.ke
SUMMARY:Tigoni E-bike Tours
DESCRIPTION:Discover the stunning beauty of Tigoni with our exhilarating e-bike tours. Effortlessly navigate through lush\, green terrains and immerse yourself in the natural splendor that surrounds you. Experience the thrill of cycling in Tigoni\, where every turn unveils a new adventure..
URL:https://letsdrift.co.ke/drift/e-bike-tours-tigoni/2025-11-09/
LOCATION:Ravenswood Escape
CATEGORIES:Cycling,Ebike tours,Premium,Tigoni Life
ATTACH;FMTTYPE=image/jpeg:https://letsdrift.co.ke/wp-content/uploads/2024/03/2.jpg
END:VEVENT
BEGIN:VEVENT
DTSTART;TZID=Europe/Moscow:20251112T090000
DTEND;TZID=Europe/Moscow:20251112T180000
DTSTAMP:20260419T180323
CREATED:20240319T110210Z
LAST-MODIFIED:20260330T094040Z
UID:10004389-1762938000-1762970400@letsdrift.co.ke
SUMMARY:Tigoni E-bike Tours
DESCRIPTION:Discover the stunning beauty of Tigoni with our exhilarating e-bike tours. Effortlessly navigate through lush\, green terrains and immerse yourself in the natural splendor that surrounds you. Experience the thrill of cycling in Tigoni\, where every turn unveils a new adventure..
URL:https://letsdrift.co.ke/drift/e-bike-tours-tigoni/2025-11-12/
LOCATION:Ravenswood Escape
CATEGORIES:Cycling,Ebike tours,Premium,Tigoni Life
ATTACH;FMTTYPE=image/jpeg:https://letsdrift.co.ke/wp-content/uploads/2024/03/2.jpg
END:VEVENT
BEGIN:VEVENT
DTSTART;TZID=Europe/Moscow:20251114T090000
DTEND;TZID=Europe/Moscow:20251114T180000
DTSTAMP:20260419T180323
CREATED:20240319T110210Z
LAST-MODIFIED:20260330T094040Z
UID:10004390-1763110800-1763143200@letsdrift.co.ke
SUMMARY:Tigoni E-bike Tours
DESCRIPTION:Discover the stunning beauty of Tigoni with our exhilarating e-bike tours. Effortlessly navigate through lush\, green terrains and immerse yourself in the natural splendor that surrounds you. Experience the thrill of cycling in Tigoni\, where every turn unveils a new adventure..
URL:https://letsdrift.co.ke/drift/e-bike-tours-tigoni/2025-11-14/
LOCATION:Ravenswood Escape
CATEGORIES:Cycling,Ebike tours,Premium,Tigoni Life
ATTACH;FMTTYPE=image/jpeg:https://letsdrift.co.ke/wp-content/uploads/2024/03/2.jpg
END:VEVENT
BEGIN:VEVENT
DTSTART;TZID=Europe/Moscow:20251115T063000
DTEND;TZID=Europe/Moscow:20251115T163000
DTSTAMP:20260419T180323
CREATED:20250324T085223Z
LAST-MODIFIED:20251113T163209Z
UID:10002977-1763188200-1763224200@letsdrift.co.ke
SUMMARY:Nyanduma
DESCRIPTION:Join us on an adventurous escapade as we trek deeper inside the Southern part of the Aberdare forest in search of a hidden waterfall with a scenic dam that supplies water to the locals along a forest trail full of ferns and moss. \nFeature Image Courtesy of Dennis Nyaga.
URL:https://letsdrift.co.ke/drift/nyanduma-2/
LOCATION:Kereita Forest
CATEGORIES:Freemium,Moderate
ATTACH;FMTTYPE=image/jpeg:https://letsdrift.co.ke/wp-content/uploads/2021/11/IMG_20211129_134458_917.jpeg
END:VEVENT
BEGIN:VEVENT
DTSTART;TZID=Europe/Moscow:20251115T090000
DTEND;TZID=Europe/Moscow:20251115T180000
DTSTAMP:20260419T180323
CREATED:20240319T110210Z
LAST-MODIFIED:20260330T094040Z
UID:10002515-1763197200-1763229600@letsdrift.co.ke
SUMMARY:Tigoni E-bike Tours
DESCRIPTION:Discover the stunning beauty of Tigoni with our exhilarating e-bike tours. Effortlessly navigate through lush\, green terrains and immerse yourself in the natural splendor that surrounds you. Experience the thrill of cycling in Tigoni\, where every turn unveils a new adventure..
URL:https://letsdrift.co.ke/drift/e-bike-tours-tigoni/2025-11-15/
LOCATION:Ravenswood Escape
CATEGORIES:Cycling,Ebike tours,Premium,Tigoni Life
ATTACH;FMTTYPE=image/jpeg:https://letsdrift.co.ke/wp-content/uploads/2024/03/2.jpg
END:VEVENT
BEGIN:VEVENT
DTSTART;TZID=Europe/Moscow:20251116T090000
DTEND;TZID=Europe/Moscow:20251116T180000
DTSTAMP:20260419T180323
CREATED:20240319T110210Z
LAST-MODIFIED:20260330T094040Z
UID:10002516-1763283600-1763316000@letsdrift.co.ke
SUMMARY:Tigoni E-bike Tours
DESCRIPTION:Discover the stunning beauty of Tigoni with our exhilarating e-bike tours. Effortlessly navigate through lush\, green terrains and immerse yourself in the natural splendor that surrounds you. Experience the thrill of cycling in Tigoni\, where every turn unveils a new adventure..
URL:https://letsdrift.co.ke/drift/e-bike-tours-tigoni/2025-11-16/
LOCATION:Ravenswood Escape
CATEGORIES:Cycling,Ebike tours,Premium,Tigoni Life
ATTACH;FMTTYPE=image/jpeg:https://letsdrift.co.ke/wp-content/uploads/2024/03/2.jpg
END:VEVENT
BEGIN:VEVENT
DTSTART;TZID=Europe/Moscow:20251119T090000
DTEND;TZID=Europe/Moscow:20251119T180000
DTSTAMP:20260419T180323
CREATED:20240319T110210Z
LAST-MODIFIED:20260330T094040Z
UID:10004391-1763542800-1763575200@letsdrift.co.ke
SUMMARY:Tigoni E-bike Tours
DESCRIPTION:Discover the stunning beauty of Tigoni with our exhilarating e-bike tours. Effortlessly navigate through lush\, green terrains and immerse yourself in the natural splendor that surrounds you. Experience the thrill of cycling in Tigoni\, where every turn unveils a new adventure..
URL:https://letsdrift.co.ke/drift/e-bike-tours-tigoni/2025-11-19/
LOCATION:Ravenswood Escape
CATEGORIES:Cycling,Ebike tours,Premium,Tigoni Life
ATTACH;FMTTYPE=image/jpeg:https://letsdrift.co.ke/wp-content/uploads/2024/03/2.jpg
END:VEVENT
BEGIN:VEVENT
DTSTART;TZID=Europe/Moscow:20251121T090000
DTEND;TZID=Europe/Moscow:20251121T180000
DTSTAMP:20260419T180323
CREATED:20240319T110210Z
LAST-MODIFIED:20260330T094040Z
UID:10004392-1763715600-1763748000@letsdrift.co.ke
SUMMARY:Tigoni E-bike Tours
DESCRIPTION:Discover the stunning beauty of Tigoni with our exhilarating e-bike tours. Effortlessly navigate through lush\, green terrains and immerse yourself in the natural splendor that surrounds you. Experience the thrill of cycling in Tigoni\, where every turn unveils a new adventure..
URL:https://letsdrift.co.ke/drift/e-bike-tours-tigoni/2025-11-21/
LOCATION:Ravenswood Escape
CATEGORIES:Cycling,Ebike tours,Premium,Tigoni Life
ATTACH;FMTTYPE=image/jpeg:https://letsdrift.co.ke/wp-content/uploads/2024/03/2.jpg
END:VEVENT
BEGIN:VEVENT
DTSTART;TZID=Europe/Moscow:20251122T070000
DTEND;TZID=Europe/Moscow:20251122T143000
DTSTAMP:20260419T180323
CREATED:20241212T165013Z
LAST-MODIFIED:20251120T132829Z
UID:10001392-1763794800-1763821800@letsdrift.co.ke
SUMMARY:Kirenga Falls
DESCRIPTION:Begin your adventure at the iconic Great Rift Valley viewpoint\, trekking through country roads into Kirenga Village\, rich with history from the Mau Mau uprising and the Lari Massacre. The trail ends with a breathtaking waterfall and a charming cave.
URL:https://letsdrift.co.ke/drift/kirenga-falls-3/
LOCATION:Kereita\, kiambu\, Kimende
CATEGORIES:Freemium,Moderate
ATTACH;FMTTYPE=image/jpeg:https://letsdrift.co.ke/wp-content/uploads/2024/12/4.jpg
END:VEVENT
BEGIN:VEVENT
DTSTART;TZID=Europe/Moscow:20251122T090000
DTEND;TZID=Europe/Moscow:20251122T180000
DTSTAMP:20260419T180323
CREATED:20240319T110210Z
LAST-MODIFIED:20260330T094040Z
UID:10002517-1763802000-1763834400@letsdrift.co.ke
SUMMARY:Tigoni E-bike Tours
DESCRIPTION:Discover the stunning beauty of Tigoni with our exhilarating e-bike tours. Effortlessly navigate through lush\, green terrains and immerse yourself in the natural splendor that surrounds you. Experience the thrill of cycling in Tigoni\, where every turn unveils a new adventure..
URL:https://letsdrift.co.ke/drift/e-bike-tours-tigoni/2025-11-22/
LOCATION:Ravenswood Escape
CATEGORIES:Cycling,Ebike tours,Premium,Tigoni Life
ATTACH;FMTTYPE=image/jpeg:https://letsdrift.co.ke/wp-content/uploads/2024/03/2.jpg
END:VEVENT
BEGIN:VEVENT
DTSTART;TZID=Europe/Moscow:20251123T070000
DTEND;TZID=Europe/Moscow:20251123T143000
DTSTAMP:20260419T180323
CREATED:20210804T212830Z
LAST-MODIFIED:20251120T132608Z
UID:10000271-1763881200-1763908200@letsdrift.co.ke
SUMMARY:Gatamaiyu 3
DESCRIPTION:Be prepared to slip and fall several times! The sliding is all worth it- your reward is 3 breathtaking waterfalls\, including one that falls inside a cave. Prickly plants are also part of the experience. \n\n 
URL:https://letsdrift.co.ke/drift/gatamaiyu-3/
LOCATION:Lari
CATEGORIES:Freemium,Moderate
ATTACH;FMTTYPE=image/jpeg:https://letsdrift.co.ke/wp-content/uploads/2021/08/9.jpg
END:VEVENT
BEGIN:VEVENT
DTSTART;TZID=Europe/Moscow:20251123T090000
DTEND;TZID=Europe/Moscow:20251123T180000
DTSTAMP:20260419T180323
CREATED:20240319T110210Z
LAST-MODIFIED:20260330T094040Z
UID:10002518-1763888400-1763920800@letsdrift.co.ke
SUMMARY:Tigoni E-bike Tours
DESCRIPTION:Discover the stunning beauty of Tigoni with our exhilarating e-bike tours. Effortlessly navigate through lush\, green terrains and immerse yourself in the natural splendor that surrounds you. Experience the thrill of cycling in Tigoni\, where every turn unveils a new adventure..
URL:https://letsdrift.co.ke/drift/e-bike-tours-tigoni/2025-11-23/
LOCATION:Ravenswood Escape
CATEGORIES:Cycling,Ebike tours,Premium,Tigoni Life
ATTACH;FMTTYPE=image/jpeg:https://letsdrift.co.ke/wp-content/uploads/2024/03/2.jpg
END:VEVENT
BEGIN:VEVENT
DTSTART;TZID=Europe/Moscow:20251126T090000
DTEND;TZID=Europe/Moscow:20251126T180000
DTSTAMP:20260419T180323
CREATED:20240319T110210Z
LAST-MODIFIED:20260330T094040Z
UID:10004393-1764147600-1764180000@letsdrift.co.ke
SUMMARY:Tigoni E-bike Tours
DESCRIPTION:Discover the stunning beauty of Tigoni with our exhilarating e-bike tours. Effortlessly navigate through lush\, green terrains and immerse yourself in the natural splendor that surrounds you. Experience the thrill of cycling in Tigoni\, where every turn unveils a new adventure..
URL:https://letsdrift.co.ke/drift/e-bike-tours-tigoni/2025-11-26/
LOCATION:Ravenswood Escape
CATEGORIES:Cycling,Ebike tours,Premium,Tigoni Life
ATTACH;FMTTYPE=image/jpeg:https://letsdrift.co.ke/wp-content/uploads/2024/03/2.jpg
END:VEVENT
BEGIN:VEVENT
DTSTART;TZID=Europe/Moscow:20251128T090000
DTEND;TZID=Europe/Moscow:20251128T180000
DTSTAMP:20260419T180323
CREATED:20240319T110210Z
LAST-MODIFIED:20260330T094040Z
UID:10004394-1764320400-1764352800@letsdrift.co.ke
SUMMARY:Tigoni E-bike Tours
DESCRIPTION:Discover the stunning beauty of Tigoni with our exhilarating e-bike tours. Effortlessly navigate through lush\, green terrains and immerse yourself in the natural splendor that surrounds you. Experience the thrill of cycling in Tigoni\, where every turn unveils a new adventure..
URL:https://letsdrift.co.ke/drift/e-bike-tours-tigoni/2025-11-28/
LOCATION:Ravenswood Escape
CATEGORIES:Cycling,Ebike tours,Premium,Tigoni Life
ATTACH;FMTTYPE=image/jpeg:https://letsdrift.co.ke/wp-content/uploads/2024/03/2.jpg
END:VEVENT
BEGIN:VEVENT
DTSTART;TZID=Europe/Moscow:20251129T063000
DTEND;TZID=Europe/Moscow:20251129T170000
DTSTAMP:20260419T180323
CREATED:20210628T084515Z
LAST-MODIFIED:20251027T054408Z
UID:10000258-1764397800-1764435600@letsdrift.co.ke
SUMMARY:Gicheru Mines
DESCRIPTION:Known as the Character developing trail amongst Drifters\, Gicheru mines should be worth your attempt. Located in the Kikuyu escarpment this trail difficulty is dependent on your ability to handle the heat. The journey starts on a hill descending down through thick grass and shrubs. If you love herbs there’s sage in hundreds and they smell amazing. \nOnce you get to the gorge and into the caves you get to appreciate the beautiful diatomite mines\, and cool caves and watch beautiful birds sing and fly across. It’s hot so quick-dry clothes are the best. Remember to carry enough water (3L Min) and snacks to keep your energy high throughout.
URL:https://letsdrift.co.ke/drift/gicheru/
LOCATION:Ndeiya\, Kiambu
CATEGORIES:Challenging,Freemium
ATTACH;FMTTYPE=image/jpeg:https://letsdrift.co.ke/wp-content/uploads/2021/06/DSC_1089-01-scaled.jpeg
END:VEVENT
BEGIN:VEVENT
DTSTART;TZID=Europe/Moscow:20251129T073000
DTEND;TZID=Europe/Moscow:20251129T163000
DTSTAMP:20260419T180323
CREATED:20220508T221653Z
LAST-MODIFIED:20251127T071831Z
UID:10000450-1764401400-1764433800@letsdrift.co.ke
SUMMARY:Kijabe Soft
DESCRIPTION:Kijabe attracts daring hikers in search of beautiful scenery and a tranquil ambiance. But we found a hack for those who want to experience kijabe without the “hard” part: a curated trail starting in the Kinale forest off the Nairobi – Nakuru highway\, winding down the valley\, and culminating in some coffee at the gorgeous Kijabe Kahawa Coffee shop.
URL:https://letsdrift.co.ke/drift/kijabesoft/
LOCATION:Kijabe
CATEGORIES:Freemium,Moderate
ATTACH;FMTTYPE=image/jpeg:https://letsdrift.co.ke/wp-content/uploads/2022/05/Kijabe-hills.jpg
END:VEVENT
BEGIN:VEVENT
DTSTART;TZID=Europe/Moscow:20251129T090000
DTEND;TZID=Europe/Moscow:20251129T180000
DTSTAMP:20260419T180323
CREATED:20240319T110210Z
LAST-MODIFIED:20260330T094040Z
UID:10002519-1764406800-1764439200@letsdrift.co.ke
SUMMARY:Tigoni E-bike Tours
DESCRIPTION:Discover the stunning beauty of Tigoni with our exhilarating e-bike tours. Effortlessly navigate through lush\, green terrains and immerse yourself in the natural splendor that surrounds you. Experience the thrill of cycling in Tigoni\, where every turn unveils a new adventure..
URL:https://letsdrift.co.ke/drift/e-bike-tours-tigoni/2025-11-29/
LOCATION:Ravenswood Escape
CATEGORIES:Cycling,Ebike tours,Premium,Tigoni Life
ATTACH;FMTTYPE=image/jpeg:https://letsdrift.co.ke/wp-content/uploads/2024/03/2.jpg
END:VEVENT
BEGIN:VEVENT
DTSTART;TZID=Europe/Moscow:20251130T080000
DTEND;TZID=Europe/Moscow:20251130T143000
DTSTAMP:20260419T180323
CREATED:20250318T105431Z
LAST-MODIFIED:20251128T075244Z
UID:10001382-1764489600-1764513000@letsdrift.co.ke
SUMMARY:Brackenhurst Lap
DESCRIPTION:A short hike through the lush greenery tea farms provides breathtaking panoramas of the picturesque surroundings. Then go back to the hotel and indulge in some delicious food after the energizing walk. You’ll undoubtedly come away from this experience feeling renewed and refreshed\, prepared to take on the upcoming workweek.
URL:https://letsdrift.co.ke/drift/brackenhurst-lap-2/
LOCATION:Tigoni\, Kenya
CATEGORIES:Beginner Friendly,New Trails,Tigoni Life
ATTACH;FMTTYPE=image/jpeg:https://letsdrift.co.ke/wp-content/uploads/2021/06/2021-05-01-101804455-scaled.jpg
END:VEVENT
BEGIN:VEVENT
DTSTART;TZID=Europe/Moscow:20251130T090000
DTEND;TZID=Europe/Moscow:20251130T180000
DTSTAMP:20260419T180323
CREATED:20240319T110210Z
LAST-MODIFIED:20260330T094040Z
UID:10002520-1764493200-1764525600@letsdrift.co.ke
SUMMARY:Tigoni E-bike Tours
DESCRIPTION:Discover the stunning beauty of Tigoni with our exhilarating e-bike tours. Effortlessly navigate through lush\, green terrains and immerse yourself in the natural splendor that surrounds you. Experience the thrill of cycling in Tigoni\, where every turn unveils a new adventure..
URL:https://letsdrift.co.ke/drift/e-bike-tours-tigoni/2025-11-30/
LOCATION:Ravenswood Escape
CATEGORIES:Cycling,Ebike tours,Premium,Tigoni Life
ATTACH;FMTTYPE=image/jpeg:https://letsdrift.co.ke/wp-content/uploads/2024/03/2.jpg
END:VEVENT
END:VCALENDAR