					BEGIN:VCALENDAR
VERSION:2.0
PRODID:-//Lets Drift - ECPv6.3.0//NONSGML v1.0//EN
CALSCALE:GREGORIAN
METHOD:PUBLISH
X-ORIGINAL-URL:https://letsdrift.co.ke
X-WR-CALDESC:Events for Lets Drift
REFRESH-INTERVAL;VALUE=DURATION:PT1H
X-Robots-Tag:noindex
X-PUBLISHED-TTL:PT1H
BEGIN:VTIMEZONE
TZID:Europe/Moscow
BEGIN:STANDARD
TZOFFSETFROM:+0300
TZOFFSETTO:+0300
TZNAME:MSK
DTSTART:20260101T000000
END:STANDARD
END:VTIMEZONE
BEGIN:VEVENT
DTSTART;TZID=Europe/Moscow:20260807T090000
DTEND;TZID=Europe/Moscow:20260807T180000
DTSTAMP:20260423T044803
CREATED:20240319T110210Z
LAST-MODIFIED:20260330T094040Z
UID:10004465-1786093200-1786125600@letsdrift.co.ke
SUMMARY:Tigoni E-bike Tours
DESCRIPTION:Discover the stunning beauty of Tigoni with our exhilarating e-bike tours. Effortlessly navigate through lush\, green terrains and immerse yourself in the natural splendor that surrounds you. Experience the thrill of cycling in Tigoni\, where every turn unveils a new adventure..
URL:https://letsdrift.co.ke/drift/e-bike-tours-tigoni/2026-08-07/
LOCATION:Ravenswood Escape
CATEGORIES:Cycling,Ebike tours,Premium,Tigoni Life
ATTACH;FMTTYPE=image/jpeg:https://letsdrift.co.ke/wp-content/uploads/2024/03/2.jpg
END:VEVENT
BEGIN:VEVENT
DTSTART;TZID=Europe/Moscow:20260808T090000
DTEND;TZID=Europe/Moscow:20260808T180000
DTSTAMP:20260423T044803
CREATED:20240319T110210Z
LAST-MODIFIED:20260330T094040Z
UID:10002591-1786179600-1786212000@letsdrift.co.ke
SUMMARY:Tigoni E-bike Tours
DESCRIPTION:Discover the stunning beauty of Tigoni with our exhilarating e-bike tours. Effortlessly navigate through lush\, green terrains and immerse yourself in the natural splendor that surrounds you. Experience the thrill of cycling in Tigoni\, where every turn unveils a new adventure..
URL:https://letsdrift.co.ke/drift/e-bike-tours-tigoni/2026-08-08/
LOCATION:Ravenswood Escape
CATEGORIES:Cycling,Ebike tours,Premium,Tigoni Life
ATTACH;FMTTYPE=image/jpeg:https://letsdrift.co.ke/wp-content/uploads/2024/03/2.jpg
END:VEVENT
BEGIN:VEVENT
DTSTART;TZID=Europe/Moscow:20260809T090000
DTEND;TZID=Europe/Moscow:20260809T180000
DTSTAMP:20260423T044803
CREATED:20240319T110210Z
LAST-MODIFIED:20260330T094040Z
UID:10002592-1786266000-1786298400@letsdrift.co.ke
SUMMARY:Tigoni E-bike Tours
DESCRIPTION:Discover the stunning beauty of Tigoni with our exhilarating e-bike tours. Effortlessly navigate through lush\, green terrains and immerse yourself in the natural splendor that surrounds you. Experience the thrill of cycling in Tigoni\, where every turn unveils a new adventure..
URL:https://letsdrift.co.ke/drift/e-bike-tours-tigoni/2026-08-09/
LOCATION:Ravenswood Escape
CATEGORIES:Cycling,Ebike tours,Premium,Tigoni Life
ATTACH;FMTTYPE=image/jpeg:https://letsdrift.co.ke/wp-content/uploads/2024/03/2.jpg
END:VEVENT
BEGIN:VEVENT
DTSTART;TZID=Europe/Moscow:20260812T090000
DTEND;TZID=Europe/Moscow:20260812T180000
DTSTAMP:20260423T044803
CREATED:20240319T110210Z
LAST-MODIFIED:20260330T094040Z
UID:10004466-1786525200-1786557600@letsdrift.co.ke
SUMMARY:Tigoni E-bike Tours
DESCRIPTION:Discover the stunning beauty of Tigoni with our exhilarating e-bike tours. Effortlessly navigate through lush\, green terrains and immerse yourself in the natural splendor that surrounds you. Experience the thrill of cycling in Tigoni\, where every turn unveils a new adventure..
URL:https://letsdrift.co.ke/drift/e-bike-tours-tigoni/2026-08-12/
LOCATION:Ravenswood Escape
CATEGORIES:Cycling,Ebike tours,Premium,Tigoni Life
ATTACH;FMTTYPE=image/jpeg:https://letsdrift.co.ke/wp-content/uploads/2024/03/2.jpg
END:VEVENT
BEGIN:VEVENT
DTSTART;TZID=Europe/Moscow:20260814T090000
DTEND;TZID=Europe/Moscow:20260814T180000
DTSTAMP:20260423T044803
CREATED:20240319T110210Z
LAST-MODIFIED:20260330T094040Z
UID:10004467-1786698000-1786730400@letsdrift.co.ke
SUMMARY:Tigoni E-bike Tours
DESCRIPTION:Discover the stunning beauty of Tigoni with our exhilarating e-bike tours. Effortlessly navigate through lush\, green terrains and immerse yourself in the natural splendor that surrounds you. Experience the thrill of cycling in Tigoni\, where every turn unveils a new adventure..
URL:https://letsdrift.co.ke/drift/e-bike-tours-tigoni/2026-08-14/
LOCATION:Ravenswood Escape
CATEGORIES:Cycling,Ebike tours,Premium,Tigoni Life
ATTACH;FMTTYPE=image/jpeg:https://letsdrift.co.ke/wp-content/uploads/2024/03/2.jpg
END:VEVENT
BEGIN:VEVENT
DTSTART;TZID=Europe/Moscow:20260815T090000
DTEND;TZID=Europe/Moscow:20260815T180000
DTSTAMP:20260423T044803
CREATED:20240319T110210Z
LAST-MODIFIED:20260330T094040Z
UID:10002593-1786784400-1786816800@letsdrift.co.ke
SUMMARY:Tigoni E-bike Tours
DESCRIPTION:Discover the stunning beauty of Tigoni with our exhilarating e-bike tours. Effortlessly navigate through lush\, green terrains and immerse yourself in the natural splendor that surrounds you. Experience the thrill of cycling in Tigoni\, where every turn unveils a new adventure..
URL:https://letsdrift.co.ke/drift/e-bike-tours-tigoni/2026-08-15/
LOCATION:Ravenswood Escape
CATEGORIES:Cycling,Ebike tours,Premium,Tigoni Life
ATTACH;FMTTYPE=image/jpeg:https://letsdrift.co.ke/wp-content/uploads/2024/03/2.jpg
END:VEVENT
BEGIN:VEVENT
DTSTART;TZID=Europe/Moscow:20260816T090000
DTEND;TZID=Europe/Moscow:20260816T180000
DTSTAMP:20260423T044803
CREATED:20240319T110210Z
LAST-MODIFIED:20260330T094040Z
UID:10002594-1786870800-1786903200@letsdrift.co.ke
SUMMARY:Tigoni E-bike Tours
DESCRIPTION:Discover the stunning beauty of Tigoni with our exhilarating e-bike tours. Effortlessly navigate through lush\, green terrains and immerse yourself in the natural splendor that surrounds you. Experience the thrill of cycling in Tigoni\, where every turn unveils a new adventure..
URL:https://letsdrift.co.ke/drift/e-bike-tours-tigoni/2026-08-16/
LOCATION:Ravenswood Escape
CATEGORIES:Cycling,Ebike tours,Premium,Tigoni Life
ATTACH;FMTTYPE=image/jpeg:https://letsdrift.co.ke/wp-content/uploads/2024/03/2.jpg
END:VEVENT
BEGIN:VEVENT
DTSTART;TZID=Europe/Moscow:20260819T090000
DTEND;TZID=Europe/Moscow:20260819T180000
DTSTAMP:20260423T044803
CREATED:20240319T110210Z
LAST-MODIFIED:20260330T094040Z
UID:10004468-1787130000-1787162400@letsdrift.co.ke
SUMMARY:Tigoni E-bike Tours
DESCRIPTION:Discover the stunning beauty of Tigoni with our exhilarating e-bike tours. Effortlessly navigate through lush\, green terrains and immerse yourself in the natural splendor that surrounds you. Experience the thrill of cycling in Tigoni\, where every turn unveils a new adventure..
URL:https://letsdrift.co.ke/drift/e-bike-tours-tigoni/2026-08-19/
LOCATION:Ravenswood Escape
CATEGORIES:Cycling,Ebike tours,Premium,Tigoni Life
ATTACH;FMTTYPE=image/jpeg:https://letsdrift.co.ke/wp-content/uploads/2024/03/2.jpg
END:VEVENT
BEGIN:VEVENT
DTSTART;TZID=Europe/Moscow:20260821T090000
DTEND;TZID=Europe/Moscow:20260821T180000
DTSTAMP:20260423T044803
CREATED:20240319T110210Z
LAST-MODIFIED:20260330T094040Z
UID:10004469-1787302800-1787335200@letsdrift.co.ke
SUMMARY:Tigoni E-bike Tours
DESCRIPTION:Discover the stunning beauty of Tigoni with our exhilarating e-bike tours. Effortlessly navigate through lush\, green terrains and immerse yourself in the natural splendor that surrounds you. Experience the thrill of cycling in Tigoni\, where every turn unveils a new adventure..
URL:https://letsdrift.co.ke/drift/e-bike-tours-tigoni/2026-08-21/
LOCATION:Ravenswood Escape
CATEGORIES:Cycling,Ebike tours,Premium,Tigoni Life
ATTACH;FMTTYPE=image/jpeg:https://letsdrift.co.ke/wp-content/uploads/2024/03/2.jpg
END:VEVENT
BEGIN:VEVENT
DTSTART;TZID=Europe/Moscow:20260822T090000
DTEND;TZID=Europe/Moscow:20260822T180000
DTSTAMP:20260423T044803
CREATED:20240319T110210Z
LAST-MODIFIED:20260330T094040Z
UID:10002595-1787389200-1787421600@letsdrift.co.ke
SUMMARY:Tigoni E-bike Tours
DESCRIPTION:Discover the stunning beauty of Tigoni with our exhilarating e-bike tours. Effortlessly navigate through lush\, green terrains and immerse yourself in the natural splendor that surrounds you. Experience the thrill of cycling in Tigoni\, where every turn unveils a new adventure..
URL:https://letsdrift.co.ke/drift/e-bike-tours-tigoni/2026-08-22/
LOCATION:Ravenswood Escape
CATEGORIES:Cycling,Ebike tours,Premium,Tigoni Life
ATTACH;FMTTYPE=image/jpeg:https://letsdrift.co.ke/wp-content/uploads/2024/03/2.jpg
END:VEVENT
BEGIN:VEVENT
DTSTART;TZID=Europe/Moscow:20260823T090000
DTEND;TZID=Europe/Moscow:20260823T180000
DTSTAMP:20260423T044803
CREATED:20240319T110210Z
LAST-MODIFIED:20260330T094040Z
UID:10002596-1787475600-1787508000@letsdrift.co.ke
SUMMARY:Tigoni E-bike Tours
DESCRIPTION:Discover the stunning beauty of Tigoni with our exhilarating e-bike tours. Effortlessly navigate through lush\, green terrains and immerse yourself in the natural splendor that surrounds you. Experience the thrill of cycling in Tigoni\, where every turn unveils a new adventure..
URL:https://letsdrift.co.ke/drift/e-bike-tours-tigoni/2026-08-23/
LOCATION:Ravenswood Escape
CATEGORIES:Cycling,Ebike tours,Premium,Tigoni Life
ATTACH;FMTTYPE=image/jpeg:https://letsdrift.co.ke/wp-content/uploads/2024/03/2.jpg
END:VEVENT
BEGIN:VEVENT
DTSTART;TZID=Europe/Moscow:20260826T090000
DTEND;TZID=Europe/Moscow:20260826T180000
DTSTAMP:20260423T044803
CREATED:20240319T110210Z
LAST-MODIFIED:20260330T094040Z
UID:10004470-1787734800-1787767200@letsdrift.co.ke
SUMMARY:Tigoni E-bike Tours
DESCRIPTION:Discover the stunning beauty of Tigoni with our exhilarating e-bike tours. Effortlessly navigate through lush\, green terrains and immerse yourself in the natural splendor that surrounds you. Experience the thrill of cycling in Tigoni\, where every turn unveils a new adventure..
URL:https://letsdrift.co.ke/drift/e-bike-tours-tigoni/2026-08-26/
LOCATION:Ravenswood Escape
CATEGORIES:Cycling,Ebike tours,Premium,Tigoni Life
ATTACH;FMTTYPE=image/jpeg:https://letsdrift.co.ke/wp-content/uploads/2024/03/2.jpg
END:VEVENT
BEGIN:VEVENT
DTSTART;TZID=Europe/Moscow:20260828T090000
DTEND;TZID=Europe/Moscow:20260828T180000
DTSTAMP:20260423T044803
CREATED:20240319T110210Z
LAST-MODIFIED:20260330T094040Z
UID:10004471-1787907600-1787940000@letsdrift.co.ke
SUMMARY:Tigoni E-bike Tours
DESCRIPTION:Discover the stunning beauty of Tigoni with our exhilarating e-bike tours. Effortlessly navigate through lush\, green terrains and immerse yourself in the natural splendor that surrounds you. Experience the thrill of cycling in Tigoni\, where every turn unveils a new adventure..
URL:https://letsdrift.co.ke/drift/e-bike-tours-tigoni/2026-08-28/
LOCATION:Ravenswood Escape
CATEGORIES:Cycling,Ebike tours,Premium,Tigoni Life
ATTACH;FMTTYPE=image/jpeg:https://letsdrift.co.ke/wp-content/uploads/2024/03/2.jpg
END:VEVENT
BEGIN:VEVENT
DTSTART;TZID=Europe/Moscow:20260829T090000
DTEND;TZID=Europe/Moscow:20260829T180000
DTSTAMP:20260423T044803
CREATED:20240319T110210Z
LAST-MODIFIED:20260330T094040Z
UID:10002597-1787994000-1788026400@letsdrift.co.ke
SUMMARY:Tigoni E-bike Tours
DESCRIPTION:Discover the stunning beauty of Tigoni with our exhilarating e-bike tours. Effortlessly navigate through lush\, green terrains and immerse yourself in the natural splendor that surrounds you. Experience the thrill of cycling in Tigoni\, where every turn unveils a new adventure..
URL:https://letsdrift.co.ke/drift/e-bike-tours-tigoni/2026-08-29/
LOCATION:Ravenswood Escape
CATEGORIES:Cycling,Ebike tours,Premium,Tigoni Life
ATTACH;FMTTYPE=image/jpeg:https://letsdrift.co.ke/wp-content/uploads/2024/03/2.jpg
END:VEVENT
BEGIN:VEVENT
DTSTART;TZID=Europe/Moscow:20260830T090000
DTEND;TZID=Europe/Moscow:20260830T180000
DTSTAMP:20260423T044803
CREATED:20240319T110210Z
LAST-MODIFIED:20260330T094040Z
UID:10002598-1788080400-1788112800@letsdrift.co.ke
SUMMARY:Tigoni E-bike Tours
DESCRIPTION:Discover the stunning beauty of Tigoni with our exhilarating e-bike tours. Effortlessly navigate through lush\, green terrains and immerse yourself in the natural splendor that surrounds you. Experience the thrill of cycling in Tigoni\, where every turn unveils a new adventure..
URL:https://letsdrift.co.ke/drift/e-bike-tours-tigoni/2026-08-30/
LOCATION:Ravenswood Escape
CATEGORIES:Cycling,Ebike tours,Premium,Tigoni Life
ATTACH;FMTTYPE=image/jpeg:https://letsdrift.co.ke/wp-content/uploads/2024/03/2.jpg
END:VEVENT
BEGIN:VEVENT
DTSTART;TZID=Europe/Moscow:20260902T090000
DTEND;TZID=Europe/Moscow:20260902T180000
DTSTAMP:20260423T044803
CREATED:20240319T110210Z
LAST-MODIFIED:20260330T094040Z
UID:10004472-1788339600-1788372000@letsdrift.co.ke
SUMMARY:Tigoni E-bike Tours
DESCRIPTION:Discover the stunning beauty of Tigoni with our exhilarating e-bike tours. Effortlessly navigate through lush\, green terrains and immerse yourself in the natural splendor that surrounds you. Experience the thrill of cycling in Tigoni\, where every turn unveils a new adventure..
URL:https://letsdrift.co.ke/drift/e-bike-tours-tigoni/2026-09-02/
LOCATION:Ravenswood Escape
CATEGORIES:Cycling,Ebike tours,Premium,Tigoni Life
ATTACH;FMTTYPE=image/jpeg:https://letsdrift.co.ke/wp-content/uploads/2024/03/2.jpg
END:VEVENT
BEGIN:VEVENT
DTSTART;TZID=Europe/Moscow:20260904T090000
DTEND;TZID=Europe/Moscow:20260904T180000
DTSTAMP:20260423T044803
CREATED:20240319T110210Z
LAST-MODIFIED:20260330T094040Z
UID:10004473-1788512400-1788544800@letsdrift.co.ke
SUMMARY:Tigoni E-bike Tours
DESCRIPTION:Discover the stunning beauty of Tigoni with our exhilarating e-bike tours. Effortlessly navigate through lush\, green terrains and immerse yourself in the natural splendor that surrounds you. Experience the thrill of cycling in Tigoni\, where every turn unveils a new adventure..
URL:https://letsdrift.co.ke/drift/e-bike-tours-tigoni/2026-09-04/
LOCATION:Ravenswood Escape
CATEGORIES:Cycling,Ebike tours,Premium,Tigoni Life
ATTACH;FMTTYPE=image/jpeg:https://letsdrift.co.ke/wp-content/uploads/2024/03/2.jpg
END:VEVENT
BEGIN:VEVENT
DTSTART;TZID=Europe/Moscow:20260905T090000
DTEND;TZID=Europe/Moscow:20260905T180000
DTSTAMP:20260423T044803
CREATED:20240319T110210Z
LAST-MODIFIED:20260330T094040Z
UID:10002599-1788598800-1788631200@letsdrift.co.ke
SUMMARY:Tigoni E-bike Tours
DESCRIPTION:Discover the stunning beauty of Tigoni with our exhilarating e-bike tours. Effortlessly navigate through lush\, green terrains and immerse yourself in the natural splendor that surrounds you. Experience the thrill of cycling in Tigoni\, where every turn unveils a new adventure..
URL:https://letsdrift.co.ke/drift/e-bike-tours-tigoni/2026-09-05/
LOCATION:Ravenswood Escape
CATEGORIES:Cycling,Ebike tours,Premium,Tigoni Life
ATTACH;FMTTYPE=image/jpeg:https://letsdrift.co.ke/wp-content/uploads/2024/03/2.jpg
END:VEVENT
BEGIN:VEVENT
DTSTART;TZID=Europe/Moscow:20260906T090000
DTEND;TZID=Europe/Moscow:20260906T180000
DTSTAMP:20260423T044803
CREATED:20240319T110210Z
LAST-MODIFIED:20260330T094040Z
UID:10002600-1788685200-1788717600@letsdrift.co.ke
SUMMARY:Tigoni E-bike Tours
DESCRIPTION:Discover the stunning beauty of Tigoni with our exhilarating e-bike tours. Effortlessly navigate through lush\, green terrains and immerse yourself in the natural splendor that surrounds you. Experience the thrill of cycling in Tigoni\, where every turn unveils a new adventure..
URL:https://letsdrift.co.ke/drift/e-bike-tours-tigoni/2026-09-06/
LOCATION:Ravenswood Escape
CATEGORIES:Cycling,Ebike tours,Premium,Tigoni Life
ATTACH;FMTTYPE=image/jpeg:https://letsdrift.co.ke/wp-content/uploads/2024/03/2.jpg
END:VEVENT
BEGIN:VEVENT
DTSTART;TZID=Europe/Moscow:20260909T090000
DTEND;TZID=Europe/Moscow:20260909T180000
DTSTAMP:20260423T044803
CREATED:20240319T110210Z
LAST-MODIFIED:20260330T094040Z
UID:10004474-1788944400-1788976800@letsdrift.co.ke
SUMMARY:Tigoni E-bike Tours
DESCRIPTION:Discover the stunning beauty of Tigoni with our exhilarating e-bike tours. Effortlessly navigate through lush\, green terrains and immerse yourself in the natural splendor that surrounds you. Experience the thrill of cycling in Tigoni\, where every turn unveils a new adventure..
URL:https://letsdrift.co.ke/drift/e-bike-tours-tigoni/2026-09-09/
LOCATION:Ravenswood Escape
CATEGORIES:Cycling,Ebike tours,Premium,Tigoni Life
ATTACH;FMTTYPE=image/jpeg:https://letsdrift.co.ke/wp-content/uploads/2024/03/2.jpg
END:VEVENT
BEGIN:VEVENT
DTSTART;TZID=Europe/Moscow:20260911T090000
DTEND;TZID=Europe/Moscow:20260911T180000
DTSTAMP:20260423T044803
CREATED:20240319T110210Z
LAST-MODIFIED:20260330T094040Z
UID:10004475-1789117200-1789149600@letsdrift.co.ke
SUMMARY:Tigoni E-bike Tours
DESCRIPTION:Discover the stunning beauty of Tigoni with our exhilarating e-bike tours. Effortlessly navigate through lush\, green terrains and immerse yourself in the natural splendor that surrounds you. Experience the thrill of cycling in Tigoni\, where every turn unveils a new adventure..
URL:https://letsdrift.co.ke/drift/e-bike-tours-tigoni/2026-09-11/
LOCATION:Ravenswood Escape
CATEGORIES:Cycling,Ebike tours,Premium,Tigoni Life
ATTACH;FMTTYPE=image/jpeg:https://letsdrift.co.ke/wp-content/uploads/2024/03/2.jpg
END:VEVENT
BEGIN:VEVENT
DTSTART;TZID=Europe/Moscow:20260912T090000
DTEND;TZID=Europe/Moscow:20260912T180000
DTSTAMP:20260423T044803
CREATED:20240319T110210Z
LAST-MODIFIED:20260330T094040Z
UID:10002601-1789203600-1789236000@letsdrift.co.ke
SUMMARY:Tigoni E-bike Tours
DESCRIPTION:Discover the stunning beauty of Tigoni with our exhilarating e-bike tours. Effortlessly navigate through lush\, green terrains and immerse yourself in the natural splendor that surrounds you. Experience the thrill of cycling in Tigoni\, where every turn unveils a new adventure..
URL:https://letsdrift.co.ke/drift/e-bike-tours-tigoni/2026-09-12/
LOCATION:Ravenswood Escape
CATEGORIES:Cycling,Ebike tours,Premium,Tigoni Life
ATTACH;FMTTYPE=image/jpeg:https://letsdrift.co.ke/wp-content/uploads/2024/03/2.jpg
END:VEVENT
BEGIN:VEVENT
DTSTART;TZID=Europe/Moscow:20260913T090000
DTEND;TZID=Europe/Moscow:20260913T180000
DTSTAMP:20260423T044803
CREATED:20240319T110210Z
LAST-MODIFIED:20260330T094040Z
UID:10002602-1789290000-1789322400@letsdrift.co.ke
SUMMARY:Tigoni E-bike Tours
DESCRIPTION:Discover the stunning beauty of Tigoni with our exhilarating e-bike tours. Effortlessly navigate through lush\, green terrains and immerse yourself in the natural splendor that surrounds you. Experience the thrill of cycling in Tigoni\, where every turn unveils a new adventure..
URL:https://letsdrift.co.ke/drift/e-bike-tours-tigoni/2026-09-13/
LOCATION:Ravenswood Escape
CATEGORIES:Cycling,Ebike tours,Premium,Tigoni Life
ATTACH;FMTTYPE=image/jpeg:https://letsdrift.co.ke/wp-content/uploads/2024/03/2.jpg
END:VEVENT
BEGIN:VEVENT
DTSTART;TZID=Europe/Moscow:20260916T090000
DTEND;TZID=Europe/Moscow:20260916T180000
DTSTAMP:20260423T044803
CREATED:20240319T110210Z
LAST-MODIFIED:20260330T094040Z
UID:10004476-1789549200-1789581600@letsdrift.co.ke
SUMMARY:Tigoni E-bike Tours
DESCRIPTION:Discover the stunning beauty of Tigoni with our exhilarating e-bike tours. Effortlessly navigate through lush\, green terrains and immerse yourself in the natural splendor that surrounds you. Experience the thrill of cycling in Tigoni\, where every turn unveils a new adventure..
URL:https://letsdrift.co.ke/drift/e-bike-tours-tigoni/2026-09-16/
LOCATION:Ravenswood Escape
CATEGORIES:Cycling,Ebike tours,Premium,Tigoni Life
ATTACH;FMTTYPE=image/jpeg:https://letsdrift.co.ke/wp-content/uploads/2024/03/2.jpg
END:VEVENT
BEGIN:VEVENT
DTSTART;TZID=Europe/Moscow:20260918T090000
DTEND;TZID=Europe/Moscow:20260918T180000
DTSTAMP:20260423T044803
CREATED:20240319T110210Z
LAST-MODIFIED:20260330T094040Z
UID:10004477-1789722000-1789754400@letsdrift.co.ke
SUMMARY:Tigoni E-bike Tours
DESCRIPTION:Discover the stunning beauty of Tigoni with our exhilarating e-bike tours. Effortlessly navigate through lush\, green terrains and immerse yourself in the natural splendor that surrounds you. Experience the thrill of cycling in Tigoni\, where every turn unveils a new adventure..
URL:https://letsdrift.co.ke/drift/e-bike-tours-tigoni/2026-09-18/
LOCATION:Ravenswood Escape
CATEGORIES:Cycling,Ebike tours,Premium,Tigoni Life
ATTACH;FMTTYPE=image/jpeg:https://letsdrift.co.ke/wp-content/uploads/2024/03/2.jpg
END:VEVENT
BEGIN:VEVENT
DTSTART;TZID=Europe/Moscow:20260919T090000
DTEND;TZID=Europe/Moscow:20260919T180000
DTSTAMP:20260423T044803
CREATED:20240319T110210Z
LAST-MODIFIED:20260330T094040Z
UID:10002603-1789808400-1789840800@letsdrift.co.ke
SUMMARY:Tigoni E-bike Tours
DESCRIPTION:Discover the stunning beauty of Tigoni with our exhilarating e-bike tours. Effortlessly navigate through lush\, green terrains and immerse yourself in the natural splendor that surrounds you. Experience the thrill of cycling in Tigoni\, where every turn unveils a new adventure..
URL:https://letsdrift.co.ke/drift/e-bike-tours-tigoni/2026-09-19/
LOCATION:Ravenswood Escape
CATEGORIES:Cycling,Ebike tours,Premium,Tigoni Life
ATTACH;FMTTYPE=image/jpeg:https://letsdrift.co.ke/wp-content/uploads/2024/03/2.jpg
END:VEVENT
BEGIN:VEVENT
DTSTART;TZID=Europe/Moscow:20260920T090000
DTEND;TZID=Europe/Moscow:20260920T180000
DTSTAMP:20260423T044803
CREATED:20240319T110210Z
LAST-MODIFIED:20260330T094040Z
UID:10002604-1789894800-1789927200@letsdrift.co.ke
SUMMARY:Tigoni E-bike Tours
DESCRIPTION:Discover the stunning beauty of Tigoni with our exhilarating e-bike tours. Effortlessly navigate through lush\, green terrains and immerse yourself in the natural splendor that surrounds you. Experience the thrill of cycling in Tigoni\, where every turn unveils a new adventure..
URL:https://letsdrift.co.ke/drift/e-bike-tours-tigoni/2026-09-20/
LOCATION:Ravenswood Escape
CATEGORIES:Cycling,Ebike tours,Premium,Tigoni Life
ATTACH;FMTTYPE=image/jpeg:https://letsdrift.co.ke/wp-content/uploads/2024/03/2.jpg
END:VEVENT
BEGIN:VEVENT
DTSTART;TZID=Europe/Moscow:20260923T090000
DTEND;TZID=Europe/Moscow:20260923T180000
DTSTAMP:20260423T044803
CREATED:20240319T110210Z
LAST-MODIFIED:20260330T094040Z
UID:10004478-1790154000-1790186400@letsdrift.co.ke
SUMMARY:Tigoni E-bike Tours
DESCRIPTION:Discover the stunning beauty of Tigoni with our exhilarating e-bike tours. Effortlessly navigate through lush\, green terrains and immerse yourself in the natural splendor that surrounds you. Experience the thrill of cycling in Tigoni\, where every turn unveils a new adventure..
URL:https://letsdrift.co.ke/drift/e-bike-tours-tigoni/2026-09-23/
LOCATION:Ravenswood Escape
CATEGORIES:Cycling,Ebike tours,Premium,Tigoni Life
ATTACH;FMTTYPE=image/jpeg:https://letsdrift.co.ke/wp-content/uploads/2024/03/2.jpg
END:VEVENT
BEGIN:VEVENT
DTSTART;TZID=Europe/Moscow:20260925T090000
DTEND;TZID=Europe/Moscow:20260925T180000
DTSTAMP:20260423T044803
CREATED:20240319T110210Z
LAST-MODIFIED:20260330T094040Z
UID:10004479-1790326800-1790359200@letsdrift.co.ke
SUMMARY:Tigoni E-bike Tours
DESCRIPTION:Discover the stunning beauty of Tigoni with our exhilarating e-bike tours. Effortlessly navigate through lush\, green terrains and immerse yourself in the natural splendor that surrounds you. Experience the thrill of cycling in Tigoni\, where every turn unveils a new adventure..
URL:https://letsdrift.co.ke/drift/e-bike-tours-tigoni/2026-09-25/
LOCATION:Ravenswood Escape
CATEGORIES:Cycling,Ebike tours,Premium,Tigoni Life
ATTACH;FMTTYPE=image/jpeg:https://letsdrift.co.ke/wp-content/uploads/2024/03/2.jpg
END:VEVENT
BEGIN:VEVENT
DTSTART;TZID=Europe/Moscow:20260926T090000
DTEND;TZID=Europe/Moscow:20260926T180000
DTSTAMP:20260423T044803
CREATED:20240319T110210Z
LAST-MODIFIED:20260330T094040Z
UID:10002605-1790413200-1790445600@letsdrift.co.ke
SUMMARY:Tigoni E-bike Tours
DESCRIPTION:Discover the stunning beauty of Tigoni with our exhilarating e-bike tours. Effortlessly navigate through lush\, green terrains and immerse yourself in the natural splendor that surrounds you. Experience the thrill of cycling in Tigoni\, where every turn unveils a new adventure..
URL:https://letsdrift.co.ke/drift/e-bike-tours-tigoni/2026-09-26/
LOCATION:Ravenswood Escape
CATEGORIES:Cycling,Ebike tours,Premium,Tigoni Life
ATTACH;FMTTYPE=image/jpeg:https://letsdrift.co.ke/wp-content/uploads/2024/03/2.jpg
END:VEVENT
END:VCALENDAR