					BEGIN:VCALENDAR
VERSION:2.0
PRODID:-//Lets Drift - ECPv6.3.0//NONSGML v1.0//EN
CALSCALE:GREGORIAN
METHOD:PUBLISH
X-WR-CALNAME:Lets Drift
X-ORIGINAL-URL:https://letsdrift.co.ke
X-WR-CALDESC:Events for Lets Drift
REFRESH-INTERVAL;VALUE=DURATION:PT1H
X-Robots-Tag:noindex
X-PUBLISHED-TTL:PT1H
BEGIN:VTIMEZONE
TZID:Europe/Moscow
BEGIN:STANDARD
TZOFFSETFROM:+0300
TZOFFSETTO:+0300
TZNAME:MSK
DTSTART:20260101T000000
END:STANDARD
END:VTIMEZONE
BEGIN:VEVENT
DTSTART;TZID=Europe/Moscow:20260513T090000
DTEND;TZID=Europe/Moscow:20260513T180000
DTSTAMP:20260420T160742
CREATED:20240319T110210Z
LAST-MODIFIED:20260330T094040Z
UID:10004440-1778662800-1778695200@letsdrift.co.ke
SUMMARY:Tigoni E-bike Tours
DESCRIPTION:Discover the stunning beauty of Tigoni with our exhilarating e-bike tours. Effortlessly navigate through lush\, green terrains and immerse yourself in the natural splendor that surrounds you. Experience the thrill of cycling in Tigoni\, where every turn unveils a new adventure..
URL:https://letsdrift.co.ke/drift/e-bike-tours-tigoni/2026-05-13/
LOCATION:Ravenswood Escape
CATEGORIES:Cycling,Ebike tours,Premium,Tigoni Life
ATTACH;FMTTYPE=image/jpeg:https://letsdrift.co.ke/wp-content/uploads/2024/03/2.jpg
END:VEVENT
BEGIN:VEVENT
DTSTART;TZID=Europe/Moscow:20260515T090000
DTEND;TZID=Europe/Moscow:20260515T180000
DTSTAMP:20260420T160742
CREATED:20240319T110210Z
LAST-MODIFIED:20260330T094040Z
UID:10004441-1778835600-1778868000@letsdrift.co.ke
SUMMARY:Tigoni E-bike Tours
DESCRIPTION:Discover the stunning beauty of Tigoni with our exhilarating e-bike tours. Effortlessly navigate through lush\, green terrains and immerse yourself in the natural splendor that surrounds you. Experience the thrill of cycling in Tigoni\, where every turn unveils a new adventure..
URL:https://letsdrift.co.ke/drift/e-bike-tours-tigoni/2026-05-15/
LOCATION:Ravenswood Escape
CATEGORIES:Cycling,Ebike tours,Premium,Tigoni Life
ATTACH;FMTTYPE=image/jpeg:https://letsdrift.co.ke/wp-content/uploads/2024/03/2.jpg
END:VEVENT
BEGIN:VEVENT
DTSTART;TZID=Europe/Moscow:20260516T090000
DTEND;TZID=Europe/Moscow:20260516T180000
DTSTAMP:20260420T160742
CREATED:20240319T110210Z
LAST-MODIFIED:20260330T094040Z
UID:10002567-1778922000-1778954400@letsdrift.co.ke
SUMMARY:Tigoni E-bike Tours
DESCRIPTION:Discover the stunning beauty of Tigoni with our exhilarating e-bike tours. Effortlessly navigate through lush\, green terrains and immerse yourself in the natural splendor that surrounds you. Experience the thrill of cycling in Tigoni\, where every turn unveils a new adventure..
URL:https://letsdrift.co.ke/drift/e-bike-tours-tigoni/2026-05-16/
LOCATION:Ravenswood Escape
CATEGORIES:Cycling,Ebike tours,Premium,Tigoni Life
ATTACH;FMTTYPE=image/jpeg:https://letsdrift.co.ke/wp-content/uploads/2024/03/2.jpg
END:VEVENT
BEGIN:VEVENT
DTSTART;TZID=Europe/Moscow:20260517T090000
DTEND;TZID=Europe/Moscow:20260517T180000
DTSTAMP:20260420T160742
CREATED:20240319T110210Z
LAST-MODIFIED:20260330T094040Z
UID:10002568-1779008400-1779040800@letsdrift.co.ke
SUMMARY:Tigoni E-bike Tours
DESCRIPTION:Discover the stunning beauty of Tigoni with our exhilarating e-bike tours. Effortlessly navigate through lush\, green terrains and immerse yourself in the natural splendor that surrounds you. Experience the thrill of cycling in Tigoni\, where every turn unveils a new adventure..
URL:https://letsdrift.co.ke/drift/e-bike-tours-tigoni/2026-05-17/
LOCATION:Ravenswood Escape
CATEGORIES:Cycling,Ebike tours,Premium,Tigoni Life
ATTACH;FMTTYPE=image/jpeg:https://letsdrift.co.ke/wp-content/uploads/2024/03/2.jpg
END:VEVENT
BEGIN:VEVENT
DTSTART;TZID=Europe/Moscow:20260520T090000
DTEND;TZID=Europe/Moscow:20260520T180000
DTSTAMP:20260420T160742
CREATED:20240319T110210Z
LAST-MODIFIED:20260330T094040Z
UID:10004442-1779267600-1779300000@letsdrift.co.ke
SUMMARY:Tigoni E-bike Tours
DESCRIPTION:Discover the stunning beauty of Tigoni with our exhilarating e-bike tours. Effortlessly navigate through lush\, green terrains and immerse yourself in the natural splendor that surrounds you. Experience the thrill of cycling in Tigoni\, where every turn unveils a new adventure..
URL:https://letsdrift.co.ke/drift/e-bike-tours-tigoni/2026-05-20/
LOCATION:Ravenswood Escape
CATEGORIES:Cycling,Ebike tours,Premium,Tigoni Life
ATTACH;FMTTYPE=image/jpeg:https://letsdrift.co.ke/wp-content/uploads/2024/03/2.jpg
END:VEVENT
BEGIN:VEVENT
DTSTART;TZID=Europe/Moscow:20260522T090000
DTEND;TZID=Europe/Moscow:20260522T180000
DTSTAMP:20260420T160742
CREATED:20240319T110210Z
LAST-MODIFIED:20260330T094040Z
UID:10004443-1779440400-1779472800@letsdrift.co.ke
SUMMARY:Tigoni E-bike Tours
DESCRIPTION:Discover the stunning beauty of Tigoni with our exhilarating e-bike tours. Effortlessly navigate through lush\, green terrains and immerse yourself in the natural splendor that surrounds you. Experience the thrill of cycling in Tigoni\, where every turn unveils a new adventure..
URL:https://letsdrift.co.ke/drift/e-bike-tours-tigoni/2026-05-22/
LOCATION:Ravenswood Escape
CATEGORIES:Cycling,Ebike tours,Premium,Tigoni Life
ATTACH;FMTTYPE=image/jpeg:https://letsdrift.co.ke/wp-content/uploads/2024/03/2.jpg
END:VEVENT
BEGIN:VEVENT
DTSTART;TZID=Europe/Moscow:20260523T090000
DTEND;TZID=Europe/Moscow:20260523T180000
DTSTAMP:20260420T160742
CREATED:20240319T110210Z
LAST-MODIFIED:20260330T094040Z
UID:10002569-1779526800-1779559200@letsdrift.co.ke
SUMMARY:Tigoni E-bike Tours
DESCRIPTION:Discover the stunning beauty of Tigoni with our exhilarating e-bike tours. Effortlessly navigate through lush\, green terrains and immerse yourself in the natural splendor that surrounds you. Experience the thrill of cycling in Tigoni\, where every turn unveils a new adventure..
URL:https://letsdrift.co.ke/drift/e-bike-tours-tigoni/2026-05-23/
LOCATION:Ravenswood Escape
CATEGORIES:Cycling,Ebike tours,Premium,Tigoni Life
ATTACH;FMTTYPE=image/jpeg:https://letsdrift.co.ke/wp-content/uploads/2024/03/2.jpg
END:VEVENT
BEGIN:VEVENT
DTSTART;TZID=Europe/Moscow:20260524T090000
DTEND;TZID=Europe/Moscow:20260524T180000
DTSTAMP:20260420T160742
CREATED:20240319T110210Z
LAST-MODIFIED:20260330T094040Z
UID:10002570-1779613200-1779645600@letsdrift.co.ke
SUMMARY:Tigoni E-bike Tours
DESCRIPTION:Discover the stunning beauty of Tigoni with our exhilarating e-bike tours. Effortlessly navigate through lush\, green terrains and immerse yourself in the natural splendor that surrounds you. Experience the thrill of cycling in Tigoni\, where every turn unveils a new adventure..
URL:https://letsdrift.co.ke/drift/e-bike-tours-tigoni/2026-05-24/
LOCATION:Ravenswood Escape
CATEGORIES:Cycling,Ebike tours,Premium,Tigoni Life
ATTACH;FMTTYPE=image/jpeg:https://letsdrift.co.ke/wp-content/uploads/2024/03/2.jpg
END:VEVENT
BEGIN:VEVENT
DTSTART;TZID=Europe/Moscow:20260527T090000
DTEND;TZID=Europe/Moscow:20260527T180000
DTSTAMP:20260420T160742
CREATED:20240319T110210Z
LAST-MODIFIED:20260330T094040Z
UID:10004444-1779872400-1779904800@letsdrift.co.ke
SUMMARY:Tigoni E-bike Tours
DESCRIPTION:Discover the stunning beauty of Tigoni with our exhilarating e-bike tours. Effortlessly navigate through lush\, green terrains and immerse yourself in the natural splendor that surrounds you. Experience the thrill of cycling in Tigoni\, where every turn unveils a new adventure..
URL:https://letsdrift.co.ke/drift/e-bike-tours-tigoni/2026-05-27/
LOCATION:Ravenswood Escape
CATEGORIES:Cycling,Ebike tours,Premium,Tigoni Life
ATTACH;FMTTYPE=image/jpeg:https://letsdrift.co.ke/wp-content/uploads/2024/03/2.jpg
END:VEVENT
BEGIN:VEVENT
DTSTART;TZID=Europe/Moscow:20260529T090000
DTEND;TZID=Europe/Moscow:20260529T180000
DTSTAMP:20260420T160742
CREATED:20240319T110210Z
LAST-MODIFIED:20260330T094040Z
UID:10004445-1780045200-1780077600@letsdrift.co.ke
SUMMARY:Tigoni E-bike Tours
DESCRIPTION:Discover the stunning beauty of Tigoni with our exhilarating e-bike tours. Effortlessly navigate through lush\, green terrains and immerse yourself in the natural splendor that surrounds you. Experience the thrill of cycling in Tigoni\, where every turn unveils a new adventure..
URL:https://letsdrift.co.ke/drift/e-bike-tours-tigoni/2026-05-29/
LOCATION:Ravenswood Escape
CATEGORIES:Cycling,Ebike tours,Premium,Tigoni Life
ATTACH;FMTTYPE=image/jpeg:https://letsdrift.co.ke/wp-content/uploads/2024/03/2.jpg
END:VEVENT
BEGIN:VEVENT
DTSTART;TZID=Europe/Moscow:20260530T090000
DTEND;TZID=Europe/Moscow:20260530T180000
DTSTAMP:20260420T160742
CREATED:20240319T110210Z
LAST-MODIFIED:20260330T094040Z
UID:10002571-1780131600-1780164000@letsdrift.co.ke
SUMMARY:Tigoni E-bike Tours
DESCRIPTION:Discover the stunning beauty of Tigoni with our exhilarating e-bike tours. Effortlessly navigate through lush\, green terrains and immerse yourself in the natural splendor that surrounds you. Experience the thrill of cycling in Tigoni\, where every turn unveils a new adventure..
URL:https://letsdrift.co.ke/drift/e-bike-tours-tigoni/2026-05-30/
LOCATION:Ravenswood Escape
CATEGORIES:Cycling,Ebike tours,Premium,Tigoni Life
ATTACH;FMTTYPE=image/jpeg:https://letsdrift.co.ke/wp-content/uploads/2024/03/2.jpg
END:VEVENT
BEGIN:VEVENT
DTSTART;TZID=Europe/Moscow:20260531T090000
DTEND;TZID=Europe/Moscow:20260531T180000
DTSTAMP:20260420T160742
CREATED:20240319T110210Z
LAST-MODIFIED:20260330T094040Z
UID:10002572-1780218000-1780250400@letsdrift.co.ke
SUMMARY:Tigoni E-bike Tours
DESCRIPTION:Discover the stunning beauty of Tigoni with our exhilarating e-bike tours. Effortlessly navigate through lush\, green terrains and immerse yourself in the natural splendor that surrounds you. Experience the thrill of cycling in Tigoni\, where every turn unveils a new adventure..
URL:https://letsdrift.co.ke/drift/e-bike-tours-tigoni/2026-05-31/
LOCATION:Ravenswood Escape
CATEGORIES:Cycling,Ebike tours,Premium,Tigoni Life
ATTACH;FMTTYPE=image/jpeg:https://letsdrift.co.ke/wp-content/uploads/2024/03/2.jpg
END:VEVENT
BEGIN:VEVENT
DTSTART;TZID=Europe/Moscow:20260603T090000
DTEND;TZID=Europe/Moscow:20260603T180000
DTSTAMP:20260420T160742
CREATED:20240319T110210Z
LAST-MODIFIED:20260330T094040Z
UID:10004446-1780477200-1780509600@letsdrift.co.ke
SUMMARY:Tigoni E-bike Tours
DESCRIPTION:Discover the stunning beauty of Tigoni with our exhilarating e-bike tours. Effortlessly navigate through lush\, green terrains and immerse yourself in the natural splendor that surrounds you. Experience the thrill of cycling in Tigoni\, where every turn unveils a new adventure..
URL:https://letsdrift.co.ke/drift/e-bike-tours-tigoni/2026-06-03/
LOCATION:Ravenswood Escape
CATEGORIES:Cycling,Ebike tours,Premium,Tigoni Life
ATTACH;FMTTYPE=image/jpeg:https://letsdrift.co.ke/wp-content/uploads/2024/03/2.jpg
END:VEVENT
BEGIN:VEVENT
DTSTART;TZID=Europe/Moscow:20260605T090000
DTEND;TZID=Europe/Moscow:20260605T180000
DTSTAMP:20260420T160742
CREATED:20240319T110210Z
LAST-MODIFIED:20260330T094040Z
UID:10004447-1780650000-1780682400@letsdrift.co.ke
SUMMARY:Tigoni E-bike Tours
DESCRIPTION:Discover the stunning beauty of Tigoni with our exhilarating e-bike tours. Effortlessly navigate through lush\, green terrains and immerse yourself in the natural splendor that surrounds you. Experience the thrill of cycling in Tigoni\, where every turn unveils a new adventure..
URL:https://letsdrift.co.ke/drift/e-bike-tours-tigoni/2026-06-05/
LOCATION:Ravenswood Escape
CATEGORIES:Cycling,Ebike tours,Premium,Tigoni Life
ATTACH;FMTTYPE=image/jpeg:https://letsdrift.co.ke/wp-content/uploads/2024/03/2.jpg
END:VEVENT
BEGIN:VEVENT
DTSTART;TZID=Europe/Moscow:20260606T090000
DTEND;TZID=Europe/Moscow:20260606T180000
DTSTAMP:20260420T160742
CREATED:20240319T110210Z
LAST-MODIFIED:20260330T094040Z
UID:10002573-1780736400-1780768800@letsdrift.co.ke
SUMMARY:Tigoni E-bike Tours
DESCRIPTION:Discover the stunning beauty of Tigoni with our exhilarating e-bike tours. Effortlessly navigate through lush\, green terrains and immerse yourself in the natural splendor that surrounds you. Experience the thrill of cycling in Tigoni\, where every turn unveils a new adventure..
URL:https://letsdrift.co.ke/drift/e-bike-tours-tigoni/2026-06-06/
LOCATION:Ravenswood Escape
CATEGORIES:Cycling,Ebike tours,Premium,Tigoni Life
ATTACH;FMTTYPE=image/jpeg:https://letsdrift.co.ke/wp-content/uploads/2024/03/2.jpg
END:VEVENT
BEGIN:VEVENT
DTSTART;TZID=Europe/Moscow:20260607T090000
DTEND;TZID=Europe/Moscow:20260607T180000
DTSTAMP:20260420T160742
CREATED:20240319T110210Z
LAST-MODIFIED:20260330T094040Z
UID:10002574-1780822800-1780855200@letsdrift.co.ke
SUMMARY:Tigoni E-bike Tours
DESCRIPTION:Discover the stunning beauty of Tigoni with our exhilarating e-bike tours. Effortlessly navigate through lush\, green terrains and immerse yourself in the natural splendor that surrounds you. Experience the thrill of cycling in Tigoni\, where every turn unveils a new adventure..
URL:https://letsdrift.co.ke/drift/e-bike-tours-tigoni/2026-06-07/
LOCATION:Ravenswood Escape
CATEGORIES:Cycling,Ebike tours,Premium,Tigoni Life
ATTACH;FMTTYPE=image/jpeg:https://letsdrift.co.ke/wp-content/uploads/2024/03/2.jpg
END:VEVENT
BEGIN:VEVENT
DTSTART;TZID=Europe/Moscow:20260610T090000
DTEND;TZID=Europe/Moscow:20260610T180000
DTSTAMP:20260420T160742
CREATED:20240319T110210Z
LAST-MODIFIED:20260330T094040Z
UID:10004448-1781082000-1781114400@letsdrift.co.ke
SUMMARY:Tigoni E-bike Tours
DESCRIPTION:Discover the stunning beauty of Tigoni with our exhilarating e-bike tours. Effortlessly navigate through lush\, green terrains and immerse yourself in the natural splendor that surrounds you. Experience the thrill of cycling in Tigoni\, where every turn unveils a new adventure..
URL:https://letsdrift.co.ke/drift/e-bike-tours-tigoni/2026-06-10/
LOCATION:Ravenswood Escape
CATEGORIES:Cycling,Ebike tours,Premium,Tigoni Life
ATTACH;FMTTYPE=image/jpeg:https://letsdrift.co.ke/wp-content/uploads/2024/03/2.jpg
END:VEVENT
BEGIN:VEVENT
DTSTART;TZID=Europe/Moscow:20260612T090000
DTEND;TZID=Europe/Moscow:20260612T180000
DTSTAMP:20260420T160742
CREATED:20240319T110210Z
LAST-MODIFIED:20260330T094040Z
UID:10004449-1781254800-1781287200@letsdrift.co.ke
SUMMARY:Tigoni E-bike Tours
DESCRIPTION:Discover the stunning beauty of Tigoni with our exhilarating e-bike tours. Effortlessly navigate through lush\, green terrains and immerse yourself in the natural splendor that surrounds you. Experience the thrill of cycling in Tigoni\, where every turn unveils a new adventure..
URL:https://letsdrift.co.ke/drift/e-bike-tours-tigoni/2026-06-12/
LOCATION:Ravenswood Escape
CATEGORIES:Cycling,Ebike tours,Premium,Tigoni Life
ATTACH;FMTTYPE=image/jpeg:https://letsdrift.co.ke/wp-content/uploads/2024/03/2.jpg
END:VEVENT
BEGIN:VEVENT
DTSTART;TZID=Europe/Moscow:20260613T090000
DTEND;TZID=Europe/Moscow:20260613T180000
DTSTAMP:20260420T160742
CREATED:20240319T110210Z
LAST-MODIFIED:20260330T094040Z
UID:10002575-1781341200-1781373600@letsdrift.co.ke
SUMMARY:Tigoni E-bike Tours
DESCRIPTION:Discover the stunning beauty of Tigoni with our exhilarating e-bike tours. Effortlessly navigate through lush\, green terrains and immerse yourself in the natural splendor that surrounds you. Experience the thrill of cycling in Tigoni\, where every turn unveils a new adventure..
URL:https://letsdrift.co.ke/drift/e-bike-tours-tigoni/2026-06-13/
LOCATION:Ravenswood Escape
CATEGORIES:Cycling,Ebike tours,Premium,Tigoni Life
ATTACH;FMTTYPE=image/jpeg:https://letsdrift.co.ke/wp-content/uploads/2024/03/2.jpg
END:VEVENT
BEGIN:VEVENT
DTSTART;TZID=Europe/Moscow:20260614T090000
DTEND;TZID=Europe/Moscow:20260614T180000
DTSTAMP:20260420T160742
CREATED:20240319T110210Z
LAST-MODIFIED:20260330T094040Z
UID:10002576-1781427600-1781460000@letsdrift.co.ke
SUMMARY:Tigoni E-bike Tours
DESCRIPTION:Discover the stunning beauty of Tigoni with our exhilarating e-bike tours. Effortlessly navigate through lush\, green terrains and immerse yourself in the natural splendor that surrounds you. Experience the thrill of cycling in Tigoni\, where every turn unveils a new adventure..
URL:https://letsdrift.co.ke/drift/e-bike-tours-tigoni/2026-06-14/
LOCATION:Ravenswood Escape
CATEGORIES:Cycling,Ebike tours,Premium,Tigoni Life
ATTACH;FMTTYPE=image/jpeg:https://letsdrift.co.ke/wp-content/uploads/2024/03/2.jpg
END:VEVENT
BEGIN:VEVENT
DTSTART;TZID=Europe/Moscow:20260617T090000
DTEND;TZID=Europe/Moscow:20260617T180000
DTSTAMP:20260420T160742
CREATED:20240319T110210Z
LAST-MODIFIED:20260330T094040Z
UID:10004450-1781686800-1781719200@letsdrift.co.ke
SUMMARY:Tigoni E-bike Tours
DESCRIPTION:Discover the stunning beauty of Tigoni with our exhilarating e-bike tours. Effortlessly navigate through lush\, green terrains and immerse yourself in the natural splendor that surrounds you. Experience the thrill of cycling in Tigoni\, where every turn unveils a new adventure..
URL:https://letsdrift.co.ke/drift/e-bike-tours-tigoni/2026-06-17/
LOCATION:Ravenswood Escape
CATEGORIES:Cycling,Ebike tours,Premium,Tigoni Life
ATTACH;FMTTYPE=image/jpeg:https://letsdrift.co.ke/wp-content/uploads/2024/03/2.jpg
END:VEVENT
BEGIN:VEVENT
DTSTART;TZID=Europe/Moscow:20260619T090000
DTEND;TZID=Europe/Moscow:20260619T180000
DTSTAMP:20260420T160742
CREATED:20240319T110210Z
LAST-MODIFIED:20260330T094040Z
UID:10004451-1781859600-1781892000@letsdrift.co.ke
SUMMARY:Tigoni E-bike Tours
DESCRIPTION:Discover the stunning beauty of Tigoni with our exhilarating e-bike tours. Effortlessly navigate through lush\, green terrains and immerse yourself in the natural splendor that surrounds you. Experience the thrill of cycling in Tigoni\, where every turn unveils a new adventure..
URL:https://letsdrift.co.ke/drift/e-bike-tours-tigoni/2026-06-19/
LOCATION:Ravenswood Escape
CATEGORIES:Cycling,Ebike tours,Premium,Tigoni Life
ATTACH;FMTTYPE=image/jpeg:https://letsdrift.co.ke/wp-content/uploads/2024/03/2.jpg
END:VEVENT
BEGIN:VEVENT
DTSTART;TZID=Europe/Moscow:20260620T090000
DTEND;TZID=Europe/Moscow:20260620T180000
DTSTAMP:20260420T160742
CREATED:20240319T110210Z
LAST-MODIFIED:20260330T094040Z
UID:10002577-1781946000-1781978400@letsdrift.co.ke
SUMMARY:Tigoni E-bike Tours
DESCRIPTION:Discover the stunning beauty of Tigoni with our exhilarating e-bike tours. Effortlessly navigate through lush\, green terrains and immerse yourself in the natural splendor that surrounds you. Experience the thrill of cycling in Tigoni\, where every turn unveils a new adventure..
URL:https://letsdrift.co.ke/drift/e-bike-tours-tigoni/2026-06-20/
LOCATION:Ravenswood Escape
CATEGORIES:Cycling,Ebike tours,Premium,Tigoni Life
ATTACH;FMTTYPE=image/jpeg:https://letsdrift.co.ke/wp-content/uploads/2024/03/2.jpg
END:VEVENT
BEGIN:VEVENT
DTSTART;TZID=Europe/Moscow:20260621T090000
DTEND;TZID=Europe/Moscow:20260621T180000
DTSTAMP:20260420T160742
CREATED:20240319T110210Z
LAST-MODIFIED:20260330T094040Z
UID:10002578-1782032400-1782064800@letsdrift.co.ke
SUMMARY:Tigoni E-bike Tours
DESCRIPTION:Discover the stunning beauty of Tigoni with our exhilarating e-bike tours. Effortlessly navigate through lush\, green terrains and immerse yourself in the natural splendor that surrounds you. Experience the thrill of cycling in Tigoni\, where every turn unveils a new adventure..
URL:https://letsdrift.co.ke/drift/e-bike-tours-tigoni/2026-06-21/
LOCATION:Ravenswood Escape
CATEGORIES:Cycling,Ebike tours,Premium,Tigoni Life
ATTACH;FMTTYPE=image/jpeg:https://letsdrift.co.ke/wp-content/uploads/2024/03/2.jpg
END:VEVENT
BEGIN:VEVENT
DTSTART;TZID=Europe/Moscow:20260624T090000
DTEND;TZID=Europe/Moscow:20260624T180000
DTSTAMP:20260420T160742
CREATED:20240319T110210Z
LAST-MODIFIED:20260330T094040Z
UID:10004452-1782291600-1782324000@letsdrift.co.ke
SUMMARY:Tigoni E-bike Tours
DESCRIPTION:Discover the stunning beauty of Tigoni with our exhilarating e-bike tours. Effortlessly navigate through lush\, green terrains and immerse yourself in the natural splendor that surrounds you. Experience the thrill of cycling in Tigoni\, where every turn unveils a new adventure..
URL:https://letsdrift.co.ke/drift/e-bike-tours-tigoni/2026-06-24/
LOCATION:Ravenswood Escape
CATEGORIES:Cycling,Ebike tours,Premium,Tigoni Life
ATTACH;FMTTYPE=image/jpeg:https://letsdrift.co.ke/wp-content/uploads/2024/03/2.jpg
END:VEVENT
BEGIN:VEVENT
DTSTART;TZID=Europe/Moscow:20260626T090000
DTEND;TZID=Europe/Moscow:20260626T180000
DTSTAMP:20260420T160742
CREATED:20240319T110210Z
LAST-MODIFIED:20260330T094040Z
UID:10004453-1782464400-1782496800@letsdrift.co.ke
SUMMARY:Tigoni E-bike Tours
DESCRIPTION:Discover the stunning beauty of Tigoni with our exhilarating e-bike tours. Effortlessly navigate through lush\, green terrains and immerse yourself in the natural splendor that surrounds you. Experience the thrill of cycling in Tigoni\, where every turn unveils a new adventure..
URL:https://letsdrift.co.ke/drift/e-bike-tours-tigoni/2026-06-26/
LOCATION:Ravenswood Escape
CATEGORIES:Cycling,Ebike tours,Premium,Tigoni Life
ATTACH;FMTTYPE=image/jpeg:https://letsdrift.co.ke/wp-content/uploads/2024/03/2.jpg
END:VEVENT
BEGIN:VEVENT
DTSTART;TZID=Europe/Moscow:20260627T090000
DTEND;TZID=Europe/Moscow:20260627T180000
DTSTAMP:20260420T160742
CREATED:20240319T110210Z
LAST-MODIFIED:20260330T094040Z
UID:10002579-1782550800-1782583200@letsdrift.co.ke
SUMMARY:Tigoni E-bike Tours
DESCRIPTION:Discover the stunning beauty of Tigoni with our exhilarating e-bike tours. Effortlessly navigate through lush\, green terrains and immerse yourself in the natural splendor that surrounds you. Experience the thrill of cycling in Tigoni\, where every turn unveils a new adventure..
URL:https://letsdrift.co.ke/drift/e-bike-tours-tigoni/2026-06-27/
LOCATION:Ravenswood Escape
CATEGORIES:Cycling,Ebike tours,Premium,Tigoni Life
ATTACH;FMTTYPE=image/jpeg:https://letsdrift.co.ke/wp-content/uploads/2024/03/2.jpg
END:VEVENT
BEGIN:VEVENT
DTSTART;TZID=Europe/Moscow:20260628T090000
DTEND;TZID=Europe/Moscow:20260628T180000
DTSTAMP:20260420T160742
CREATED:20240319T110210Z
LAST-MODIFIED:20260330T094040Z
UID:10002580-1782637200-1782669600@letsdrift.co.ke
SUMMARY:Tigoni E-bike Tours
DESCRIPTION:Discover the stunning beauty of Tigoni with our exhilarating e-bike tours. Effortlessly navigate through lush\, green terrains and immerse yourself in the natural splendor that surrounds you. Experience the thrill of cycling in Tigoni\, where every turn unveils a new adventure..
URL:https://letsdrift.co.ke/drift/e-bike-tours-tigoni/2026-06-28/
LOCATION:Ravenswood Escape
CATEGORIES:Cycling,Ebike tours,Premium,Tigoni Life
ATTACH;FMTTYPE=image/jpeg:https://letsdrift.co.ke/wp-content/uploads/2024/03/2.jpg
END:VEVENT
BEGIN:VEVENT
DTSTART;TZID=Europe/Moscow:20260701T090000
DTEND;TZID=Europe/Moscow:20260701T180000
DTSTAMP:20260420T160742
CREATED:20240319T110210Z
LAST-MODIFIED:20260330T094040Z
UID:10004454-1782896400-1782928800@letsdrift.co.ke
SUMMARY:Tigoni E-bike Tours
DESCRIPTION:Discover the stunning beauty of Tigoni with our exhilarating e-bike tours. Effortlessly navigate through lush\, green terrains and immerse yourself in the natural splendor that surrounds you. Experience the thrill of cycling in Tigoni\, where every turn unveils a new adventure..
URL:https://letsdrift.co.ke/drift/e-bike-tours-tigoni/2026-07-01/
LOCATION:Ravenswood Escape
CATEGORIES:Cycling,Ebike tours,Premium,Tigoni Life
ATTACH;FMTTYPE=image/jpeg:https://letsdrift.co.ke/wp-content/uploads/2024/03/2.jpg
END:VEVENT
BEGIN:VEVENT
DTSTART;TZID=Europe/Moscow:20260703T090000
DTEND;TZID=Europe/Moscow:20260703T180000
DTSTAMP:20260420T160742
CREATED:20240319T110210Z
LAST-MODIFIED:20260330T094040Z
UID:10004455-1783069200-1783101600@letsdrift.co.ke
SUMMARY:Tigoni E-bike Tours
DESCRIPTION:Discover the stunning beauty of Tigoni with our exhilarating e-bike tours. Effortlessly navigate through lush\, green terrains and immerse yourself in the natural splendor that surrounds you. Experience the thrill of cycling in Tigoni\, where every turn unveils a new adventure..
URL:https://letsdrift.co.ke/drift/e-bike-tours-tigoni/2026-07-03/
LOCATION:Ravenswood Escape
CATEGORIES:Cycling,Ebike tours,Premium,Tigoni Life
ATTACH;FMTTYPE=image/jpeg:https://letsdrift.co.ke/wp-content/uploads/2024/03/2.jpg
END:VEVENT
END:VCALENDAR