					BEGIN:VCALENDAR
VERSION:2.0
PRODID:-//Lets Drift - ECPv6.3.0//NONSGML v1.0//EN
CALSCALE:GREGORIAN
METHOD:PUBLISH
X-WR-CALNAME:Lets Drift
X-ORIGINAL-URL:https://letsdrift.co.ke
X-WR-CALDESC:Events for Lets Drift
REFRESH-INTERVAL;VALUE=DURATION:PT1H
X-Robots-Tag:noindex
X-PUBLISHED-TTL:PT1H
BEGIN:VTIMEZONE
TZID:Europe/Moscow
BEGIN:STANDARD
TZOFFSETFROM:+0300
TZOFFSETTO:+0300
TZNAME:MSK
DTSTART:20250101T000000
END:STANDARD
END:VTIMEZONE
BEGIN:VEVENT
DTSTART;TZID=Europe/Moscow:20250419T043000
DTEND;TZID=Europe/Moscow:20250419T210000
DTSTAMP:20260421T214611
CREATED:20210901T085110Z
LAST-MODIFIED:20250410T165711Z
UID:10000281-1745037000-1745096400@letsdrift.co.ke
SUMMARY:Mt Kipipiri
DESCRIPTION:Mt Kipipiri is an easy and engaging entry to mountaineering. Perfect trail for intermediate mountaineers who want an easy day out as well. The trail is defined by its endowed rain forest\, wildlife\, and views of the Nyandarua Range\, Lake Olboloosat\, Lake Naivasha\, among other landmarks. \nAll participants will get an achievement badge.
URL:https://letsdrift.co.ke/drift/mt-kipipiri/
LOCATION:Aberdares\, Nyandarua
CATEGORIES:Challenging,Premium
ATTACH;FMTTYPE=image/jpeg:https://letsdrift.co.ke/wp-content/uploads/2021/09/Untitled-design-1.jpg
END:VEVENT
END:VCALENDAR