					BEGIN:VCALENDAR
VERSION:2.0
PRODID:-//Lets Drift - ECPv6.3.0//NONSGML v1.0//EN
CALSCALE:GREGORIAN
METHOD:PUBLISH
X-ORIGINAL-URL:https://letsdrift.co.ke
X-WR-CALDESC:Events for Lets Drift
REFRESH-INTERVAL;VALUE=DURATION:PT1H
X-Robots-Tag:noindex
X-PUBLISHED-TTL:PT1H
BEGIN:VTIMEZONE
TZID:Europe/Moscow
BEGIN:STANDARD
TZOFFSETFROM:+0300
TZOFFSETTO:+0300
TZNAME:MSK
DTSTART:20240101T000000
END:STANDARD
END:VTIMEZONE
BEGIN:VEVENT
DTSTART;TZID=Europe/Moscow:20240420T073000
DTEND;TZID=Europe/Moscow:20240420T133000
DTSTAMP:20260419T213119
CREATED:20240315T094722Z
LAST-MODIFIED:20240616T203332Z
UID:10000546-1713598200-1713619800@letsdrift.co.ke
SUMMARY:Brackenhurst Historical tour
DESCRIPTION:
URL:https://letsdrift.co.ke/drift/brackenhurst-historical-tour/
LOCATION:Tigoni\, Kenya
CATEGORIES:Beginner Friendly,Freemium,New Trails
ATTACH;FMTTYPE=image/jpeg:https://letsdrift.co.ke/wp-content/uploads/2023/11/10-jpg.webp
END:VEVENT
END:VCALENDAR