					BEGIN:VCALENDAR
VERSION:2.0
PRODID:-//Lets Drift - ECPv6.3.0//NONSGML v1.0//EN
CALSCALE:GREGORIAN
METHOD:PUBLISH
X-WR-CALNAME:Lets Drift
X-ORIGINAL-URL:https://letsdrift.co.ke
X-WR-CALDESC:Events for Lets Drift
REFRESH-INTERVAL;VALUE=DURATION:PT1H
X-Robots-Tag:noindex
X-PUBLISHED-TTL:PT1H
BEGIN:VTIMEZONE
TZID:Europe/Moscow
BEGIN:STANDARD
TZOFFSETFROM:+0300
TZOFFSETTO:+0300
TZNAME:MSK
DTSTART:20230101T000000
END:STANDARD
END:VTIMEZONE
BEGIN:VEVENT
DTSTART;TZID=Europe/Moscow:20231118T053000
DTEND;TZID=Europe/Moscow:20231118T160000
DTSTAMP:20260421T082307
CREATED:20230816T035849Z
LAST-MODIFIED:20240624T084123Z
UID:10000512-1700285400-1700323200@letsdrift.co.ke
SUMMARY:Gatangu Falls
DESCRIPTION:Set out on a thrilling 4-hour expedition to uncover a concealed treasure deep within a natural Gatangu forest. Navigate through dense bamboo groves\, slippery slopes\, and verdant flora. 7kms later\, arrive at the awe-inspiring and breathtaking waterfall. Anticipate an unforgettable adventure!
URL:https://letsdrift.co.ke/drift/gatango-falls-2/
LOCATION:Othaya\, Nyeri
CATEGORIES:Moderate,New Trails
ATTACH;FMTTYPE=image/jpeg:https://letsdrift.co.ke/wp-content/uploads/2023/08/Gatango.jpg
END:VEVENT
END:VCALENDAR