					BEGIN:VCALENDAR
VERSION:2.0
PRODID:-//Lets Drift - ECPv6.3.0//NONSGML v1.0//EN
CALSCALE:GREGORIAN
METHOD:PUBLISH
X-WR-CALNAME:Lets Drift
X-ORIGINAL-URL:https://letsdrift.co.ke
X-WR-CALDESC:Events for Lets Drift
REFRESH-INTERVAL;VALUE=DURATION:PT1H
X-Robots-Tag:noindex
X-PUBLISHED-TTL:PT1H
BEGIN:VTIMEZONE
TZID:Europe/Moscow
BEGIN:STANDARD
TZOFFSETFROM:+0300
TZOFFSETTO:+0300
TZNAME:MSK
DTSTART:20240101T000000
END:STANDARD
END:VTIMEZONE
BEGIN:VEVENT
DTSTART;TZID=Europe/Moscow:20240309T070000
DTEND;TZID=Europe/Moscow:20240309T153000
DTSTAMP:20260420T223508
CREATED:20210816T090754Z
LAST-MODIFIED:20240623T225002Z
UID:10000379-1709967600-1709998200@letsdrift.co.ke
SUMMARY:Gatamaiyu 5
DESCRIPTION:If you’ve been following drifts for a while\, you have definitely heard of the infamous Gatamaiyu trails. This specific trail is home to 3 waterfalls! Get ready for fun times swimming under the waterfalls.
URL:https://letsdrift.co.ke/drift/gatamaiyu-5/
LOCATION:Gatamaiyu
CATEGORIES:Freemium,Moderate
ATTACH;FMTTYPE=image/png:https://letsdrift.co.ke/wp-content/uploads/2021/08/Untitled-design.png
END:VEVENT
BEGIN:VEVENT
DTSTART;TZID=Europe/Moscow:20240316T070000
DTEND;TZID=Europe/Moscow:20240316T143000
DTSTAMP:20260420T223508
CREATED:20240308T114610Z
LAST-MODIFIED:20240308T114610Z
UID:10000545-1710572400-1710599400@letsdrift.co.ke
SUMMARY:Wanene's Memorial Hike
DESCRIPTION:Family\, friends\, fellow adventurers\, and lovers of the great outdoors\, we come together with heavy hearts to honor the memory of our dear friend and hiking companion\, Wanene. Nesh was the embodiment of joy on the trails. Her infectious smile\, boundless energy\, and zest for life inspired us all to cherish every moment amidst nature’s embrace. \nIt is only fitting that we pay tribute to Nesh by gathering for a memorial hike\, retracing the very paths that brought her such profound happiness. On 16th march\, we will embark on a journey to gatamaiyu 3 trail\, a place that represents her love for water bodies & wild swimming. \nAs we traverse the winding trails\, let us revel in the memories of her contagious laughter echoing through the valleys\, the sparkle in her eyes as she took in each breathtaking vista\, and the unwavering camaraderie that binds us together as a hiking family. \nThis memorial hike is not a solemn procession but a celebration of NESH’s vibrant spirit\, her unwavering love for adventure\, and we embrace the beauty of nature that she cherished so deeply\, and let our footsteps be a testament to the indelible mark she has left on our lives \nHighlights \n\n3 Waterfalls\nCave\nTea Farms\nDuff mpararo (swimming)\n\nItinerary \n0700h: Departure \n\nMeet-up Location: Outside Bata Shop\, Hilton(opposite Kencom)\nRoute: Nrbi – Kagwe\nGroup travel via PSV\nSelf Drive friendly: Family Bank Kagwe\n\n0820h: Hike Briefing & Stretches \n0830h: Start the Hike \n\nDifficulty: Moderate\nDuration: 6 hours\nDistance: 8 km\nTerrain: Very steep\, especially going down to the waterfalls\nTrailhead: Kagwe town\nTrail Type: Out and Back\n\n1430h: Complete Hike \n\nEndpoint: Kagwe town\n\nWhat’s Included \n\nProfessional\, knowledgeable\, and friendly guide.\nA commitment to make the tour as exciting\, challenging\, informative\, and full as you’d like and as is possible in a day.\n\nWhat’s Not Included \n\nTransport (Ksh 400)\nParking fee(100-150kes)\nMeals \n\n\nKnow before you go \n\nThe guide’s contact information is available at the bottom of this page. Feel free to get in touch with any queries regarding this hike.\nKindly note that we do not do pickups along the way.\nThe trail is NOT suitable for kids.\nYou will get an email confirmation of your booking once you purchase your ticket. \n\nOur Safety Pledge \nYour safety is our top priority. Professional hiking guides lead our experiences\, as well as well-known local guides who are well versed in the trails they are guiding. All our guides carry a first-aid kit and have emergency contacts. If you have any further questions about safety\, please contact us for more information.
URL:https://letsdrift.co.ke/drift/wanene-memorial-hike/
LOCATION:Lari
CATEGORIES:Freemium,Moderate
ATTACH;FMTTYPE=image/jpeg:https://letsdrift.co.ke/wp-content/uploads/2024/03/Celebrating-Drifters-RIP-Nesh.jpg
END:VEVENT
BEGIN:VEVENT
DTSTART;TZID=Europe/Moscow:20240318T060000
DTEND;TZID=Europe/Moscow:20240318T163000
DTSTAMP:20260420T223508
CREATED:20210804T220724Z
LAST-MODIFIED:20240423T101539Z
UID:10000366-1710741600-1710779400@letsdrift.co.ke
SUMMARY:Kijabe Waterfalls
DESCRIPTION:
URL:https://letsdrift.co.ke/drift/kijabe-waterfalls/
LOCATION:Kijabe
CATEGORIES:Challenging,Freemium
ATTACH;FMTTYPE=image/jpeg:https://letsdrift.co.ke/wp-content/uploads/2021/08/3-2.jpg
END:VEVENT
END:VCALENDAR