					BEGIN:VCALENDAR
VERSION:2.0
PRODID:-//Lets Drift - ECPv6.3.0//NONSGML v1.0//EN
CALSCALE:GREGORIAN
METHOD:PUBLISH
X-WR-CALNAME:Lets Drift
X-ORIGINAL-URL:https://letsdrift.co.ke
X-WR-CALDESC:Events for Lets Drift
REFRESH-INTERVAL;VALUE=DURATION:PT1H
X-Robots-Tag:noindex
X-PUBLISHED-TTL:PT1H
BEGIN:VTIMEZONE
TZID:Europe/Moscow
BEGIN:STANDARD
TZOFFSETFROM:+0300
TZOFFSETTO:+0300
TZNAME:MSK
DTSTART:20250101T000000
END:STANDARD
END:VTIMEZONE
BEGIN:VEVENT
DTSTART;TZID=Europe/Moscow:20250913T060000
DTEND;TZID=Europe/Moscow:20250913T170000
DTSTAMP:20260419T163602
CREATED:20220223T095004Z
LAST-MODIFIED:20250903T085747Z
UID:10000336-1757743200-1757782800@letsdrift.co.ke
SUMMARY:Kinale Trek
DESCRIPTION:Kinale is a floral mosaic where orchids grow in plenty\, as well as bamboo stalks due to the area’s high altitude. As you walk into the forest\, the trees of Kinale tower over you. In the early morning\, the fog takes precedence over the pathways and you’d probably need a torch to find your way through this forest. Be sure to carry your camera to capture the fog that evokes ” the horror type of vibes” in the wee morning hours. \n 
URL:https://letsdrift.co.ke/drift/kinale-trek/
LOCATION:Kinale Forest\, kiambu\, gatundu\, Kenya
CATEGORIES:Freemium,Moderate
ATTACH;FMTTYPE=image/jpeg:https://letsdrift.co.ke/wp-content/uploads/2021/08/17.jpg
END:VEVENT
BEGIN:VEVENT
DTSTART;TZID=Europe/Moscow:20250817T063000
DTEND;TZID=Europe/Moscow:20250817T153000
DTSTAMP:20260419T163602
CREATED:20210902T032945Z
LAST-MODIFIED:20250722T134025Z
UID:10000382-1755412200-1755444600@letsdrift.co.ke
SUMMARY:Mau Mau Caves
DESCRIPTION:During the colonial era\, Kikuyu warriors used the Kereita forest to hide from their adversaries\, using the morning and evening fog. Kereita means “warriors place”. Come with us as we explore the mysterious Mau Mau caves.
URL:https://letsdrift.co.ke/drift/maumau-caves/
LOCATION:Lari
CATEGORIES:Freemium,Moderate
ATTACH;FMTTYPE=image/jpeg:https://letsdrift.co.ke/wp-content/uploads/2021/09/maumau-caves.jpg
END:VEVENT
BEGIN:VEVENT
DTSTART;TZID=Europe/Moscow:20250727T070000
DTEND;TZID=Europe/Moscow:20250727T143000
DTSTAMP:20260419T163602
CREATED:20241203T115144Z
LAST-MODIFIED:20250724T111337Z
UID:10001373-1753599600-1753626600@letsdrift.co.ke
SUMMARY:Kirenga Falls
DESCRIPTION:Begin your adventure at the iconic Great Rift Valley viewpoint\, trekking through country roads into Kirenga Village\, rich with history from the Mau Mau uprising and the Lari Massacre. The trail ends with a breathtaking waterfall and a charming cave.
URL:https://letsdrift.co.ke/drift/kirenga-falls/
LOCATION:Kereita\, kiambu\, Kimende
CATEGORIES:Freemium,Moderate
ATTACH;FMTTYPE=image/jpeg:https://letsdrift.co.ke/wp-content/uploads/2024/12/4.jpg
END:VEVENT
BEGIN:VEVENT
DTSTART;TZID=Europe/Moscow:20250726T063000
DTEND;TZID=Europe/Moscow:20250726T153000
DTSTAMP:20260419T163602
CREATED:20250318T110208Z
LAST-MODIFIED:20250630T071633Z
UID:10002968-1753511400-1753543800@letsdrift.co.ke
SUMMARY:Kanunga
DESCRIPTION:Experience Drifter’s favorite duff mpararo (River swimming) trail with Ngare Ndare vibes of blue crispy waters flowing from Ndakaini dam \n✌️PS: This trail includes a section of walking on tarmac \n  \n\n 
URL:https://letsdrift.co.ke/drift/kanunga-3/
LOCATION:Ndakaini
CATEGORIES:Freemium,Moderate
ATTACH;FMTTYPE=image/jpeg:https://letsdrift.co.ke/wp-content/uploads/2021/08/KNGA.jpg
END:VEVENT
BEGIN:VEVENT
DTSTART;TZID=Europe/Moscow:20250713T073000
DTEND;TZID=Europe/Moscow:20250713T133000
DTSTAMP:20260419T163602
CREATED:20220223T090319Z
LAST-MODIFIED:20250710T184406Z
UID:10000334-1752391800-1752413400@letsdrift.co.ke
SUMMARY:Kefri Walk
DESCRIPTION:If you’re a forest lover\, you can’t afford to miss out on the Kefri trails. You get to enjoy walking through both natural and planted forests as the crisp air fills your lungs and birds sing in the trees. Even though this hike is classified as easy\, being prepared with essentials will help you enjoy your time there even more. \n\n 
URL:https://letsdrift.co.ke/drift/kefri-walk/
LOCATION:Kikuyu
CATEGORIES:Beginner Friendly,Freemium
ATTACH;FMTTYPE=image/jpeg:https://letsdrift.co.ke/wp-content/uploads/2021/06/2020-10-21-095118581-scaled-e1625433019517.jpg
END:VEVENT
BEGIN:VEVENT
DTSTART;TZID=Europe/Moscow:20250531T063000
DTEND;TZID=Europe/Moscow:20250531T160000
DTSTAMP:20260419T163602
CREATED:20211129T111018Z
LAST-MODIFIED:20250530T115737Z
UID:10000416-1748673000-1748707200@letsdrift.co.ke
SUMMARY:Nyanduma
DESCRIPTION:Join us on an adventurous escapade as we trek deeper inside the Southern part of the Aberdare forest in search of a hidden waterfall with a scenic dam that supplies water to the locals along a forest trail full of ferns and moss. \nFeature Image Courtesy of Dennis Nyaga.
URL:https://letsdrift.co.ke/drift/nyanduma/
LOCATION:Kereita Forest
CATEGORIES:Freemium,Moderate
ATTACH;FMTTYPE=image/jpeg:https://letsdrift.co.ke/wp-content/uploads/2021/11/IMG_20211129_134458_917.jpeg
END:VEVENT
BEGIN:VEVENT
DTSTART;TZID=Europe/Moscow:20250524T053000
DTEND;TZID=Europe/Moscow:20250524T180000
DTSTAMP:20260419T163602
CREATED:20240724T101602Z
LAST-MODIFIED:20250522T180312Z
UID:10000575-1748064600-1748109600@letsdrift.co.ke
SUMMARY:Kamweti Falls
DESCRIPTION:The Kamweti Falls lies on the slopes of Mt Kenya. It is one of those interesting hiking trails in Kenya that require time. You need to take your time enjoying the views and calming sounds of nature. Kamweti Falls is not the trail to rush through. It is the kind of trail you savor.
URL:https://letsdrift.co.ke/drift/kamweti-falls/
LOCATION:Mt Kenya National Park
CATEGORIES:Moderate,Premium
ATTACH;FMTTYPE=image/jpeg:https://letsdrift.co.ke/wp-content/uploads/2024/07/kamweti-jpg.webp
END:VEVENT
BEGIN:VEVENT
DTSTART;TZID=Europe/Moscow:20250517T043000
DTEND;TZID=Europe/Moscow:20250517T210000
DTSTAMP:20260419T163602
CREATED:20221209T103753Z
LAST-MODIFIED:20250515T063852Z
UID:10000369-1747456200-1747515600@letsdrift.co.ke
SUMMARY:Mackinders-Teleki valley
DESCRIPTION:Mackinder’s  is a bucket list adventure that every thrill-seeking hiker dreams of tackling. Nestled in the rugged terrain of the Naro Moru route\, this challenging trail will push your limits and test your endurance. The starting point at the Met station\, perched at a dizzying 3048 meters above sea level\, is just the beginning of your journey. As you make your way up the mountain\, you’ll be treated to a stunning array of flora\, from dense bamboo forests to windswept moorland\, and you may even catch a glimpse of the giant lobelia plants that tower above the landscape. But the real reward comes when you reach the summit\, where you’ll be rewarded with breathtaking views and the sense of accomplishment that comes with conquering one of the most epic trails in the world. \n  \n 
URL:https://letsdrift.co.ke/drift/mackinders-trek/
LOCATION:Mt Kenya National Park
CATEGORIES:Challenging,Premium
ATTACH;FMTTYPE=image/jpeg:https://letsdrift.co.ke/wp-content/uploads/2022/12/Mckinders.jpg
END:VEVENT
BEGIN:VEVENT
DTSTART;TZID=Europe/Moscow:20250426T053000
DTEND;TZID=Europe/Moscow:20250426T150000
DTSTAMP:20260419T163602
CREATED:20250321T103317Z
LAST-MODIFIED:20250410T165956Z
UID:10002973-1745645400-1745679600@letsdrift.co.ke
SUMMARY:Sagana Canyons
DESCRIPTION:Sagana is a region of Murang’a County that is home to stunning natural beauty. Hiking to the top of the Kiambicho hills affords spectacular views in all directions. Mount Kenya is visible on a clear day. The hike culminates in a trip to the breathtaking Sagana Canyons\, which formed after the Elnino rains of 1997.
URL:https://letsdrift.co.ke/drift/sagana-canyons-2/
LOCATION:Sagana
CATEGORIES:Moderate,Premium
ATTACH;FMTTYPE=image/jpeg:https://letsdrift.co.ke/wp-content/uploads/2022/03/cvr-hme-pge.jpg
END:VEVENT
BEGIN:VEVENT
DTSTART;TZID=Europe/Moscow:20250409T073000
DTEND;TZID=Europe/Moscow:20250409T153000
DTSTAMP:20260419T163602
CREATED:20211012T083446Z
LAST-MODIFIED:20250401T144200Z
UID:10000287-1744183800-1744212600@letsdrift.co.ke
SUMMARY:Gatamaiyu 1
DESCRIPTION:The first of the scenic 5 series of Gatamaiyu waterfalls\, Gatamaiyu 1 is one of our earliest discoveries and remains king for its series of attractions. Recommended for beginners\, Intermediate hikers\, or anyone who loves ‘duff mpararo’
URL:https://letsdrift.co.ke/drift/gatamaiyu-1/
LOCATION:Githunguri\, Kiambu
CATEGORIES:Beginner Friendly,Freemium
ATTACH;FMTTYPE=image/jpeg:https://letsdrift.co.ke/wp-content/uploads/2021/08/12-1.jpg
END:VEVENT
BEGIN:VEVENT
DTSTART;TZID=Europe/Moscow:20250208T073000
DTEND;TZID=Europe/Moscow:20250208T143000
DTSTAMP:20260419T163602
CREATED:20230627T064815Z
LAST-MODIFIED:20250207T122716Z
UID:10000388-1738999800-1739025000@letsdrift.co.ke
SUMMARY:Kijabe Soft
DESCRIPTION:Kijabe attracts daring hikers in search of beautiful scenery and a tranquil ambiance. But we found a hack for those who want to experience kijabe without the “hard” part: a curated trail starting in the Kinale forest off the Nairobi – Nakuru highway\, winding down the valley\, and culminating in some coffee at the gorgeous Kijabe Kahawa Coffee shop.
URL:https://letsdrift.co.ke/drift/kijabe-soft/
LOCATION:Kijabe
CATEGORIES:Beginner Friendly,Freemium,Moderate
ATTACH;FMTTYPE=image/jpeg:https://letsdrift.co.ke/wp-content/uploads/2022/05/Kijabe-hills.jpg
END:VEVENT
BEGIN:VEVENT
DTSTART;TZID=Europe/Moscow:20250126T070000
DTEND;TZID=Europe/Moscow:20250126T153000
DTSTAMP:20260419T163602
CREATED:20241203T120507Z
LAST-MODIFIED:20250125T174743Z
UID:10001376-1737874800-1737905400@letsdrift.co.ke
SUMMARY:Thurasha
DESCRIPTION:A paradise for river swimming enthusiasts\, this journey showcases Murang’a County’s most stunning waterfalls. Thurusha Falls and Kanunga Falls create the perfect setting for Instagram-worthy photos in good weather \n\n 
URL:https://letsdrift.co.ke/drift/thurasha/
LOCATION:Lari
CATEGORIES:Freemium,Moderate
ATTACH;FMTTYPE=image/jpeg:https://letsdrift.co.ke/wp-content/uploads/2024/12/thurasha.jpg
END:VEVENT
BEGIN:VEVENT
DTSTART;TZID=Europe/Moscow:20250105T073000
DTEND;TZID=Europe/Moscow:20250105T133000
DTSTAMP:20260419T163602
CREATED:20210831T031157Z
LAST-MODIFIED:20250718T120631Z
UID:10000277-1736062200-1736083800@letsdrift.co.ke
SUMMARY:Ololosokuan
DESCRIPTION:Ololosokwan gorge in Ngong is where you walk through dry river beds\, missing waterfalls\, heart-stopping sheer cliff drops\, and friendly baboons. \n 
URL:https://letsdrift.co.ke/drift/ololosokwan/
LOCATION:Ngong
CATEGORIES:Freemium,Moderate
ATTACH;FMTTYPE=image/jpeg:https://letsdrift.co.ke/wp-content/uploads/2021/08/ololo-1.jpg
END:VEVENT
BEGIN:VEVENT
DTSTART;TZID=Europe/Moscow:20250104T073000
DTEND;TZID=Europe/Moscow:20250104T150000
DTSTAMP:20260419T163602
CREATED:20241212T105416Z
LAST-MODIFIED:20251212T155131Z
UID:10001379-1735975800-1736002800@letsdrift.co.ke
SUMMARY:Bathi Walk
DESCRIPTION:Fresh and exhilarating\, the air in these forest trails will make you feel like you’ve escaped civilization. People in search of a relaxing stroll will find bliss on this trail.
URL:https://letsdrift.co.ke/drift/bathi-walk-2/
LOCATION:Gichiengo
CATEGORIES:Beginner Friendly,Freemium
ATTACH;FMTTYPE=image/jpeg:https://letsdrift.co.ke/wp-content/uploads/2021/06/anne_ciku_20211129_1.jpg
END:VEVENT
END:VCALENDAR