					BEGIN:VCALENDAR
VERSION:2.0
PRODID:-//Lets Drift - ECPv6.3.0//NONSGML v1.0//EN
CALSCALE:GREGORIAN
METHOD:PUBLISH
X-ORIGINAL-URL:https://letsdrift.co.ke
X-WR-CALDESC:Events for Lets Drift
REFRESH-INTERVAL;VALUE=DURATION:PT1H
X-Robots-Tag:noindex
X-PUBLISHED-TTL:PT1H
BEGIN:VTIMEZONE
TZID:Europe/Moscow
BEGIN:STANDARD
TZOFFSETFROM:+0300
TZOFFSETTO:+0300
TZNAME:MSK
DTSTART:20250101T000000
END:STANDARD
END:VTIMEZONE
BEGIN:VEVENT
DTSTART;TZID=Europe/Moscow:20250420T080000
DTEND;TZID=Europe/Moscow:20250420T143000
DTSTAMP:20260420T194053
CREATED:20210627T212842Z
LAST-MODIFIED:20250401T144257Z
UID:10000351-1745136000-1745159400@letsdrift.co.ke
SUMMARY:Cianda Walk
DESCRIPTION:Located in Kiambu County\, near Banana\, this is an easy and quick hike that starts at Raini along Limuru Road and ends at the same point. The hike (more like a walk) is along tarmacked roads\, followed by dirt roads and tea farms\, and finally a quick 1-minute descent to a large waterfall with caves. The hike is easy and is an excellent starting point for anyone who has never hiked or walked long distances before. \n\n 
URL:https://letsdrift.co.ke/drift/cianda-walk/
LOCATION:Banana\, Kiambu\, Kambu\, Kiambu
CATEGORIES:Beginner Friendly,Freemium
ATTACH;FMTTYPE=image/jpeg:https://letsdrift.co.ke/wp-content/uploads/2021/06/2020-07-29-10.37.35-12-scaled.jpg
END:VEVENT
END:VCALENDAR