					BEGIN:VCALENDAR
VERSION:2.0
PRODID:-//Lets Drift - ECPv6.3.0//NONSGML v1.0//EN
CALSCALE:GREGORIAN
METHOD:PUBLISH
X-WR-CALNAME:Lets Drift
X-ORIGINAL-URL:https://letsdrift.co.ke
X-WR-CALDESC:Events for Lets Drift
REFRESH-INTERVAL;VALUE=DURATION:PT1H
X-Robots-Tag:noindex
X-PUBLISHED-TTL:PT1H
BEGIN:VTIMEZONE
TZID:Europe/Moscow
BEGIN:STANDARD
TZOFFSETFROM:+0300
TZOFFSETTO:+0300
TZNAME:MSK
DTSTART:20230101T000000
END:STANDARD
END:VTIMEZONE
BEGIN:VEVENT
DTSTART;TZID=Europe/Moscow:20230603T083000
DTEND;TZID=Europe/Moscow:20230603T143000
DTSTAMP:20260419T180040
CREATED:20221031T113756Z
LAST-MODIFIED:20230531T065607Z
UID:10000470-1685781000-1685802600@letsdrift.co.ke
SUMMARY:Life Behind Bars
DESCRIPTION:Life Behind Bars is a 12km beginner ride that will take you through Gacuthi and Bama forest\, passing through Soweto shopping center in KEFRI. Ride flowy & thrilling trails through the forest and mingle with other cyclists as you get to learn something new about mountain biking from our guide. \nHighlights:  \n\nGiant Mountain Bikes\nBeginner-friendly\nProfessional Mountain Bike Guides\nAmazing sceneries of KEFRI Forest\n\nItinerary \n0830h: Departure Time At the benches near Bata shop\, Hilton (opposite Kencom) \nRoute: Nrbi –  KEFRI  \n0930h: Hike Briefing & Stretches \n0945h: Start the Ride \n1400h: Complete ride \n1415h: Stretches \nAbout this activity \nDifficulty: Beginner & Intermediate friendly  \nDuration: 4 hours \nDistance: 12 km \nWhat’s Included \n\nProfessional\, knowledgeable\, friendly guide.\nA commitment to make the tour as exciting\, challenging\, informative\, and full as you’d like\, and as is possible in a day.\nQuality bikes\nHelmet\nWater bottle with water\n\nWhat’s Not Included \n\nTransport (Ksh 400)\nMeals\nKFS Fee (Ksh 250)\n\n\n		\n		\n			\n				\n			\n			\n				\n			\n			\n				\n			\n			\n				\n			\n			\n				\n			\n			\n				\n			\n			\n				\n			\n			\n				\n			\n			\n				\n			\n		\n\nRide Structure \n\nBike & Safety Briefing \nBike & Helmet fitting \nSnacks and water distribution\nRider introductions\nRides will have various photo stops \nRide pace will be set by the guide\n\nWhat to bring  \n\nSmall backpack (double strapped bag) \nWater bottle (300ml – 500ml) \nA jacket (it can get cold in the afternoon/evening)\nSnacks\n\nWhere Do We Meet? \nFor group travel via psv\, we will meet up at the benches near Bata shop Hilton (opposite Kencom). The guide will be at the meet-up point. \nThis trip is Self-drive friendly and has safe parking: Muguga Retreat Center – Pin Location \nKnow before you go \n\nThe guide’s contact is available at the bottom of this page. Feel free to get in touch with any queries regarding this hike.\nKindly note that we do not do pickups along the way.\nThe trail is suitable for beginner and pro cyclists.\nKindly observe the COVID-19 health safety regulations.\nYou will get an email confirmation of your booking once you purchase your ticket. \n\nOur Safety Pledge \nYour safety is our top priority. Our experiences are led by professional hiking guides\, and well-known local guides who are well versed with the trails they are guiding. All our guides carry a First-aid Kit and have an emergency contact. If you have any further questions about safety\, please contact us for more information. \nCancellation Policy \nCyclists that wish to cancel more than 48 hours before the hike will be issued a 50% refund of the total hiking fees. Those that cancel 48 hours or less to the actual date will not be refunded. No shows will not be refunded either. \nResources \n\nHiking Gear Guide\nHiking Gear Vendors\nTrail Difficulty Guide\nTrail Gallery\nStrava Routes\nGuide Bios\nParticipation Badges\nWhatsapp Text Helpline\nDrift Shop\nBook a Private Drift\nRate Lets Drift on Google
URL:https://letsdrift.co.ke/drift/life-behind-bars/
LOCATION:Muguga forest
CATEGORIES:Cycling,Premium
ATTACH;FMTTYPE=image/jpeg:https://letsdrift.co.ke/wp-content/uploads/2022/10/IMG_0522-scaled.jpg
END:VEVENT
END:VCALENDAR