					BEGIN:VCALENDAR
VERSION:2.0
PRODID:-//Lets Drift - ECPv6.3.0//NONSGML v1.0//EN
CALSCALE:GREGORIAN
METHOD:PUBLISH
X-ORIGINAL-URL:https://letsdrift.co.ke
X-WR-CALDESC:Events for Lets Drift
REFRESH-INTERVAL;VALUE=DURATION:PT1H
X-Robots-Tag:noindex
X-PUBLISHED-TTL:PT1H
BEGIN:VTIMEZONE
TZID:Europe/Moscow
BEGIN:STANDARD
TZOFFSETFROM:+0300
TZOFFSETTO:+0300
TZNAME:MSK
DTSTART:20230101T000000
END:STANDARD
END:VTIMEZONE
BEGIN:VEVENT
DTSTART;TZID=Europe/Moscow:20230916T123000
DTEND;TZID=Europe/Moscow:20230916T180000
DTSTAMP:20260420T211257
CREATED:20230816T043339Z
LAST-MODIFIED:20230912T181851Z
UID:10000515-1694867400-1694887200@letsdrift.co.ke
SUMMARY:Wall Climbing for Dummies
DESCRIPTION:Let’s Drift and Climbing Life Kenya (Inkajijjik) have teamed up to offer Intro to Indoor Rock Climbing sessions! This is the perfect opportunity for anyone who is new to climbing or wants to learn more about the sport. \nActivities/Highlights \n\nIntro to climbing equipment\nHazard assessment and risk management\nBelay review and assessment\nRope management\nLead belaying\nClimbing etiquette at the crag\n\n \nItinerary \n1100h: Departure At the benches near Bata shop\, Hilton (opposite Kencom) \n1200h: Briefing \n1215h: Start the session \n1600h: Complete sessions \nMeet-up Location: Outside Bata Shop\, Hilton(opposite Kencom) \nRoute: Nrbi – Upperhill \nAbout this activity \nDifficulty: Beginner/kids friendly \nDuration: 2 hrs \nWhat’s Included \n\nClimbing gear\nEntry fees\n\nWhat’s Not Included \n\nTransport Fees (Kes 500)\nTraining fees(Kes 1500)\nMeals\n\nWhere Do We Meet? \nFor group travel via psv\, we will meet up at the benches near Bata shop Hilton (opposite Kencom). The guide will be at the meet-up point. \nThis trail is self-drive-friendly and has safe parking.  The Inkajijik \nKnow before you go \n\nThe guide’s contact is available at the bottom of this page. Feel free to get in touch with any queries regarding this hike.\nKindly note that we do not do pick-ups along the way.\nThis experience is suitable for kids and adults.\nYou will get an email confirmation of your booking once you purchase your ticket. \n\nOur Safety Pledge \nYour safety is our top priority. Our experiences are led by professional guides\, and well-known local guides who are well versed with the trails they are guiding. All our guides carry a First-aid Kit and have an emergency contact. If you have any further questions about safety\, please contact us for more information. \nCancellation Policy \nHikers that wish to cancel more than 48 hours before the hike will be issued a 50% refund of the total hiking fees. Those that cancel 48 hours or less to the actual date will not be refunded. No shows will not be refunded either. \nResources \n\nHiking Gear Guide\nHiking Gear Vendors\nTrail Difficulty Guide\nTrail Gallery\nStrava Routes\nGuide Bios\nParticipation Badges\nWhatsapp Text Helpline\nDrift Shop\nBook a Private Drift\nRate Lets Drift on Google
URL:https://letsdrift.co.ke/drift/wall-climbing-for-dummies/
LOCATION:The inkajijik\, Upperhill
CATEGORIES:Freemium
ATTACH;FMTTYPE=image/jpeg:https://letsdrift.co.ke/wp-content/uploads/2023/08/134.jpg
END:VEVENT
END:VCALENDAR